BEGIN:VCALENDAR
VERSION:2.0
PRODID:-//HDP User Group - ECPv6.10.1.1//NONSGML v1.0//EN
CALSCALE:GREGORIAN
METHOD:PUBLISH
X-ORIGINAL-URL:https://hdpusergroup.org
X-WR-CALDESC:Events for HDP User Group
REFRESH-INTERVAL;VALUE=DURATION:PT1H
X-Robots-Tag:noindex
X-PUBLISHED-TTL:PT1H
BEGIN:VTIMEZONE
TZID:America/Chicago
BEGIN:DAYLIGHT
TZOFFSETFROM:-0600
TZOFFSETTO:-0500
TZNAME:CDT
DTSTART:20250309T080000
END:DAYLIGHT
BEGIN:STANDARD
TZOFFSETFROM:-0500
TZOFFSETTO:-0600
TZNAME:CST
DTSTART:20251102T070000
END:STANDARD
END:VTIMEZONE
BEGIN:VEVENT
DTSTART:20250710T160000Z
DTEND:20250710T170000Z
DTSTAMP:20260421T053209
CREATED:20250628T134442Z
LAST-MODIFIED:20250628T134442Z
UID:36219-1752145200-1752148800@hdpusergroup.org
SUMMARY:TCE Materials-Test Method Validation
DESCRIPTION:Validate and recommend new and standard TM for CTE using TMA. 
URL:https://hdpusergroup.org/event/tce-materials-test-method-validation/
CATEGORIES:TCE Materials Dimensional Properties
ORGANIZER;CN=HDP:mailto:webmaster@hdpug.org
END:VEVENT
BEGIN:VEVENT
DTSTART:20250710T150000Z
DTEND:20250710T160000Z
DTSTAMP:20260421T053209
CREATED:20250619T151943Z
LAST-MODIFIED:20250619T151943Z
UID:36162-1752141600-1752145200@hdpusergroup.org
SUMMARY:Materials #7 meeting
DESCRIPTION:Meeting 
URL:https://hdpusergroup.org/event/materials-7-meeting-45/
CATEGORIES:Materials #7
ORGANIZER;CN=HDP:mailto:webmaster@hdpug.org
END:VEVENT
BEGIN:VEVENT
DTSTART:20250710T140000Z
DTEND:20250710T150000Z
DTSTAMP:20260421T053209
CREATED:20250702T154326Z
LAST-MODIFIED:20250702T154326Z
UID:36241-1752138000-1752141600@hdpusergroup.org
SUMMARY:Reflow Cycle Via Reliability Impact SMTAi Paper Review
DESCRIPTION:Reflow Cycle Via Reliability Impact SMTAi Paper Review 
URL:https://hdpusergroup.org/event/reflow-cycle-via-reliability-impact-smtai-paper-review/
CATEGORIES:Reflow Cycle Via Reliability Impact
ORGANIZER;CN=HDP:mailto:webmaster@hdpug.org
END:VEVENT
BEGIN:VEVENT
DTSTART:20250710T130000Z
DTEND:20250710T140000Z
DTSTAMP:20260421T053209
CREATED:20250626T162122Z
LAST-MODIFIED:20250626T162122Z
UID:36190-1752134400-1752138000@hdpusergroup.org
SUMMARY:D-Coupon IST CITC Reliability Testing
DESCRIPTION:D-Coupon IST CITC Reliability Testing 
URL:https://hdpusergroup.org/event/d-coupon-ist-citc-reliability-testing-3/
CATEGORIES:Staff Calendar
ORGANIZER;CN=HDP:mailto:webmaster@hdpug.org
END:VEVENT
BEGIN:VEVENT
DTSTART:20250709T230000Z
DTEND:20250710T000000Z
DTSTAMP:20260421T053209
CREATED:20250610T232331Z
LAST-MODIFIED:20250610T232331Z
UID:36090-1752084000-1752087600@hdpusergroup.org
SUMMARY:Porosity
DESCRIPTION:Progress on action items 
URL:https://hdpusergroup.org/event/porosity-21/
CATEGORIES:Porosity Testing
ORGANIZER;CN=HDP:mailto:webmaster@hdpug.org
END:VEVENT
BEGIN:VEVENT
DTSTART:20250709T160000Z
DTEND:20250709T170000Z
DTSTAMP:20260421T053209
CREATED:20250702T145722Z
LAST-MODIFIED:20250702T145722Z
UID:36178-1752058800-1752062400@hdpusergroup.org
SUMMARY:Sequential Lamination
DESCRIPTION:Meeting 
URL:https://hdpusergroup.org/event/sequential-lamination-22/
CATEGORIES:Sequential Lamination
ORGANIZER;CN=HDP:mailto:webmaster@hdpug.org
END:VEVENT
BEGIN:VEVENT
DTSTART:20250709T140000Z
DTEND:20250709T150000Z
DTSTAMP:20260421T053209
CREATED:20250618T141633Z
LAST-MODIFIED:20250618T141633Z
UID:36121-1752051600-1752055200@hdpusergroup.org
SUMMARY:tCAF Eq
DESCRIPTION:Results of limited FA \nData analysis update \nStart of report writing 
URL:https://hdpusergroup.org/event/tcaf-eq/
CATEGORIES:Better CAF Acceleration Equation
ORGANIZER;CN=HDP:mailto:webmaster@hdpug.org
END:VEVENT
BEGIN:VEVENT
DTSTART:20250708T150000Z
DTEND:20250708T160000Z
DTSTAMP:20260421T053209
CREATED:20250701T121619Z
LAST-MODIFIED:20250701T121619Z
UID:36224-1751968800-1751972400@hdpusergroup.org
SUMMARY:Stacked vs. Staggered Microvias
DESCRIPTION:Meeting 
URL:https://hdpusergroup.org/event/stacked-vs-staggered-microvias-5/
CATEGORIES:Staff Calendar
ORGANIZER;CN=HDP:mailto:webmaster@hdpug.org
END:VEVENT
BEGIN:VEVENT
DTSTART:20250703T000000Z
DTEND:20250703T010000Z
DTSTAMP:20260421T053209
CREATED:20250620T005131Z
LAST-MODIFIED:20250620T005131Z
UID:36170-1751482800-1751486400@hdpusergroup.org
SUMMARY:Investigate New Test Methods for Copper Foil Adhesion Project Call
DESCRIPTION:Investigate New Test Methods for Copper Foil Adhesion Project Call 
URL:https://hdpusergroup.org/event/investigate-new-test-methods-for-copper-foil-adhesion-project-call-4/
CATEGORIES:Investigate New Test Methods for Copper Foil Adhesion
ORGANIZER;CN=HDP:mailto:webmaster@hdpug.org
END:VEVENT
BEGIN:VEVENT
DTSTART:20250701T170000Z
DTEND:20250701T180000Z
DTSTAMP:20260421T053209
CREATED:20250603T172754Z
LAST-MODIFIED:20250603T172754Z
UID:35965-1751371200-1751374800@hdpusergroup.org
SUMMARY:Harsh Use Alloy Evaluations Project Call
DESCRIPTION:Periodic Project Call 
URL:https://hdpusergroup.org/event/harsh-use-alloy-evaluations-project-call-10/
CATEGORIES:Harsh Use Alloy Evaluation 2
ORGANIZER;CN=HDP:mailto:webmaster@hdpug.org
END:VEVENT
BEGIN:VEVENT
DTSTART:20250630T150000Z
DTEND:20250630T160000Z
DTSTAMP:20260421T053209
CREATED:20250609T154923Z
LAST-MODIFIED:20250609T154923Z
UID:36078-1751277600-1751281200@hdpusergroup.org
SUMMARY:Final Finish Layer Deposits for High Frequency
DESCRIPTION:Final Finish Layer Deposits for High Frequency 
URL:https://hdpusergroup.org/event/final-finish-layer-deposits-for-high-frequency-66/
CATEGORIES:Final Finish Layer Deposits for High Frequency
ORGANIZER;CN=HDP:mailto:webmaster@hdpug.org
END:VEVENT
BEGIN:VEVENT
DTSTART:20250627T160000Z
DTEND:20250627T170000Z
DTSTAMP:20260421T053209
CREATED:20250613T155135Z
LAST-MODIFIED:20250613T155135Z
UID:36113-1751022000-1751025600@hdpusergroup.org
SUMMARY:TCE Materials-Validation of Test Method to measure CTE in x-y direction
DESCRIPTION:Need to validate TM and standardize testing for accurate CTE measurements. 
URL:https://hdpusergroup.org/event/tce-materials-validation-of-test-method-to-measure-cte-in-x-y-direction/
CATEGORIES:TCE Materials Dimensional Properties
ORGANIZER;CN=HDP:mailto:webmaster@hdpug.org
END:VEVENT
BEGIN:VEVENT
DTSTART:20250626T210000Z
DTEND:20250626T220000Z
DTSTAMP:20260421T053209
CREATED:20250612T220342Z
LAST-MODIFIED:20250612T220342Z
UID:36111-1750953600-1750957200@hdpusergroup.org
SUMMARY:Glass Substrate Reliability Analysis
DESCRIPTION:Glass Substrate Reliability Analysis 
URL:https://hdpusergroup.org/event/glass-substrate-reliability-analysis-19/
CATEGORIES:Glass Substrate Reliability Analysis
ORGANIZER;CN=HDP:mailto:webmaster@hdpug.org
END:VEVENT
BEGIN:VEVENT
DTSTART:20250626T160000Z
DTEND:20250626T170000Z
DTSTAMP:20260421T053209
CREATED:20250611T164834Z
LAST-MODIFIED:20250611T164834Z
UID:36094-1750935600-1750939200@hdpusergroup.org
SUMMARY:Single Surface Finish 2
DESCRIPTION:Meeting 
URL:https://hdpusergroup.org/event/single-surface-finish-2-12/
CATEGORIES:Single PCB Surface Finish for Soldered & Compression Contact Pads – 2
ORGANIZER;CN=HDP:mailto:webmaster@hdpug.org
END:VEVENT
BEGIN:VEVENT
DTSTART:20250626T150000Z
DTEND:20250626T160000Z
DTSTAMP:20260421T053209
CREATED:20250611T235229Z
LAST-MODIFIED:20250611T235229Z
UID:36012-1750932000-1750935600@hdpusergroup.org
SUMMARY:D-Coupon/IST/CITC Reliability Testing
DESCRIPTION:Project Idea Phase 
URL:https://hdpusergroup.org/event/d-coupon-ist-citc-reliability-testing-2/
CATEGORIES:Staff Calendar
ORGANIZER;CN=HDP:mailto:webmaster@hdpug.org
END:VEVENT
BEGIN:VEVENT
DTSTART:20250626T140000Z
DTEND:20250626T150000Z
DTSTAMP:20260421T053209
CREATED:20250612T153930Z
LAST-MODIFIED:20250612T153930Z
UID:36107-1750928400-1750932000@hdpusergroup.org
SUMMARY:ECM-4
DESCRIPTION:HDP Idea Project Meeting 
URL:https://hdpusergroup.org/event/ecm-4-7/
CATEGORIES:Staff Calendar
ORGANIZER;CN=HDP:mailto:webmaster@hdpug.org
END:VEVENT
BEGIN:VEVENT
DTSTART:20250626T010000Z
DTEND:20250626T020000Z
DTSTAMP:20260421T053209
CREATED:20250528T012238Z
LAST-MODIFIED:20250528T012238Z
UID:35857-1750881600-1750885200@hdpusergroup.org
SUMMARY:Correlating CF Profile to Signal Integrity Project Call
DESCRIPTION:Correlating CF Profile to Signal Integrity Project Call 
URL:https://hdpusergroup.org/event/correlating-cf-profile-to-signal-integrity-project-call-20/
CATEGORIES:Correlating Copper Foil Profile to Signal Integrity
ORGANIZER;CN=HDP:mailto:webmaster@hdpug.org
END:VEVENT
BEGIN:VEVENT
DTSTART:20250625T200000Z
DTEND:20250625T210000Z
DTSTAMP:20260421T053209
CREATED:20250528T214437Z
LAST-MODIFIED:20250528T214437Z
UID:35862-1750863600-1750867200@hdpusergroup.org
SUMMARY:Cu Outer Trace Adhesion
DESCRIPTION:Status of coupon build \nData analysis of the trial run 
URL:https://hdpusergroup.org/event/cu-outer-trace-adhesion-16/
CATEGORIES:Cu Outer Trace Adhesion
ORGANIZER;CN=HDP:mailto:webmaster@hdpug.org
END:VEVENT
BEGIN:VEVENT
DTSTART:20250625T160000Z
DTEND:20250625T170000Z
DTSTAMP:20260421T053209
CREATED:20250528T161234Z
LAST-MODIFIED:20250528T161234Z
UID:35860-1750849200-1750852800@hdpusergroup.org
SUMMARY:Sequential Lamination
DESCRIPTION:Meeting 
URL:https://hdpusergroup.org/event/sequential-lamination-21/
CATEGORIES:Sequential Lamination
ORGANIZER;CN=HDP:mailto:webmaster@hdpug.org
END:VEVENT
BEGIN:VEVENT
DTSTART:20250625T140000Z
DTEND:20250625T150000Z
DTSTAMP:20260421T053209
CREATED:20250604T142907Z
LAST-MODIFIED:20250604T142907Z
UID:36010-1750842000-1750845600@hdpusergroup.org
SUMMARY:Reflow Cycle Via Reliability Impact Project Call
DESCRIPTION:Reflow Cycle Via Reliability Impact Project Call 
URL:https://hdpusergroup.org/event/reflow-cycle-via-reliability-impact-project-call-20/
CATEGORIES:Reflow Cycle Via Reliability Impact
ORGANIZER;CN=HDP:mailto:webmaster@hdpug.org
END:VEVENT
BEGIN:VEVENT
DTSTART:20250624T150000Z
DTEND:20250624T160000Z
DTSTAMP:20260421T053209
CREATED:20250610T114404Z
LAST-MODIFIED:20250610T114404Z
UID:36082-1750759200-1750762800@hdpusergroup.org
SUMMARY:Electrical Performance of Microvias
DESCRIPTION:Meeting 
URL:https://hdpusergroup.org/event/electrical-performance-of-microvias/
CATEGORIES:Staff Calendar
ORGANIZER;CN=HDP:mailto:webmaster@hdpug.org
END:VEVENT
BEGIN:VEVENT
DTSTART:20250620T000000Z
DTEND:20250620T010000Z
DTSTAMP:20260421T053209
CREATED:20250605T004742Z
LAST-MODIFIED:20250605T004742Z
UID:36033-1750359600-1750363200@hdpusergroup.org
SUMMARY:Investigate New Test Methods for Copper Foil Adhesion Project Call
DESCRIPTION:Investigate New Test Methods for Copper Foil Adhesion Project Call 
URL:https://hdpusergroup.org/event/investigate-new-test-methods-for-copper-foil-adhesion-project-call-3/
CATEGORIES:Investigate New Test Methods for Copper Foil Adhesion
ORGANIZER;CN=HDP:mailto:webmaster@hdpug.org
END:VEVENT
BEGIN:VEVENT
DTSTART:20250619T160000Z
DTEND:20250619T170000Z
DTSTAMP:20260421T053209
CREATED:20250615T184029Z
LAST-MODIFIED:20250615T184029Z
UID:36079-1750330800-1750334400@hdpusergroup.org
SUMMARY:Stacked vs. Staggered Microvias
DESCRIPTION:Meeting 
URL:https://hdpusergroup.org/event/stacked-vs-staggered-microvias-4/
CATEGORIES:Staff Calendar
ORGANIZER;CN=HDP:mailto:webmaster@hdpug.org
END:VEVENT
BEGIN:VEVENT
DTSTART:20250619T150000Z
DTEND:20250619T160000Z
DTSTAMP:20260421T053209
CREATED:20250529T191254Z
LAST-MODIFIED:20250529T191254Z
UID:35865-1750327200-1750330800@hdpusergroup.org
SUMMARY:Materials #7 meeting
DESCRIPTION:Meeting 
URL:https://hdpusergroup.org/event/materials-7-meeting-44/
CATEGORIES:Materials #7
ORGANIZER;CN=HDP:mailto:webmaster@hdpug.org
END:VEVENT
BEGIN:VEVENT
DTSTART:20250619T140000Z
DTEND:20250619T150000Z
DTSTAMP:20260421T053209
CREATED:20250603T185727Z
LAST-MODIFIED:20250603T185727Z
UID:35966-1750323600-1750327200@hdpusergroup.org
SUMMARY:Copper Surface Roughness Model
DESCRIPTION:Signal Integrity Modeling Validation 
URL:https://hdpusergroup.org/event/copper-surface-roughness-model-17/
CATEGORIES:Cu Surface Rougness Model
ORGANIZER;CN=HDP:mailto:webmaster@hdpug.org
END:VEVENT
BEGIN:VEVENT
DTSTART:20250618T150000Z
DTEND:20250618T160000Z
DTSTAMP:20260421T053209
CREATED:20250529T160303Z
LAST-MODIFIED:20250529T160303Z
UID:35864-1750240800-1750244400@hdpusergroup.org
SUMMARY:SIR Testing meeting
DESCRIPTION:Meeting 
URL:https://hdpusergroup.org/event/sir-testing-meeting-33/
CATEGORIES:Surface Insulation Resistance (SIR) Testing the Next Evolution
ORGANIZER;CN=HDP:mailto:webmaster@hdpug.org
END:VEVENT
BEGIN:VEVENT
DTSTART:20250618T140000Z
DTEND:20250618T150000Z
DTSTAMP:20260421T053209
CREATED:20250430T143544Z
LAST-MODIFIED:20250430T143544Z
UID:30233-1750237200-1750240800@hdpusergroup.org
SUMMARY:Better CAF Eq
DESCRIPTION:Project update 
URL:https://hdpusergroup.org/event/better-caf-eq-49/
CATEGORIES:Better CAF Acceleration Equation
ORGANIZER;CN=HDP:mailto:webmaster@hdpug.org
END:VEVENT
BEGIN:VEVENT
DTSTART:20250617T160000Z
DTEND:20250617T170000Z
DTSTAMP:20260421T053209
CREATED:20250529T195109Z
LAST-MODIFIED:20250529T195109Z
UID:35866-1750158000-1750161600@hdpusergroup.org
SUMMARY:Local Area PWB Warpage – Kick off
DESCRIPTION:Meeting 
URL:https://hdpusergroup.org/event/local-area-pwb-warpage-kick-off/
CATEGORIES:Staff Calendar
ORGANIZER;CN=HDP:mailto:webmaster@hdpug.org
END:VEVENT
BEGIN:VEVENT
DTSTART:20250614T130000Z
DTEND:20250614T140000Z
DTSTAMP:20260421T053209
CREATED:20250612T175918Z
LAST-MODIFIED:20250612T175918Z
UID:36110-1749888000-1749891600@hdpusergroup.org
SUMMARY:Wallace Test Meeting
DESCRIPTION:Testing Wallace Ables meetings to calendar function. 
URL:https://hdpusergroup.org/event/wallace-test-meeting/
CATEGORIES:Staff Calendar
ORGANIZER;CN=HDP:mailto:webmaster@hdpug.org
END:VEVENT
BEGIN:VEVENT
DTSTART:20250612T210000Z
DTEND:20250612T220000Z
DTSTAMP:20260421T053209
CREATED:20250515T220136Z
LAST-MODIFIED:20250515T220136Z
UID:34616-1749744000-1749747600@hdpusergroup.org
SUMMARY:Glass Substrate Reliability Analysis
DESCRIPTION:Glass Substrate Reliability Analysis 
URL:https://hdpusergroup.org/event/glass-substrate-reliability-analysis-18/
CATEGORIES:Glass Substrate Reliability Analysis
ORGANIZER;CN=HDP:mailto:webmaster@hdpug.org
END:VEVENT
END:VCALENDAR