BEGIN:VCALENDAR
VERSION:2.0
PRODID:-//HDP User Group - ECPv6.10.1.1//NONSGML v1.0//EN
CALSCALE:GREGORIAN
METHOD:PUBLISH
X-ORIGINAL-URL:https://hdpusergroup.org
X-WR-CALDESC:Events for HDP User Group
REFRESH-INTERVAL;VALUE=DURATION:PT1H
X-Robots-Tag:noindex
X-PUBLISHED-TTL:PT1H
BEGIN:VTIMEZONE
TZID:America/Chicago
BEGIN:DAYLIGHT
TZOFFSETFROM:-0600
TZOFFSETTO:-0500
TZNAME:CDT
DTSTART:20240310T080000
END:DAYLIGHT
BEGIN:STANDARD
TZOFFSETFROM:-0500
TZOFFSETTO:-0600
TZNAME:CST
DTSTART:20241103T070000
END:STANDARD
BEGIN:DAYLIGHT
TZOFFSETFROM:-0600
TZOFFSETTO:-0500
TZNAME:CDT
DTSTART:20250309T080000
END:DAYLIGHT
BEGIN:STANDARD
TZOFFSETFROM:-0500
TZOFFSETTO:-0600
TZNAME:CST
DTSTART:20251102T070000
END:STANDARD
END:VTIMEZONE
BEGIN:VEVENT
DTSTART:20250116T000000Z
DTEND:20250116T010000Z
DTSTAMP:20260424T003328
CREATED:20241213T005652Z
LAST-MODIFIED:20241213T005652Z
UID:28581-1736964000-1736967600@hdpusergroup.org
SUMMARY:Porosity
DESCRIPTION:Results of Uuyemura FeCl3 pilot run \nResults of JPC 68% HNO3 24hr test \nResults of SEM/EDX results of all HNO3 testing 
URL:https://hdpusergroup.org/event/porosity-15/
CATEGORIES:Porosity Testing
ORGANIZER;CN=HDP:mailto:webmaster@hdpug.org
END:VEVENT
BEGIN:VEVENT
DTSTART:20250115T170000Z
DTEND:20250115T180000Z
DTSTAMP:20260424T003328
CREATED:20241218T161314Z
LAST-MODIFIED:20241218T161314Z
UID:28608-1736938800-1736942400@hdpusergroup.org
SUMMARY:Sequential Lamination
DESCRIPTION:Meeting 
URL:https://hdpusergroup.org/event/sequential-lamination-16/
CATEGORIES:Sequential Lamination
ORGANIZER;CN=HDP:mailto:webmaster@hdpug.org
END:VEVENT
BEGIN:VEVENT
DTSTART:20250115T160000Z
DTEND:20250115T170000Z
DTSTAMP:20260424T003328
CREATED:20241204T170805Z
LAST-MODIFIED:20241204T170805Z
UID:28558-1736935200-1736938800@hdpusergroup.org
SUMMARY:Inner Layer Copper Balancing - Phase 2
DESCRIPTION:I/L Cu Balancing - Phase 2\, Project Meeting 
URL:https://hdpusergroup.org/event/inner-layer-copper-balancing-phase-2-3/
CATEGORIES:Inner Layer Copper Balancing 2
ORGANIZER;CN=HDP:mailto:webmaster@hdpug.org
END:VEVENT
BEGIN:VEVENT
DTSTART:20250115T150000Z
DTEND:20250115T160000Z
DTSTAMP:20260424T003328
CREATED:20241211T154430Z
LAST-MODIFIED:20241211T154430Z
UID:28569-1736931600-1736935200@hdpusergroup.org
SUMMARY:Reflow Cycle Via Reliability Impact
DESCRIPTION:Reflow Cycle Via Reliability Impact 
URL:https://hdpusergroup.org/event/reflow-cycle-via-reliability-impact-2/
CATEGORIES:Reflow Cycle Via Reliability Impact
ORGANIZER;CN=HDP:mailto:webmaster@hdpug.org
END:VEVENT
BEGIN:VEVENT
DTSTART:20250113T160000Z
DTEND:20250113T170000Z
DTSTAMP:20260424T003328
CREATED:20241216T163728Z
LAST-MODIFIED:20241216T163728Z
UID:28597-1736762400-1736766000@hdpusergroup.org
SUMMARY:Final Finish Layer Deposits for High Frequency
DESCRIPTION:Final Finish Layer Deposits for High Frequency 
URL:https://hdpusergroup.org/event/final-finish-layer-deposits-for-high-frequency-57/
CATEGORIES:Final Finish Layer Deposits for High Frequency
ORGANIZER;CN=HDP:mailto:webmaster@hdpug.org
END:VEVENT
BEGIN:VEVENT
DTSTART:20250109T220000Z
DTEND:20250109T230000Z
DTSTAMP:20260424T003328
CREATED:20241212T231314Z
LAST-MODIFIED:20241212T231314Z
UID:28580-1736438400-1736442000@hdpusergroup.org
SUMMARY:Glass Substrate Reliability Analysis
DESCRIPTION:Glass Substrate Reliability Analysis 
URL:https://hdpusergroup.org/event/glass-substrate-reliability-analysis-10/
CATEGORIES:Glass Substrate Reliability Analysis
ORGANIZER;CN=HDP:mailto:webmaster@hdpug.org
END:VEVENT
BEGIN:VEVENT
DTSTART:20250109T160000Z
DTEND:20250109T170000Z
DTSTAMP:20260424T003328
CREATED:20241218T152205Z
LAST-MODIFIED:20241218T152205Z
UID:28607-1736416800-1736420400@hdpusergroup.org
SUMMARY:Non-Glass Microvia Build-ups
DESCRIPTION:Status on materials and build 
URL:https://hdpusergroup.org/event/non-glass-microvia-build-ups-4/
CATEGORIES:Non-Glass Microvia Build-ups
ORGANIZER;CN=HDP:mailto:webmaster@hdpug.org
END:VEVENT
BEGIN:VEVENT
DTSTART:20250108T210000Z
DTEND:20250108T220000Z
DTSTAMP:20260424T003328
CREATED:20241204T211936Z
LAST-MODIFIED:20241204T211936Z
UID:28561-1736348400-1736352000@hdpusergroup.org
SUMMARY:Cu Outer Trace Adhesion
DESCRIPTION:Results of solicitation for board house 
URL:https://hdpusergroup.org/event/cu-outer-trace-adhesion-9/
CATEGORIES:Cu Outer Trace Adhesion
ORGANIZER;CN=HDP:mailto:webmaster@hdpug.org
END:VEVENT
BEGIN:VEVENT
DTSTART:20250108T160000Z
DTEND:20250108T170000Z
DTSTAMP:20260424T003328
CREATED:20241211T151549Z
LAST-MODIFIED:20241211T151549Z
UID:28410-1736330400-1736334000@hdpusergroup.org
SUMMARY:SIR Testing meeting
DESCRIPTION:Meeting 
URL:https://hdpusergroup.org/event/sir-testing-meeting-27/
CATEGORIES:Surface Insulation Resistance (SIR) Testing the Next Evolution
ORGANIZER;CN=HDP:mailto:webmaster@hdpug.org
END:VEVENT
BEGIN:VEVENT
DTSTART:20250107T200000Z
DTEND:20250107T210000Z
DTSTAMP:20260424T003328
CREATED:20241205T153603Z
LAST-MODIFIED:20241205T153603Z
UID:28562-1736258400-1736262000@hdpusergroup.org
SUMMARY:ECM-3 Meeting
DESCRIPTION:Meeting 
URL:https://hdpusergroup.org/event/ecm-3-meeting-34/
CATEGORIES:ECM 3
ORGANIZER;CN=HDP:mailto:webmaster@hdpug.org
END:VEVENT
BEGIN:VEVENT
DTSTART:20250107T180000Z
DTEND:20250107T190000Z
DTSTAMP:20260424T003328
CREATED:20250106T210814Z
LAST-MODIFIED:20250106T210814Z
UID:28646-1736251200-1736254800@hdpusergroup.org
SUMMARY:HDP Harsh Use Alloy Project Call
DESCRIPTION:Periodi Project Call 
URL:https://hdpusergroup.org/event/hdp-harsh-use-alloy-project-call-2/
CATEGORIES:Harsh Use Alloy Evaluation 2
ORGANIZER;CN=HDP:mailto:webmaster@hdpug.org
END:VEVENT
BEGIN:VEVENT
DTSTART:20250102T140000Z
DTEND:20250102T150000Z
DTSTAMP:20260424T003328
CREATED:20241217T201546Z
LAST-MODIFIED:20241217T201546Z
UID:28605-1735804800-1735808400@hdpusergroup.org
SUMMARY:First 2025 Staff meeting
DESCRIPTION:Staff Call 2025 
URL:https://hdpusergroup.org/event/first-2025-staff-meeting/
CATEGORIES:Staff Calendar
ORGANIZER;CN=HDP:mailto:webmaster@hdpug.org
END:VEVENT
BEGIN:VEVENT
DTSTART:20241230T153000Z
DTEND:20241230T160000Z
DTSTAMP:20260424T003328
CREATED:20241230T151309Z
LAST-MODIFIED:20241230T151309Z
UID:28632-1735551000-1735552800@hdpusergroup.org
SUMMARY:Test To Check Time Zone
DESCRIPTION:Test To Check Time Zone 
URL:https://hdpusergroup.org/event/test-to-check-time-zone/
CATEGORIES:Staff Calendar
ORGANIZER;CN=HDP:mailto:webmaster@hdpug.org
END:VEVENT
BEGIN:VEVENT
DTSTART:20241230T150000Z
DTEND:20241230T160000Z
DTSTAMP:20260424T003328
CREATED:20241230T150631Z
LAST-MODIFIED:20241230T150631Z
UID:28631-1735549200-1735552800@hdpusergroup.org
SUMMARY:Test to check on time zone
DESCRIPTION:Test to check on time zone 
URL:https://hdpusergroup.org/event/test-to-check-on-time-zone/
CATEGORIES:Staff Calendar
ORGANIZER;CN=HDP:mailto:webmaster@hdpug.org
END:VEVENT
BEGIN:VEVENT
DTSTART:20241230T070000Z
DTEND:20241230T080000Z
DTSTAMP:20260424T003328
CREATED:20241230T053943Z
LAST-MODIFIED:20241230T053943Z
UID:28628-1735520400-1735524000@hdpusergroup.org
SUMMARY:Discussion with Co-Tech on Correlating CF Profile to SI Project
DESCRIPTION:Discussion with Co-Tech on Correlating CF Profile to SI Project 
URL:https://hdpusergroup.org/event/discussion-with-co-tech-on-correlating-cf-profile-to-si-project/
CATEGORIES:Staff Calendar
ORGANIZER;CN=HDP:mailto:webmaster@hdpug.org
END:VEVENT
BEGIN:VEVENT
DTSTART:20241226T010000Z
DTEND:20241226T020000Z
DTSTAMP:20260424T003328
CREATED:20241212T012900Z
LAST-MODIFIED:20241212T012900Z
UID:28572-1735153200-1735156800@hdpusergroup.org
SUMMARY:Correlating CF Profile to Signal Integrity Project Call
DESCRIPTION:Correlating CF Profile to Signal Integrity Project Call 
URL:https://hdpusergroup.org/event/correlating-cf-profile-to-signal-integrity-project-call-12/
CATEGORIES:Correlating Copper Foil Profile to Signal Integrity
ORGANIZER;CN=HDP:mailto:webmaster@hdpug.org
END:VEVENT
BEGIN:VEVENT
DTSTART:20241219T150000Z
DTEND:20241219T160000Z
DTSTAMP:20260424T003328
CREATED:20241121T151706Z
LAST-MODIFIED:20241121T151706Z
UID:28413-1734598800-1734602400@hdpusergroup.org
SUMMARY:Materials #7 meeting
DESCRIPTION:Meeting 
URL:https://hdpusergroup.org/event/materials-7-meeting-37/
CATEGORIES:Materials #7
ORGANIZER;CN=HDP:mailto:webmaster@hdpug.org
END:VEVENT
BEGIN:VEVENT
DTSTART:20241218T160000Z
DTEND:20241218T170000Z
DTSTAMP:20260424T003328
CREATED:20241127T162147Z
LAST-MODIFIED:20241127T162147Z
UID:28498-1734516000-1734519600@hdpusergroup.org
SUMMARY:Sequential Lamination
DESCRIPTION:Meeting 
URL:https://hdpusergroup.org/event/sequential-lamination-15/
CATEGORIES:Sequential Lamination
ORGANIZER;CN=HDP:mailto:webmaster@hdpug.org
END:VEVENT
BEGIN:VEVENT
DTSTART:20241218T150000Z
DTEND:20241218T160000Z
DTSTAMP:20260424T003328
CREATED:20241128T163906Z
LAST-MODIFIED:20241128T163906Z
UID:28528-1734512400-1734516000@hdpusergroup.org
SUMMARY:Non-glass Microvia Buildups
DESCRIPTION:Sanmina's progress in the build 
URL:https://hdpusergroup.org/event/non-glass-microvia-buildups-17/
CATEGORIES:Non-Glass Microvia Build-ups
ORGANIZER;CN=HDP:mailto:webmaster@hdpug.org
END:VEVENT
BEGIN:VEVENT
DTSTART:20241218T140000Z
DTEND:20241218T150000Z
DTSTAMP:20260424T003328
CREATED:20241129T181403Z
LAST-MODIFIED:20241129T181403Z
UID:28540-1734508800-1734512400@hdpusergroup.org
SUMMARY:Better CAF Eq
DESCRIPTION:Updates from Hubert and Jason. 
URL:https://hdpusergroup.org/event/better-caf-eq-44/
CATEGORIES:Better CAF Acceleration Equation
ORGANIZER;CN=HDP:mailto:webmaster@hdpug.org
END:VEVENT
BEGIN:VEVENT
DTSTART:20241217T190000Z
DTEND:20241217T213000Z
DTSTAMP:20260424T003328
CREATED:20241112T152019Z
LAST-MODIFIED:20241112T152019Z
UID:28381-1734440400-1734449400@hdpusergroup.org
SUMMARY:HDP Board of Directors 2024 Performance to Op Plan Review
DESCRIPTION:HDP Board of Directors  2024 Performance to Op Plan Review\n  \n  \nCall Information (the call ics is available for download at the bottom of this page) \n \nJoin meetingJoin from the meeting linkhttps://hdpug.webex.com/hdpug/j.php?MTID=m570042f99cb3190ac7dff5c5803a4d4dJoin by meeting numberMeeting number (access code): 2558 491 7294Meeting password: Perform2024Join by phone1-650-479-3208 Call-in toll number (US/Canada)Global call-in numbers 
URL:https://hdpusergroup.org/event/hdp-board-of-directors-2024-performance-to-op-plan-review/
LOCATION:Virtual
CATEGORIES:Board Meetings
ORGANIZER;CN=HDP:mailto:webmaster@hdpug.org
END:VEVENT
BEGIN:VEVENT
DTSTART:20241216T170000Z
DTEND:20241216T180000Z
DTSTAMP:20260424T003328
CREATED:20241125T201628Z
LAST-MODIFIED:20241125T201628Z
UID:28424-1734346800-1734350400@hdpusergroup.org
SUMMARY:TCE Materials Project Kickoff
DESCRIPTION:Discuss possible new project to determine if CTE of glass in the X-Y direction plays a role in reliability. 
URL:https://hdpusergroup.org/event/tce-materials-project-kickoff/
CATEGORIES:Staff Calendar
ORGANIZER;CN=HDP:mailto:webmaster@hdpug.org
END:VEVENT
BEGIN:VEVENT
DTSTART:20241216T160000Z
DTEND:20241216T170000Z
DTSTAMP:20260424T003328
CREATED:20241125T164536Z
LAST-MODIFIED:20241125T164536Z
UID:28423-1734343200-1734346800@hdpusergroup.org
SUMMARY:Final Finish Layer Deposits for High Frequency
DESCRIPTION:Final Finish Layer Deposits for High Frequency 
URL:https://hdpusergroup.org/event/final-finish-layer-deposits-for-high-frequency-56/
CATEGORIES:Final Finish Layer Deposits for High Frequency
ORGANIZER;CN=HDP:mailto:webmaster@hdpug.org
END:VEVENT
BEGIN:VEVENT
DTSTART:20241216T150000Z
DTEND:20241216T160000Z
DTSTAMP:20260424T003328
CREATED:20241204T163147Z
LAST-MODIFIED:20241204T163147Z
UID:28557-1734339600-1734343200@hdpusergroup.org
SUMMARY:Single Surface Finish 2
DESCRIPTION:Meeting 
URL:https://hdpusergroup.org/event/single-surface-finish-2-3/
CATEGORIES:Single PCB Surface Finish for Soldered & Compression Contact Pads – 2
ORGANIZER;CN=HDP:mailto:webmaster@hdpug.org
END:VEVENT
BEGIN:VEVENT
DTSTART:20241213T000000Z
DTEND:20241213T010000Z
DTSTAMP:20260424T003328
CREATED:20241205T031624Z
LAST-MODIFIED:20241205T031624Z
UID:28289-1734026400-1734030000@hdpusergroup.org
SUMMARY:Porosity
DESCRIPTION:Progress on Parts 1A & 1B nitirc acid testting 
URL:https://hdpusergroup.org/event/porosity-14/
CATEGORIES:Porosity Testing
ORGANIZER;CN=HDP:mailto:webmaster@hdpug.org
END:VEVENT
BEGIN:VEVENT
DTSTART:20241212T220000Z
DTEND:20241212T230000Z
DTSTAMP:20260424T003328
CREATED:20241121T231919Z
LAST-MODIFIED:20241121T231919Z
UID:28416-1734019200-1734022800@hdpusergroup.org
SUMMARY:Glass Substrate Reliability Analysis
DESCRIPTION:Glass Substrate Reliability Analysis 
URL:https://hdpusergroup.org/event/glass-substrate-reliability-analysis-9/
CATEGORIES:Glass Substrate Reliability Analysis
ORGANIZER;CN=HDP:mailto:webmaster@hdpug.org
END:VEVENT
BEGIN:VEVENT
DTSTART:20241212T010000Z
DTEND:20241212T020000Z
DTSTAMP:20260424T003328
CREATED:20241114T015936Z
LAST-MODIFIED:20241114T015936Z
UID:28392-1733943600-1733947200@hdpusergroup.org
SUMMARY:Correlating CF Profile to Signal Integrity Project Call
DESCRIPTION:Correlating CF Profile to Signal Integrity Project Call 
URL:https://hdpusergroup.org/event/correlating-cf-profile-to-signal-integrity-project-call-11/
CATEGORIES:Correlating Copper Foil Profile to Signal Integrity
ORGANIZER;CN=HDP:mailto:webmaster@hdpug.org
END:VEVENT
BEGIN:VEVENT
DTSTART:20241211T150000Z
DTEND:20241211T160000Z
DTSTAMP:20260424T003328
CREATED:20241106T155313Z
LAST-MODIFIED:20241106T155313Z
UID:28360-1733907600-1733911200@hdpusergroup.org
SUMMARY:Reflow Cycle Via Reliability Impact
DESCRIPTION:Reflow Cycle Via Reliability Impact 
URL:https://hdpusergroup.org/event/reflow-cycle-via-reliability-impact/
CATEGORIES:Reflow Cycle Via Reliability Impact
ORGANIZER;CN=HDP:mailto:webmaster@hdpug.org
END:VEVENT
BEGIN:VEVENT
DTSTART:20241210T180000Z
DTEND:20241210T190000Z
DTSTAMP:20260424T003328
CREATED:20241118T185357Z
LAST-MODIFIED:20241118T185357Z
UID:28378-1733832000-1733835600@hdpusergroup.org
SUMMARY:HDP Harsh Use Alloy Evaluations Project Call
DESCRIPTION:Periodic project call 
URL:https://hdpusergroup.org/event/hdp-harsh-use-alloy-evaluations-project-call-11/
CATEGORIES:Harsh Use Alloy Evaluation 2
ORGANIZER;CN=HDP:mailto:webmaster@hdpug.org
END:VEVENT
BEGIN:VEVENT
DTSTART:20241206T150000Z
DTEND:20241206T160000Z
DTSTAMP:20260424T003328
CREATED:20241202T201324Z
LAST-MODIFIED:20241202T201324Z
UID:28554-1733475600-1733479200@hdpusergroup.org
SUMMARY:Copper Surface Roughness Model
DESCRIPTION:Discussion with Dr. Fan and use of Huray Model for validation 
URL:https://hdpusergroup.org/event/copper-surface-roughness-model-16/
CATEGORIES:Cu Surface Rougness Model
ORGANIZER;CN=HDP:mailto:webmaster@hdpug.org
END:VEVENT
END:VCALENDAR