BEGIN:VCALENDAR
VERSION:2.0
PRODID:-//HDP User Group - ECPv6.10.1.1//NONSGML v1.0//EN
CALSCALE:GREGORIAN
METHOD:PUBLISH
X-ORIGINAL-URL:https://hdpusergroup.org
X-WR-CALDESC:Events for HDP User Group
REFRESH-INTERVAL;VALUE=DURATION:PT1H
X-Robots-Tag:noindex
X-PUBLISHED-TTL:PT1H
BEGIN:VTIMEZONE
TZID:America/Chicago
BEGIN:DAYLIGHT
TZOFFSETFROM:-0600
TZOFFSETTO:-0500
TZNAME:CDT
DTSTART:20250309T080000
END:DAYLIGHT
BEGIN:STANDARD
TZOFFSETFROM:-0500
TZOFFSETTO:-0600
TZNAME:CST
DTSTART:20251102T070000
END:STANDARD
END:VTIMEZONE
BEGIN:VEVENT
DTSTART:20250319T190000Z
DTEND:20250319T193000Z
DTSTAMP:20260423T062204
CREATED:20250319T183513Z
LAST-MODIFIED:20250319T183513Z
UID:29558-1742392800-1742394600@hdpusergroup.org
SUMMARY:Teams Webex test
DESCRIPTION:Test teams webex interface 
URL:https://hdpusergroup.org/event/teams-webex-test-2/
CATEGORIES:Staff Calendar
ORGANIZER;CN=HDP:mailto:webmaster@hdpug.org
END:VEVENT
BEGIN:VEVENT
DTSTART:20250319T183000Z
DTEND:20250319T190000Z
DTSTAMP:20260423T062204
CREATED:20250319T183432Z
LAST-MODIFIED:20250319T183432Z
UID:29557-1742391000-1742392800@hdpusergroup.org
SUMMARY:Teams Webex test
DESCRIPTION:Test teams webex interface 
URL:https://hdpusergroup.org/event/teams-webex-test/
CATEGORIES:Staff Calendar
ORGANIZER;CN=HDP:mailto:webmaster@hdpug.org
END:VEVENT
BEGIN:VEVENT
DTSTART:20250318T150000Z
DTEND:20250318T160000Z
DTSTAMP:20260423T062204
CREATED:20250317T145445Z
LAST-MODIFIED:20250317T145445Z
UID:29556-1742292000-1742295600@hdpusergroup.org
SUMMARY:Bob and Jim
DESCRIPTION:Meeting 
URL:https://hdpusergroup.org/event/bob-and-jim/
CATEGORIES:Staff Calendar
ORGANIZER;CN=HDP:mailto:webmaster@hdpug.org
END:VEVENT
BEGIN:VEVENT
DTSTART:20250314T130000Z
DTEND:20250314T133000Z
DTSTAMP:20260423T062204
CREATED:20250312T191239Z
LAST-MODIFIED:20250312T191239Z
UID:29528-1741939200-1741941000@hdpusergroup.org
SUMMARY:Test
DESCRIPTION:Test 
URL:https://hdpusergroup.org/event/test-8/
CATEGORIES:Staff Calendar
ORGANIZER;CN=HDP:mailto:webmaster@hdpug.org
END:VEVENT
BEGIN:VEVENT
DTSTART:20250313T230000Z
DTEND:20250314T000000Z
DTSTAMP:20260423T062204
CREATED:20250213T002846Z
LAST-MODIFIED:20250213T002846Z
UID:29311-1741888800-1741892400@hdpusergroup.org
SUMMARY:Porosity Testing
DESCRIPTION:Status on current testing and new sample acquisition 
URL:https://hdpusergroup.org/event/porosity-testing-5/
CATEGORIES:Porosity Testing
ORGANIZER;CN=HDP:mailto:webmaster@hdpug.org
END:VEVENT
BEGIN:VEVENT
DTSTART:20250313T223000Z
DTEND:20250313T230000Z
DTSTAMP:20260423T062204
CREATED:20250313T222227Z
LAST-MODIFIED:20250313T222227Z
UID:29544-1741887000-1741888800@hdpusergroup.org
SUMMARY:Glass Substrate call with Dr. Lin
DESCRIPTION:Glass Substrate call with Dr. Lin 
URL:https://hdpusergroup.org/event/glass-substrate-call-with-dr-lin/
CATEGORIES:Staff Calendar
ORGANIZER;CN=HDP:mailto:webmaster@hdpug.org
END:VEVENT
BEGIN:VEVENT
DTSTART:20250313T210000Z
DTEND:20250313T220000Z
DTSTAMP:20260423T062204
CREATED:20250218T133319Z
LAST-MODIFIED:20250218T133319Z
UID:29316-1741881600-1741885200@hdpusergroup.org
SUMMARY:Glass Substrate Reliability Analysis
DESCRIPTION:Glass Substrate Reliability Analysis 
URL:https://hdpusergroup.org/event/glass-substrate-reliability-analysis-13/
CATEGORIES:Glass Substrate Reliability Analysis
ORGANIZER;CN=HDP:mailto:webmaster@hdpug.org
END:VEVENT
BEGIN:VEVENT
DTSTART:20250313T010000Z
DTEND:20250313T020000Z
DTSTAMP:20260423T062204
CREATED:20250220T012026Z
LAST-MODIFIED:20250220T012026Z
UID:29319-1741809600-1741813200@hdpusergroup.org
SUMMARY:Correlating CF Profile to Signal Integrity Project Call
DESCRIPTION:Correlating CF Profile to Signal Integrity Project Call 
URL:https://hdpusergroup.org/event/correlating-cf-profile-to-signal-integrity-project-call-15/
CATEGORIES:Correlating Copper Foil Profile to Signal Integrity
ORGANIZER;CN=HDP:mailto:webmaster@hdpug.org
END:VEVENT
BEGIN:VEVENT
DTSTART:20250312T150000Z
DTEND:20250312T160000Z
DTSTAMP:20260423T062204
CREATED:20250307T190732Z
LAST-MODIFIED:20250307T190732Z
UID:29508-1741773600-1741777200@hdpusergroup.org
SUMMARY:TCE Materials-Effect on solderjoint Reliability
DESCRIPTION:Idea Stage-team invited to discuss project formulation to investigate TCE in x-y direction on solder joint reliability 
URL:https://hdpusergroup.org/event/tce-materials-effect-on-solderjoint-reliability/
CATEGORIES:TCE Materials Dimensional Properties
ORGANIZER;CN=HDP:mailto:webmaster@hdpug.org
END:VEVENT
BEGIN:VEVENT
DTSTART:20250311T200000Z
DTEND:20250311T210000Z
DTSTAMP:20260423T062204
CREATED:20250205T212939Z
LAST-MODIFIED:20250205T212939Z
UID:29191-1741705200-1741708800@hdpusergroup.org
SUMMARY:Cu Outer Trace Adhesion
DESCRIPTION:Status on material procurement and shipping 
URL:https://hdpusergroup.org/event/cu-outer-trace-adhesion-12/
CATEGORIES:Cu Outer Trace Adhesion
ORGANIZER;CN=HDP:mailto:webmaster@hdpug.org
END:VEVENT
BEGIN:VEVENT
DTSTART:20250310T150000Z
DTEND:20250310T160000Z
DTSTAMP:20260423T062204
CREATED:20250218T132546Z
LAST-MODIFIED:20250218T132546Z
UID:29315-1741600800-1741604400@hdpusergroup.org
SUMMARY:Final Finish Layer Deposits for High Frequency
DESCRIPTION:Final Finish Layer Deposits for High Frequency 
URL:https://hdpusergroup.org/event/final-finish-layer-deposits-for-high-frequency-60/
CATEGORIES:Final Finish Layer Deposits for High Frequency
ORGANIZER;CN=HDP:mailto:webmaster@hdpug.org
END:VEVENT
BEGIN:VEVENT
DTSTART:20250305T160000Z
DTEND:20250305T170000Z
DTSTAMP:20260423T062204
CREATED:20250129T161955Z
LAST-MODIFIED:20250129T161955Z
UID:29123-1741168800-1741172400@hdpusergroup.org
SUMMARY:SIR Testing meeting
DESCRIPTION:Meeting 
URL:https://hdpusergroup.org/event/sir-testing-meeting-29/
CATEGORIES:Surface Insulation Resistance (SIR) Testing the Next Evolution
ORGANIZER;CN=HDP:mailto:webmaster@hdpug.org
END:VEVENT
BEGIN:VEVENT
DTSTART:20250304T180000Z
DTEND:20250304T190000Z
DTSTAMP:20260423T062204
CREATED:20250204T202404Z
LAST-MODIFIED:20250204T202404Z
UID:29147-1741089600-1741093200@hdpusergroup.org
SUMMARY:Harsh Use Alloy Evaluations -- Project Call
DESCRIPTION:Periodic Project Call 
URL:https://hdpusergroup.org/event/harsh-use-alloy-evaluations-project-call-6/
CATEGORIES:Harsh Use Alloy Evaluation 2
ORGANIZER;CN=HDP:mailto:webmaster@hdpug.org
END:VEVENT
BEGIN:VEVENT
DTSTART:20250226T140000Z
DTEND:20250226T230000Z
DTSTAMP:20260423T062204
CREATED:20250221T134945Z
LAST-MODIFIED:20250221T134945Z
UID:28642-1740556800-1740589200@hdpusergroup.org
SUMMARY:HDP February 2025 Annual Member Meeting
DESCRIPTION:The HDP February Annual Member Meeting will be held February 26 & 27\, 2025 in San Jose\, California\, USA.  The meeting will be hosted by Panasonic.  Members can register for the meeting by clicking the register button on this page\, or contacting the HDP Business Manager\, Kim Andrews Forsha\, at kima77@hdpug.org \nMeeting presentations are available for download at the bottom of this page. \nMeeting Location and Hotel: \nHDP has worked with the Springhill Suites San Jose Airport to secure a room block.  All rooms are king suites.  The hotel is approximately 3 minutes from the San Jose airport and offers a shuttle service from the airport.  The meetings will take place at the hotel. \nSpringhill Suites by Marriott San Jose Airport10 Skyport DriveSan Jose\, CA 95110 \nPlease include your reservation dates in the registration form on this page\, or email your reservation request to the HDP Business Manager.  To guarantee the HDP rate\, reservations must be submitted by February 3\, 2025.  For additional information on the hotel\, you can visit the hotel website marriott.com/sjcjs. \nMeeting WebEx Information (ics files are available to download at the bottom of this page): \n \nDay 1 Call Information \nWhen it’s time\, join the Webex meeting here:Join meetingMore ways to join:Join from the meeting linkhttps://hdpug.webex.com/hdpug/j.php?MTID=m46207fbf6e09c4259a2474b58a95049cJoin by meeting numberMeeting number (access code): 2558 704 9563Meeting password: HDPFeb20251Join by phone1-650-479-3208 Call-in toll number (US/Canada)Global call-in numbers \n Day 2 Call Information \nWhen it’s time\, join the Webex meeting here:Join meetingMore ways to join:Join from the meeting linkhttps://hdpug.webex.com/hdpug/j.php?MTID=mbe34abf9a346ac53fc161e94b447913aJoin by meeting numberMeeting number (access code): 2552 643 4384Meeting password: HDPFeb20252Join by phone1-650-479-3208 Call-in toll number (US/Canada)Global call-in numbers 
URL:https://hdpusergroup.org/event/hdp-february-2025-annual-member-meeting/2025-02-26/
CATEGORIES:Member Meetings
ORGANIZER;CN=HDP:mailto:webmaster@hdpug.org
END:VEVENT
BEGIN:VEVENT
DTSTART:20250225T140000Z
DTEND:20250225T230000Z
DTSTAMP:20260423T062204
CREATED:20250211T155328Z
LAST-MODIFIED:20250211T155328Z
UID:29142-1740470400-1740502800@hdpusergroup.org
SUMMARY:HDP Board of Directors February 2025
DESCRIPTION:Annual February HDP Board of Directors Meeting. \nMeeting Call Information (the meeting ics file is available for download at the bottom of this page): \n \nWhen it’s time\, join the Webex meeting here:Join meetingMore ways to join:Join from the meeting linkhttps://hdpug.webex.com/hdpug/j.php?MTID=mb1133665b9705ac0d8f1ac84cd197e14Join by meeting numberMeeting number (access code): 2555 079 6107Meeting password: BoredofDirectorsJoin by phone1-650-479-3208 Call-in toll number (US/Canada)Global call-in numbers 
URL:https://hdpusergroup.org/event/hdp-board-of-directors-february-2025/
LOCATION:San Jose\, California
CATEGORIES:Board Meetings
ORGANIZER;CN=HDP:mailto:webmaster@hdpug.org
END:VEVENT
BEGIN:VEVENT
DTSTART:20250220T170000Z
DTEND:20250220T180000Z
DTSTAMP:20260423T062204
CREATED:20250206T162321Z
LAST-MODIFIED:20250206T162321Z
UID:29228-1740049200-1740052800@hdpusergroup.org
SUMMARY:Single Surface Finish 2
DESCRIPTION:Review Data 
URL:https://hdpusergroup.org/event/single-surface-finish-2-6/
CATEGORIES:Single PCB Surface Finish for Soldered & Compression Contact Pads – 2
ORGANIZER;CN=HDP:mailto:webmaster@hdpug.org
END:VEVENT
BEGIN:VEVENT
DTSTART:20250220T160000Z
DTEND:20250220T170000Z
DTSTAMP:20260423T062204
CREATED:20250122T161556Z
LAST-MODIFIED:20250122T161556Z
UID:28979-1740045600-1740049200@hdpusergroup.org
SUMMARY:Materials #7 meeting
DESCRIPTION:Neeting 
URL:https://hdpusergroup.org/event/materials-7-meeting-39/
CATEGORIES:Materials #7
ORGANIZER;CN=HDP:mailto:webmaster@hdpug.org
END:VEVENT
BEGIN:VEVENT
DTSTART:20250220T010000Z
DTEND:20250220T020000Z
DTSTAMP:20260423T062204
CREATED:20250123T011810Z
LAST-MODIFIED:20250123T011810Z
UID:29020-1739991600-1739995200@hdpusergroup.org
SUMMARY:Correlating CF Profile to Signal Integrity Project Call
DESCRIPTION:Correlating CF Profile to Signal Integrity Project Call 
URL:https://hdpusergroup.org/event/correlating-cf-profile-to-signal-integrity-project-call-14/
CATEGORIES:Correlating Copper Foil Profile to Signal Integrity
ORGANIZER;CN=HDP:mailto:webmaster@hdpug.org
END:VEVENT
BEGIN:VEVENT
DTSTART:20250219T160000Z
DTEND:20250219T170000Z
DTSTAMP:20260423T062204
CREATED:20250115T165649Z
LAST-MODIFIED:20250115T165649Z
UID:28818-1739959200-1739962800@hdpusergroup.org
SUMMARY:Inner Layer Copper Balancing - Phase Two
DESCRIPTION:Project Team Meeting 
URL:https://hdpusergroup.org/event/inner-layer-copper-balancing-phase-two/
CATEGORIES:Inner Layer Copper Balancing 2
ORGANIZER;CN=HDP:mailto:webmaster@hdpug.org
END:VEVENT
BEGIN:VEVENT
DTSTART:20250213T220000Z
DTEND:20250213T230000Z
DTSTAMP:20260423T062204
CREATED:20250123T225423Z
LAST-MODIFIED:20250123T225423Z
UID:29060-1739462400-1739466000@hdpusergroup.org
SUMMARY:Glass Substrate Reliability Analysis
DESCRIPTION:Glass Substrate Reliability Analysis 
URL:https://hdpusergroup.org/event/glass-substrate-reliability-analysis-12/
CATEGORIES:Glass Substrate Reliability Analysis
ORGANIZER;CN=HDP:mailto:webmaster@hdpug.org
END:VEVENT
BEGIN:VEVENT
DTSTART:20250213T000000Z
DTEND:20250213T010000Z
DTSTAMP:20260423T062204
CREATED:20250130T004212Z
LAST-MODIFIED:20250130T004212Z
UID:29125-1739383200-1739386800@hdpusergroup.org
SUMMARY:Porosity
DESCRIPTION:Discuss project progress \nGo over presenationfor Members' Meeting 
URL:https://hdpusergroup.org/event/porosity-16/
CATEGORIES:Porosity Testing
ORGANIZER;CN=HDP:mailto:webmaster@hdpug.org
END:VEVENT
BEGIN:VEVENT
DTSTART:20250210T200000Z
DTEND:20250210T213000Z
DTSTAMP:20260423T062204
CREATED:20250207T150110Z
LAST-MODIFIED:20250207T150110Z
UID:29266-1739196000-1739201400@hdpusergroup.org
SUMMARY:Record Presentation for HDP February Member Meeting
DESCRIPTION:Record Jan Vardaman presentation 
URL:https://hdpusergroup.org/event/record-presentation-for-hdp-february-member-meeting/
CATEGORIES:Staff Calendar
ORGANIZER;CN=HDP:mailto:webmaster@hdpug.org
END:VEVENT
BEGIN:VEVENT
DTSTART:20250210T160000Z
DTEND:20250210T170000Z
DTSTAMP:20260423T062204
CREATED:20250127T162216Z
LAST-MODIFIED:20250127T162216Z
UID:29115-1739181600-1739185200@hdpusergroup.org
SUMMARY:Final Finish Layer Deposits for High Frequency
DESCRIPTION:Final Finish Layer Deposits for High Frequency 
URL:https://hdpusergroup.org/event/final-finish-layer-deposits-for-high-frequency-59/
CATEGORIES:Final Finish Layer Deposits for High Frequency
ORGANIZER;CN=HDP:mailto:webmaster@hdpug.org
END:VEVENT
BEGIN:VEVENT
DTSTART:20250207T160000Z
DTEND:20250207T170000Z
DTSTAMP:20260423T062204
CREATED:20250123T175203Z
LAST-MODIFIED:20250123T175203Z
UID:29055-1738922400-1738926000@hdpusergroup.org
SUMMARY:ECM-3 Meeting
DESCRIPTION:Meeting 
URL:https://hdpusergroup.org/event/ecm-3-meeting-36/
CATEGORIES:ECM 3
ORGANIZER;CN=HDP:mailto:webmaster@hdpug.org
END:VEVENT
BEGIN:VEVENT
DTSTART:20250206T160000Z
DTEND:20250206T170000Z
DTSTAMP:20260423T062204
CREATED:20250116T162359Z
LAST-MODIFIED:20250116T162359Z
UID:28827-1738836000-1738839600@hdpusergroup.org
SUMMARY:Single Surface Finish 2
DESCRIPTION:Meeting 
URL:https://hdpusergroup.org/event/single-surface-finish-2-5/
CATEGORIES:Single PCB Surface Finish for Soldered & Compression Contact Pads – 2
ORGANIZER;CN=HDP:mailto:webmaster@hdpug.org
END:VEVENT
BEGIN:VEVENT
DTSTART:20250206T150000Z
DTEND:20250206T160000Z
DTSTAMP:20260423T062204
CREATED:20250123T174841Z
LAST-MODIFIED:20250123T174841Z
UID:29054-1738832400-1738836000@hdpusergroup.org
SUMMARY:Better CAF Eq
DESCRIPTION:Not sure why this is not already in the system. \nUpdates from Jason and Hubert. 
URL:https://hdpusergroup.org/event/better-caf-eq-46/
CATEGORIES:Better CAF Acceleration Equation
ORGANIZER;CN=HDP:mailto:webmaster@hdpug.org
END:VEVENT
BEGIN:VEVENT
DTSTART:20250205T210000Z
DTEND:20250205T220000Z
DTSTAMP:20260423T062204
CREATED:20250122T215024Z
LAST-MODIFIED:20250122T215024Z
UID:28999-1738767600-1738771200@hdpusergroup.org
SUMMARY:Cu Outer Trace Adhesion
DESCRIPTION:Finalize project plan 
URL:https://hdpusergroup.org/event/cu-outer-trace-adhesion-11/
CATEGORIES:Cu Outer Trace Adhesion
ORGANIZER;CN=HDP:mailto:webmaster@hdpug.org
END:VEVENT
BEGIN:VEVENT
DTSTART:20250205T190000Z
DTEND:20250205T200000Z
DTSTAMP:20260423T062204
CREATED:20250131T152738Z
LAST-MODIFIED:20250131T152738Z
UID:29129-1738760400-1738764000@hdpusergroup.org
SUMMARY:Indium discussion
DESCRIPTION:Discussion 
URL:https://hdpusergroup.org/event/indium-discussion/
CATEGORIES:Staff Calendar
ORGANIZER;CN=HDP:mailto:webmaster@hdpug.org
END:VEVENT
BEGIN:VEVENT
DTSTART:20250205T170000Z
DTEND:20250205T180000Z
DTSTAMP:20260423T062204
CREATED:20250115T171712Z
LAST-MODIFIED:20250115T171712Z
UID:28819-1738753200-1738756800@hdpusergroup.org
SUMMARY:Sequential Lamination
DESCRIPTION:Meeting 
URL:https://hdpusergroup.org/event/sequential-lamination-17/
CATEGORIES:Sequential Lamination
ORGANIZER;CN=HDP:mailto:webmaster@hdpug.org
END:VEVENT
BEGIN:VEVENT
DTSTART:20250205T150000Z
DTEND:20250205T160000Z
DTSTAMP:20260423T062204
CREATED:20250115T155640Z
LAST-MODIFIED:20250115T155640Z
UID:28817-1738746000-1738749600@hdpusergroup.org
SUMMARY:Reflow Cycle Via Reliability Impact Project Call
DESCRIPTION:Reflow Cycle Via Reliability Impact Project Call 
URL:https://hdpusergroup.org/event/reflow-cycle-via-reliability-impact-project-call-15/
CATEGORIES:Reflow Cycle Via Reliability Impact
ORGANIZER;CN=HDP:mailto:webmaster@hdpug.org
END:VEVENT
END:VCALENDAR