BEGIN:VCALENDAR
VERSION:2.0
PRODID:-//HDP User Group - ECPv6.10.1.1//NONSGML v1.0//EN
CALSCALE:GREGORIAN
METHOD:PUBLISH
X-ORIGINAL-URL:https://hdpusergroup.org
X-WR-CALDESC:Events for HDP User Group
REFRESH-INTERVAL;VALUE=DURATION:PT1H
X-Robots-Tag:noindex
X-PUBLISHED-TTL:PT1H
BEGIN:VTIMEZONE
TZID:America/Chicago
BEGIN:DAYLIGHT
TZOFFSETFROM:-0600
TZOFFSETTO:-0500
TZNAME:CDT
DTSTART:20250309T080000
END:DAYLIGHT
BEGIN:STANDARD
TZOFFSETFROM:-0500
TZOFFSETTO:-0600
TZNAME:CST
DTSTART:20251102T070000
END:STANDARD
END:VTIMEZONE
BEGIN:VEVENT
DTSTART:20250528T010000Z
DTEND:20250528T020000Z
DTSTAMP:20260419T150739
CREATED:20250508T012139Z
LAST-MODIFIED:20250508T012139Z
UID:30272-1748376000-1748379600@hdpusergroup.org
SUMMARY:Correlating CF Profile to Signal Integrity Project Call
DESCRIPTION:Correlating CF Profile to Signal Integrity Project Call 
URL:https://hdpusergroup.org/event/correlating-cf-profile-to-signal-integrity-project-call-19/
CATEGORIES:Correlating Copper Foil Profile to Signal Integrity
ORGANIZER;CN=HDP:mailto:webmaster@hdpug.org
END:VEVENT
BEGIN:VEVENT
DTSTART:20250528T160000Z
DTEND:20250528T170000Z
DTSTAMP:20260419T150739
CREATED:20250416T161802Z
LAST-MODIFIED:20250416T161802Z
UID:30116-1748430000-1748433600@hdpusergroup.org
SUMMARY:Sequential Lamination
DESCRIPTION:Meeting 
URL:https://hdpusergroup.org/event/sequential-lamination-20/
CATEGORIES:Sequential Lamination
ORGANIZER;CN=HDP:mailto:webmaster@hdpug.org
END:VEVENT
BEGIN:VEVENT
DTSTART:20250528T200000Z
DTEND:20250528T210000Z
DTSTAMP:20260419T150739
CREATED:20250507T203616Z
LAST-MODIFIED:20250507T203616Z
UID:30270-1748444400-1748448000@hdpusergroup.org
SUMMARY:Cu Outer Trace Adhesion
DESCRIPTION:Verification complete? 
URL:https://hdpusergroup.org/event/cu-outer-trace-adhesion-15/
CATEGORIES:Cu Outer Trace Adhesion
ORGANIZER;CN=HDP:mailto:webmaster@hdpug.org
END:VEVENT
BEGIN:VEVENT
DTSTART:20250529T150000Z
DTEND:20250529T160000Z
DTSTAMP:20260419T150739
CREATED:20250507T152034Z
LAST-MODIFIED:20250507T152034Z
UID:30269-1748512800-1748516400@hdpusergroup.org
SUMMARY:SIR Testing meeting
DESCRIPTION:Meeting 
URL:https://hdpusergroup.org/event/sir-testing-meeting-32/
CATEGORIES:Surface Insulation Resistance (SIR) Testing the Next Evolution
ORGANIZER;CN=HDP:mailto:webmaster@hdpug.org
END:VEVENT
BEGIN:VEVENT
DTSTART:20250529T180000Z
DTEND:20250529T190000Z
DTSTAMP:20260419T150739
CREATED:20250508T142013Z
LAST-MODIFIED:20250508T142013Z
UID:30276-1748523600-1748527200@hdpusergroup.org
SUMMARY:Materials #7 meeting
DESCRIPTION:Meeting 
URL:https://hdpusergroup.org/event/materials-7-meeting-43/
CATEGORIES:Materials #7
ORGANIZER;CN=HDP:mailto:webmaster@hdpug.org
END:VEVENT
BEGIN:VEVENT
DTSTART:20250529T230000Z
DTEND:20250530T000000Z
DTSTAMP:20260419T150739
CREATED:20250527T141153Z
LAST-MODIFIED:20250527T141153Z
UID:35843-1748541600-1748545200@hdpusergroup.org
SUMMARY:Porosity
DESCRIPTION:Latest testing updates 
URL:https://hdpusergroup.org/event/porosity-19/
CATEGORIES:Porosity Testing
ORGANIZER;CN=HDP:mailto:webmaster@hdpug.org
END:VEVENT
END:VCALENDAR