BEGIN:VCALENDAR
VERSION:2.0
PRODID:-//HDP User Group - ECPv6.10.1.1//NONSGML v1.0//EN
CALSCALE:GREGORIAN
METHOD:PUBLISH
X-ORIGINAL-URL:https://hdpusergroup.org
X-WR-CALDESC:Events for HDP User Group
REFRESH-INTERVAL;VALUE=DURATION:PT1H
X-Robots-Tag:noindex
X-PUBLISHED-TTL:PT1H
BEGIN:VTIMEZONE
TZID:America/Chicago
BEGIN:DAYLIGHT
TZOFFSETFROM:-0600
TZOFFSETTO:-0500
TZNAME:CDT
DTSTART:20240310T080000
END:DAYLIGHT
BEGIN:STANDARD
TZOFFSETFROM:-0500
TZOFFSETTO:-0600
TZNAME:CST
DTSTART:20241103T070000
END:STANDARD
END:VTIMEZONE
BEGIN:VEVENT
DTSTART:20241118T140000Z
DTEND:20241118T150000Z
DTSTAMP:20260420T001106
CREATED:20241112T210709Z
LAST-MODIFIED:20241112T210709Z
UID:28386-1731916800-1731920400@hdpusergroup.org
SUMMARY:HDP / iNEMI Collaboration
DESCRIPTION:Discussion on areas of possible collaboration 
URL:https://hdpusergroup.org/event/hdp-inemi-collaboration/
CATEGORIES:Staff Calendar
ORGANIZER;CN=HDP:mailto:webmaster@hdpug.org
END:VEVENT
BEGIN:VEVENT
DTSTART:20241120T160000Z
DTEND:20241120T170000Z
DTSTAMP:20260420T001106
CREATED:20241030T154612Z
LAST-MODIFIED:20241030T154612Z
UID:28282-1732096800-1732100400@hdpusergroup.org
SUMMARY:SIR Testing meeting
DESCRIPTION:Meeting 
URL:https://hdpusergroup.org/event/sir-testing-meeting-26/
CATEGORIES:Surface Insulation Resistance (SIR) Testing the Next Evolution
ORGANIZER;CN=HDP:mailto:webmaster@hdpug.org
END:VEVENT
BEGIN:VEVENT
DTSTART:20241121T150000Z
DTEND:20241121T160000Z
DTSTAMP:20260420T001106
CREATED:20241024T141538Z
LAST-MODIFIED:20241024T141538Z
UID:28265-1732179600-1732183200@hdpusergroup.org
SUMMARY:Materials #7 meeting
DESCRIPTION:Meeting 
URL:https://hdpusergroup.org/event/materials-7-meeting-36/
CATEGORIES:Materials #7
ORGANIZER;CN=HDP:mailto:webmaster@hdpug.org
END:VEVENT
BEGIN:VEVENT
DTSTART:20241121T220000Z
DTEND:20241121T230000Z
DTSTAMP:20260420T001106
CREATED:20241107T223543Z
LAST-MODIFIED:20241107T223543Z
UID:28367-1732204800-1732208400@hdpusergroup.org
SUMMARY:Glass Substrate Reliability Analysis
DESCRIPTION:Glass Substrate Reliability Analysis 
URL:https://hdpusergroup.org/event/glass-substrate-reliability-analysis-8/
CATEGORIES:Glass Substrate Reliability Analysis
ORGANIZER;CN=HDP:mailto:webmaster@hdpug.org
END:VEVENT
END:VCALENDAR