BEGIN:VCALENDAR
VERSION:2.0
PRODID:-//HDP User Group - ECPv6.10.1.1//NONSGML v1.0//EN
CALSCALE:GREGORIAN
METHOD:PUBLISH
X-ORIGINAL-URL:https://hdpusergroup.org
X-WR-CALDESC:Events for HDP User Group
REFRESH-INTERVAL;VALUE=DURATION:PT1H
X-Robots-Tag:noindex
X-PUBLISHED-TTL:PT1H
BEGIN:VTIMEZONE
TZID:America/Chicago
BEGIN:DAYLIGHT
TZOFFSETFROM:-0600
TZOFFSETTO:-0500
TZNAME:CDT
DTSTART:20240310T080000
END:DAYLIGHT
BEGIN:STANDARD
TZOFFSETFROM:-0500
TZOFFSETTO:-0600
TZNAME:CST
DTSTART:20241103T070000
END:STANDARD
END:VTIMEZONE
BEGIN:VEVENT
DTSTART:20241007T150000Z
DTEND:20241007T160000Z
DTSTAMP:20260419T203053
CREATED:20240916T153639Z
LAST-MODIFIED:20240916T153639Z
UID:27726-1728295200-1728298800@hdpusergroup.org
SUMMARY:Final Finish Layer Deposits for High Frequency
DESCRIPTION:Final Finish Layer Deposits for High Frequency 
URL:https://hdpusergroup.org/event/final-finish-layer-deposits-for-high-frequency-52/
CATEGORIES:Final Finish Layer Deposits for High Frequency
ORGANIZER;CN=HDP:mailto:webmaster@hdpug.org
END:VEVENT
BEGIN:VEVENT
DTSTART:20241008T140000Z
DTEND:20241008T203000Z
DTSTAMP:20260419T203053
CREATED:20240926T192739Z
LAST-MODIFIED:20240926T192739Z
UID:27776-1728378000-1728401400@hdpusergroup.org
SUMMARY:HDP Board of Directors Meeting Fall 2024
DESCRIPTION:HDP Fall Board of Directors Meeting. \nCall Information (a meeting ics file is available for download at the bottom of this page) \nWhen it’s time\, join the Webex meeting here:Join meetingMore ways to join:Join from the meeting link \nhttps://hdpug.webex.com/hdpug/j.php?MTID=md249dc107ebf944e455e5058b5758bfdJoin by meeting numberMeeting number (access code): 2556 671 6406Meeting password: HDPBoD1024Join by phone1-650-479-3208 Call-in toll number (US/Canada)Global call-in numbers 
URL:https://hdpusergroup.org/event/hdp-board-of-directors-meeting-fall-2024/
LOCATION:Virtual
CATEGORIES:Board Meetings
ORGANIZER;CN=HDP:mailto:webmaster@hdpug.org
END:VEVENT
BEGIN:VEVENT
DTSTART:20241009T140000Z
DTEND:20241009T150000Z
DTSTAMP:20260419T203053
CREATED:20240925T150743Z
LAST-MODIFIED:20240925T150743Z
UID:28058-1728464400-1728468000@hdpusergroup.org
SUMMARY:Reflow Cycle Via Reliability Impact Project Call
DESCRIPTION:Reflow Cycle Via Reliability Impact Project Call 
URL:https://hdpusergroup.org/event/reflow-cycle-via-reliability-impact-project-call-13/
CATEGORIES:Reflow Cycle Via Reliability Impact
ORGANIZER;CN=HDP:mailto:webmaster@hdpug.org
END:VEVENT
BEGIN:VEVENT
DTSTART:20241011T010000Z
DTEND:20241011T020000Z
DTSTAMP:20260419T203053
CREATED:20240927T025511Z
LAST-MODIFIED:20240927T025511Z
UID:28062-1728590400-1728594000@hdpusergroup.org
SUMMARY:Correlating CF Profile to Signal Integrity Project Call
DESCRIPTION:Correlating CF Profile to Signal Integrity Project Call 
URL:https://hdpusergroup.org/event/correlating-cf-profile-to-signal-integrity-project-call-8/
CATEGORIES:Correlating Copper Foil Profile to Signal Integrity
ORGANIZER;CN=HDP:mailto:webmaster@hdpug.org
END:VEVENT
END:VCALENDAR