BEGIN:VCALENDAR
VERSION:2.0
PRODID:-//HDP User Group - ECPv6.10.1.1//NONSGML v1.0//EN
CALSCALE:GREGORIAN
METHOD:PUBLISH
X-ORIGINAL-URL:https://hdpusergroup.org
X-WR-CALDESC:Events for HDP User Group
REFRESH-INTERVAL;VALUE=DURATION:PT1H
X-Robots-Tag:noindex
X-PUBLISHED-TTL:PT1H
BEGIN:VTIMEZONE
TZID:America/Chicago
BEGIN:DAYLIGHT
TZOFFSETFROM:-0600
TZOFFSETTO:-0500
TZNAME:CDT
DTSTART:20240310T080000
END:DAYLIGHT
BEGIN:STANDARD
TZOFFSETFROM:-0500
TZOFFSETTO:-0600
TZNAME:CST
DTSTART:20241103T070000
END:STANDARD
END:VTIMEZONE
BEGIN:VEVENT
DTSTART:20240610T150000Z
DTEND:20240610T160000Z
DTSTAMP:20260420T055016
CREATED:20240510T161013Z
LAST-MODIFIED:20240510T161013Z
UID:26454-1718013600-1718017200@hdpusergroup.org
SUMMARY:Final Finish Layer Deposits for High Frequency
DESCRIPTION:Final Finish Layer Deposits for High Frequency 
URL:https://hdpusergroup.org/event/final-finish-layer-deposits-for-high-frequency-47/
CATEGORIES:Final Finish Layer Deposits for High Frequency
ORGANIZER;CN=HDP:mailto:webmaster@hdpug.org
END:VEVENT
BEGIN:VEVENT
DTSTART:20240612T010000Z
DTEND:20240612T020000Z
DTSTAMP:20260420T055016
CREATED:20240425T090758Z
LAST-MODIFIED:20240425T090758Z
UID:26288-1718136000-1718139600@hdpusergroup.org
SUMMARY:Correlating CF Profile to SI Project Call
DESCRIPTION:Correlating CF Profile to SI Project Call 
URL:https://hdpusergroup.org/event/correlating-cf-profile-to-si-project-call/
CATEGORIES:Correlating Copper Foil Profile to Signal Integrity
ORGANIZER;CN=HDP:mailto:webmaster@hdpug.org
END:VEVENT
BEGIN:VEVENT
DTSTART:20240612T060000Z
DTEND:20240612T063000Z
DTSTAMP:20260420T055016
CREATED:20240612T051005Z
LAST-MODIFIED:20240612T051005Z
UID:26791-1718154000-1718155800@hdpusergroup.org
SUMMARY:Caption function check
DESCRIPTION:Checking menu buttons 
URL:https://hdpusergroup.org/event/caption-function-check/
CATEGORIES:Staff Calendar
ORGANIZER;CN=HDP:mailto:webmaster@hdpug.org
END:VEVENT
BEGIN:VEVENT
DTSTART:20240612T140000Z
DTEND:20240612T150000Z
DTSTAMP:20260420T055016
CREATED:20240508T141113Z
LAST-MODIFIED:20240508T141113Z
UID:26422-1718182800-1718186400@hdpusergroup.org
SUMMARY:Reflow Cycle Via Reliability Impact Project Call
DESCRIPTION:Reflow Cycle Via Reliability Impact Project Call 
URL:https://hdpusergroup.org/event/reflow-cycle-via-reliability-impact-project-call-9/
CATEGORIES:Reflow Cycle Via Reliability Impact
ORGANIZER;CN=HDP:mailto:webmaster@hdpug.org
END:VEVENT
BEGIN:VEVENT
DTSTART:20240612T150000Z
DTEND:20240612T160000Z
DTSTAMP:20260420T055016
CREATED:20240515T155553Z
LAST-MODIFIED:20240515T155553Z
UID:26554-1718186400-1718190000@hdpusergroup.org
SUMMARY:Sequential Lamination Mtg
DESCRIPTION:Meeting 
URL:https://hdpusergroup.org/event/sequential-lamination-mtg-9/
CATEGORIES:Sequential Lamination
ORGANIZER;CN=HDP:mailto:webmaster@hdpug.org
END:VEVENT
BEGIN:VEVENT
DTSTART:20240613T080000Z
DTEND:20240613T083000Z
DTSTAMP:20260420T055016
CREATED:20240613T072729Z
LAST-MODIFIED:20240613T072729Z
UID:26798-1718247600-1718249400@hdpusergroup.org
SUMMARY:Caption Function Check in detail
DESCRIPTION:Transciption 
URL:https://hdpusergroup.org/event/caption-function-check-in-detail/
CATEGORIES:Staff Calendar
ORGANIZER;CN=HDP:mailto:webmaster@hdpug.org
END:VEVENT
BEGIN:VEVENT
DTSTART:20240613T160000Z
DTEND:20240613T170000Z
DTSTAMP:20260420T055016
CREATED:20240529T163915Z
LAST-MODIFIED:20240529T163915Z
UID:26754-1718276400-1718280000@hdpusergroup.org
SUMMARY:Backdrill Via Transition
DESCRIPTION:Backdrill Transition Project Meeting 
URL:https://hdpusergroup.org/event/backdrill-via-transition-3/
CATEGORIES:Back drill to Primary via Transition
ORGANIZER;CN=HDP:mailto:webmaster@hdpug.org
END:VEVENT
BEGIN:VEVENT
DTSTART:20240613T210000Z
DTEND:20240613T220000Z
DTSTAMP:20260420T055016
CREATED:20240605T054127Z
LAST-MODIFIED:20240605T054127Z
UID:26528-1718294400-1718298000@hdpusergroup.org
SUMMARY:Idea discussion: Glass Substrates for IC Packages
DESCRIPTION:Idea discussion: Glass Substrates for IC Packages 
URL:https://hdpusergroup.org/event/idea-discussion-glass-substrates-for-ic-packages-4/
CATEGORIES:Staff Calendar
ORGANIZER;CN=HDP:mailto:webmaster@hdpug.org
END:VEVENT
END:VCALENDAR