BEGIN:VCALENDAR
VERSION:2.0
PRODID:-//HDP User Group - ECPv6.10.1.1//NONSGML v1.0//EN
CALSCALE:GREGORIAN
METHOD:PUBLISH
X-ORIGINAL-URL:https://hdpusergroup.org
X-WR-CALDESC:Events for HDP User Group
REFRESH-INTERVAL;VALUE=DURATION:PT1H
X-Robots-Tag:noindex
X-PUBLISHED-TTL:PT1H
BEGIN:VTIMEZONE
TZID:America/Chicago
BEGIN:DAYLIGHT
TZOFFSETFROM:-0600
TZOFFSETTO:-0500
TZNAME:CDT
DTSTART:20240310T080000
END:DAYLIGHT
BEGIN:STANDARD
TZOFFSETFROM:-0500
TZOFFSETTO:-0600
TZNAME:CST
DTSTART:20241103T070000
END:STANDARD
END:VTIMEZONE
BEGIN:VEVENT
DTSTART:20240417T150000Z
DTEND:20240417T160000Z
DTSTAMP:20260420T093922
CREATED:20240328T170546Z
LAST-MODIFIED:20240328T170546Z
UID:26022-1713348000-1713351600@hdpusergroup.org
SUMMARY:Sequential Lamination Mtg
DESCRIPTION:Meeting 
URL:https://hdpusergroup.org/event/sequential-lamination-mtg-6/
CATEGORIES:Sequential Lamination
ORGANIZER;CN=HDP:mailto:webmaster@hdpug.org
END:VEVENT
BEGIN:VEVENT
DTSTART:20240417T160000Z
DTEND:20240417T170000Z
DTSTAMP:20260420T093922
CREATED:20240329T234821Z
LAST-MODIFIED:20240329T234821Z
UID:26025-1713351600-1713355200@hdpusergroup.org
SUMMARY:Backdrill Via Transition
DESCRIPTION:Backdrill Via Transition Project Meeting 
URL:https://hdpusergroup.org/event/backdrill-via-transition/
CATEGORIES:Back drill to Primary via Transition
ORGANIZER;CN=HDP:mailto:webmaster@hdpug.org
END:VEVENT
BEGIN:VEVENT
DTSTART:20240417T170000Z
DTEND:20240417T180000Z
DTSTAMP:20260420T093922
CREATED:20240404T165422Z
LAST-MODIFIED:20240404T165422Z
UID:26122-1713355200-1713358800@hdpusergroup.org
SUMMARY:Microvia Rel
DESCRIPTION:Writing final report 
URL:https://hdpusergroup.org/event/microvia-rel-45/
CATEGORIES:Microvia Reliability
ORGANIZER;CN=HDP:mailto:webmaster@hdpug.org
END:VEVENT
BEGIN:VEVENT
DTSTART:20240417T200000Z
DTEND:20240417T210000Z
DTSTAMP:20260420T093922
CREATED:20240413T002712Z
LAST-MODIFIED:20240413T002712Z
UID:26229-1713366000-1713369600@hdpusergroup.org
SUMMARY:New UL Project Idea Coordination Meeting
DESCRIPTION:New Idea Project Coordination Meeting with UL 
URL:https://hdpusergroup.org/event/new-ul-project-idea-coordination-meeting/
CATEGORIES:Staff Calendar
ORGANIZER;CN=HDP:mailto:webmaster@hdpug.org
END:VEVENT
BEGIN:VEVENT
DTSTART:20240417T210000Z
DTEND:20240417T220000Z
DTSTAMP:20260420T093922
CREATED:20240416T162009Z
LAST-MODIFIED:20240416T162009Z
UID:26235-1713369600-1713373200@hdpusergroup.org
SUMMARY:Call with Gary – Project Planning
DESCRIPTION:Discuss workaround plan 
URL:https://hdpusergroup.org/event/call-with-gary-project-planning/
CATEGORIES:Staff Calendar
ORGANIZER;CN=HDP:mailto:webmaster@hdpug.org
END:VEVENT
BEGIN:VEVENT
DTSTART:20240418T050000Z
DTEND:20240419T045959Z
DTSTAMP:20260420T093922
CREATED:20240416T135344Z
LAST-MODIFIED:20240426T002543Z
UID:26234-1713398400-1713484799@hdpusergroup.org
SUMMARY:HDP App Testing
DESCRIPTION:Call to review how to access the HDP app for testing and testing goals.\n\n
URL:https://hdpusergroup.org/event/hdp-app-testing/
LOCATION:Virtual
CATEGORIES:Staff Calendar
ORGANIZER;CN=HDP:mailto:webmaster@hdpug.org
END:VEVENT
BEGIN:VEVENT
DTSTART:20240418T140000Z
DTEND:20240418T150000Z
DTSTAMP:20260420T093922
CREATED:20240314T153126Z
LAST-MODIFIED:20240314T153126Z
UID:25884-1713430800-1713434400@hdpusergroup.org
SUMMARY:ECM-3 Meeting
DESCRIPTION:Meeting 
URL:https://hdpusergroup.org/event/ecm-3-meeting-22/
CATEGORIES:ECM 3
ORGANIZER;CN=HDP:mailto:webmaster@hdpug.org
END:VEVENT
BEGIN:VEVENT
DTSTART:20240418T160000Z
DTEND:20240418T170000Z
DTSTAMP:20260420T093922
CREATED:20240329T235557Z
LAST-MODIFIED:20240329T235557Z
UID:26026-1713438000-1713441600@hdpusergroup.org
SUMMARY:Inner Layer Copper Balancing Project Phase 1 and 2
DESCRIPTION:Inner Layer Local Copper Balancing Project 1 and 2 Meeting 
URL:https://hdpusergroup.org/event/inner-layer-copper-balancing-project-phase-1-and-2/
CATEGORIES:Inner Layer Copper Balancing 2
ORGANIZER;CN=HDP:mailto:webmaster@hdpug.org
END:VEVENT
BEGIN:VEVENT
DTSTART:20240418T200000Z
DTEND:20240418T210000Z
DTSTAMP:20260420T093922
CREATED:20240401T173903Z
LAST-MODIFIED:20240401T173903Z
UID:26032-1713452400-1713456000@hdpusergroup.org
SUMMARY:Photonic Soldering 2
DESCRIPTION:Updates on drop and ATC testing 
URL:https://hdpusergroup.org/event/photonic-soldering-2-21/
CATEGORIES:Photonic Soldering 2
ORGANIZER;CN=HDP:mailto:webmaster@hdpug.org
END:VEVENT
BEGIN:VEVENT
DTSTART:20240418T210000Z
DTEND:20240418T220000Z
DTSTAMP:20260420T093922
CREATED:20240329T213906Z
LAST-MODIFIED:20240329T213906Z
UID:26024-1713456000-1713459600@hdpusergroup.org
SUMMARY:Idea discussion: Glass substrates for IC packages
DESCRIPTION:Idea discussion: Glass substrates for IC packages 
URL:https://hdpusergroup.org/event/idea-discussion-glass-substrates-for-ic-packages-2/
CATEGORIES:Staff Calendar
ORGANIZER;CN=HDP:mailto:webmaster@hdpug.org
END:VEVENT
END:VCALENDAR