BEGIN:VCALENDAR
VERSION:2.0
PRODID:-//HDP User Group - ECPv6.10.1.1//NONSGML v1.0//EN
CALSCALE:GREGORIAN
METHOD:PUBLISH
X-ORIGINAL-URL:https://hdpusergroup.org
X-WR-CALDESC:Events for HDP User Group
REFRESH-INTERVAL;VALUE=DURATION:PT1H
X-Robots-Tag:noindex
X-PUBLISHED-TTL:PT1H
BEGIN:VTIMEZONE
TZID:America/Chicago
BEGIN:DAYLIGHT
TZOFFSETFROM:-0600
TZOFFSETTO:-0500
TZNAME:CDT
DTSTART:20240310T080000
END:DAYLIGHT
BEGIN:STANDARD
TZOFFSETFROM:-0500
TZOFFSETTO:-0600
TZNAME:CST
DTSTART:20241103T070000
END:STANDARD
END:VTIMEZONE
BEGIN:VEVENT
DTSTART:20240304T160000Z
DTEND:20240304T170000Z
DTSTAMP:20260420T092521
CREATED:20240219T170817Z
LAST-MODIFIED:20240219T170817Z
UID:25692-1709546400-1709550000@hdpusergroup.org
SUMMARY:Final Finish Layer Deposits for High Frequency
DESCRIPTION:Final Finish Layer Deposits for High Frequency 
URL:https://hdpusergroup.org/event/final-finish-layer-deposits-for-high-frequency-42/
CATEGORIES:Final Finish Layer Deposits for High Frequency
ORGANIZER;CN=HDP:mailto:webmaster@hdpug.org
END:VEVENT
BEGIN:VEVENT
DTSTART:20240305T000000Z
DTEND:20240305T010000Z
DTSTAMP:20260420T092521
CREATED:20240310T164841Z
LAST-MODIFIED:20240310T164841Z
UID:25659-1709575200-1709578800@hdpusergroup.org
SUMMARY:Porosity
DESCRIPTION:Viable project or not? 
URL:https://hdpusergroup.org/event/porosity-3/
CATEGORIES:Porosity Testing
ORGANIZER;CN=HDP:mailto:webmaster@hdpug.org
END:VEVENT
BEGIN:VEVENT
DTSTART:20240305T160000Z
DTEND:20240305T170000Z
DTSTAMP:20260420T092521
CREATED:20240213T165839Z
LAST-MODIFIED:20240213T165839Z
UID:25656-1709632800-1709636400@hdpusergroup.org
SUMMARY:Single Surface Finish 2 meeting
DESCRIPTION:Meeting 
URL:https://hdpusergroup.org/event/single-surface-finish-2-meeting-7/
CATEGORIES:Single PCB Surface Finish for Soldered & Compression Contact Pads – 2
ORGANIZER;CN=HDP:mailto:webmaster@hdpug.org
END:VEVENT
BEGIN:VEVENT
DTSTART:20240305T180000Z
DTEND:20240305T190000Z
DTSTAMP:20260420T092521
CREATED:20240206T182331Z
LAST-MODIFIED:20240206T182331Z
UID:25527-1709640000-1709643600@hdpusergroup.org
SUMMARY:HDP Harsh USe Alloy Evaluations Project Call
DESCRIPTION:Periodic Project Call 
URL:https://hdpusergroup.org/event/hdp-harsh-use-alloy-evaluations-project-call-6/
CATEGORIES:Harsh Use Alloy Evaluation 2
ORGANIZER;CN=HDP:mailto:webmaster@hdpug.org
END:VEVENT
BEGIN:VEVENT
DTSTART:20240306T150000Z
DTEND:20240306T160000Z
DTSTAMP:20260420T092521
CREATED:20240131T153011Z
LAST-MODIFIED:20240131T153011Z
UID:25416-1709715600-1709719200@hdpusergroup.org
SUMMARY:Reflow Cycle Via Reliability Impact Project Call
DESCRIPTION:Reflow Cycle Via Reliability Impact Project Call 
URL:https://hdpusergroup.org/event/reflow-cycle-via-reliability-impact-project-call-6/
CATEGORIES:Reflow Cycle Via Reliability Impact
ORGANIZER;CN=HDP:mailto:webmaster@hdpug.org
END:VEVENT
BEGIN:VEVENT
DTSTART:20240306T160000Z
DTEND:20240306T170000Z
DTSTAMP:20260420T092521
CREATED:20240202T154816Z
LAST-MODIFIED:20240202T154816Z
UID:25423-1709719200-1709722800@hdpusergroup.org
SUMMARY:Effects of Plating Thickness on CTF at IST Phase 2 Project Call
DESCRIPTION:Effects of Plating Thickness on CTF at IST Phase 2 Project Call 
URL:https://hdpusergroup.org/event/effects-of-plating-thickness-on-ctf-at-ist-phase-2-project-call-8/
CATEGORIES:Effects of Plating Thickness on CTF at IST Phase 2
ORGANIZER;CN=HDP:mailto:webmaster@hdpug.org
END:VEVENT
BEGIN:VEVENT
DTSTART:20240306T170000Z
DTEND:20240306T180000Z
DTSTAMP:20260420T092521
CREATED:20240222T165519Z
LAST-MODIFIED:20240222T165519Z
UID:25694-1709722800-1709726400@hdpusergroup.org
SUMMARY:Sequential Lamination Mtg
DESCRIPTION:Meeting 
URL:https://hdpusergroup.org/event/sequential-lamination-mtg-4/
CATEGORIES:Sequential Lamination
ORGANIZER;CN=HDP:mailto:webmaster@hdpug.org
END:VEVENT
BEGIN:VEVENT
DTSTART:20240306T190000Z
DTEND:20240306T200000Z
DTSTAMP:20260420T092521
CREATED:20240215T195901Z
LAST-MODIFIED:20240215T195901Z
UID:25675-1709730000-1709733600@hdpusergroup.org
SUMMARY:PFAS Discussion
DESCRIPTION:Discussion Meeting 
URL:https://hdpusergroup.org/event/pfas-discussion-2/
CATEGORIES:Staff Calendar
ORGANIZER;CN=HDP:mailto:webmaster@hdpug.org
END:VEVENT
BEGIN:VEVENT
DTSTART:20240306T200000Z
DTEND:20240306T210000Z
DTSTAMP:20260420T092521
CREATED:20240304T204110Z
LAST-MODIFIED:20240304T204110Z
UID:25807-1709733600-1709737200@hdpusergroup.org
SUMMARY:Discussion on Packaging
DESCRIPTION:Discussion with Larry Smith on Adv Packaging 
URL:https://hdpusergroup.org/event/discussion-on-packaging/
CATEGORIES:Staff Calendar
ORGANIZER;CN=HDP:mailto:webmaster@hdpug.org
END:VEVENT
BEGIN:VEVENT
DTSTART:20240307T140000Z
DTEND:20240307T150000Z
DTSTAMP:20260420T092521
CREATED:20240208T141457Z
LAST-MODIFIED:20240208T141457Z
UID:25591-1709798400-1709802000@hdpusergroup.org
SUMMARY:Better CAF Eq
DESCRIPTION:Updates from Jason and Hubert. 
URL:https://hdpusergroup.org/event/better-caf-eq-36/
CATEGORIES:Better CAF Acceleration Equation
ORGANIZER;CN=HDP:mailto:webmaster@hdpug.org
END:VEVENT
BEGIN:VEVENT
DTSTART:20240307T150000Z
DTEND:20240307T160000Z
DTSTAMP:20260420T092521
CREATED:20240207T211421Z
LAST-MODIFIED:20240207T211421Z
UID:25580-1709802000-1709805600@hdpusergroup.org
SUMMARY:SIR Testing meeting
DESCRIPTION:Meeting 
URL:https://hdpusergroup.org/event/sir-testing-meeting-18/
CATEGORIES:Surface Insulation Resistance (SIR) Testing the Next Evolution
ORGANIZER;CN=HDP:mailto:webmaster@hdpug.org
END:VEVENT
BEGIN:VEVENT
DTSTART:20240307T160000Z
DTEND:20240307T170000Z
DTSTAMP:20260420T092521
CREATED:20240207T152705Z
LAST-MODIFIED:20240207T152705Z
UID:25570-1709805600-1709809200@hdpusergroup.org
SUMMARY:Materials #7 meeting
DESCRIPTION:Meeting 
URL:https://hdpusergroup.org/event/materials-7-meeting-27/
CATEGORIES:Materials #7
ORGANIZER;CN=HDP:mailto:webmaster@hdpug.org
END:VEVENT
BEGIN:VEVENT
DTSTART:20240307T170000Z
DTEND:20240307T180000Z
DTSTAMP:20260420T092521
CREATED:20240126T165614Z
LAST-MODIFIED:20240126T165614Z
UID:25399-1709809200-1709812800@hdpusergroup.org
SUMMARY:Inner Layer Copper Balancing Project 1 and 2
DESCRIPTION:Project Meeting - WebEx 
URL:https://hdpusergroup.org/event/inner-layer-copper-balancing-project-1-and-2/
CATEGORIES:Inner Layer Copper Balancing 2
ORGANIZER;CN=HDP:mailto:webmaster@hdpug.org
END:VEVENT
BEGIN:VEVENT
DTSTART:20240307T180000Z
DTEND:20240307T190000Z
DTSTAMP:20260420T092521
CREATED:20240304T140904Z
LAST-MODIFIED:20240304T140904Z
UID:25780-1709812800-1709816400@hdpusergroup.org
SUMMARY:Meeting with Karl on 2024 Objectives
DESCRIPTION:2024 Contract 
URL:https://hdpusergroup.org/event/meeting-with-karl-on-2024-objectives/
CATEGORIES:Staff Calendar
ORGANIZER;CN=HDP:mailto:webmaster@hdpug.org
END:VEVENT
END:VCALENDAR