BEGIN:VCALENDAR
VERSION:2.0
PRODID:-//HDP User Group - ECPv6.10.1.1//NONSGML v1.0//EN
CALSCALE:GREGORIAN
METHOD:PUBLISH
X-ORIGINAL-URL:https://hdpusergroup.org
X-WR-CALDESC:Events for HDP User Group
REFRESH-INTERVAL;VALUE=DURATION:PT1H
X-Robots-Tag:noindex
X-PUBLISHED-TTL:PT1H
BEGIN:VTIMEZONE
TZID:America/Chicago
BEGIN:DAYLIGHT
TZOFFSETFROM:-0600
TZOFFSETTO:-0500
TZNAME:CDT
DTSTART:20240310T080000
END:DAYLIGHT
BEGIN:STANDARD
TZOFFSETFROM:-0500
TZOFFSETTO:-0600
TZNAME:CST
DTSTART:20241103T070000
END:STANDARD
END:VTIMEZONE
BEGIN:VEVENT
DTSTART:20240122T160000Z
DTEND:20240122T170000Z
DTSTAMP:20260420T165054
CREATED:20240108T170326Z
LAST-MODIFIED:20240108T170326Z
UID:25122-1705917600-1705921200@hdpusergroup.org
SUMMARY:Final Finish Layer Deposits for High Frequency
DESCRIPTION:Final Finish Layer Deposits for High Frequency 
URL:https://hdpusergroup.org/event/final-finish-layer-deposits-for-high-frequency-39/
CATEGORIES:Final Finish Layer Deposits for High Frequency
ORGANIZER;CN=HDP:mailto:webmaster@hdpug.org
END:VEVENT
BEGIN:VEVENT
DTSTART:20240124T150000Z
DTEND:20240124T160000Z
DTSTAMP:20260420T165054
CREATED:20240111T152621Z
LAST-MODIFIED:20240111T152621Z
UID:25166-1706086800-1706090400@hdpusergroup.org
SUMMARY:ECM-3 Meeting
DESCRIPTION:Meeting 
URL:https://hdpusergroup.org/event/ecm-3-meeting-19/
CATEGORIES:ECM 3
ORGANIZER;CN=HDP:mailto:webmaster@hdpug.org
END:VEVENT
BEGIN:VEVENT
DTSTART:20240124T170000Z
DTEND:20240124T180000Z
DTSTAMP:20260420T165054
CREATED:20240103T162750Z
LAST-MODIFIED:20240103T162750Z
UID:25116-1706094000-1706097600@hdpusergroup.org
SUMMARY:Materials #7 meeting
DESCRIPTION:Meeting 
URL:https://hdpusergroup.org/event/materials-7-meeting-25/
CATEGORIES:Materials #7
ORGANIZER;CN=HDP:mailto:webmaster@hdpug.org
END:VEVENT
BEGIN:VEVENT
DTSTART:20240124T180000Z
DTEND:20240124T190000Z
DTSTAMP:20260420T165054
CREATED:20240110T211815Z
LAST-MODIFIED:20240110T211815Z
UID:25156-1706097600-1706101200@hdpusergroup.org
SUMMARY:Photonic Soldering 2
DESCRIPTION:Progress on drop testing \nStatus on ATC  
URL:https://hdpusergroup.org/event/photonic-soldering-2-17/
CATEGORIES:Photonic Soldering 2
ORGANIZER;CN=HDP:mailto:webmaster@hdpug.org
END:VEVENT
BEGIN:VEVENT
DTSTART:20240124T210000Z
DTEND:20240124T220000Z
DTSTAMP:20260420T165054
CREATED:20240123T152921Z
LAST-MODIFIED:20240123T152921Z
UID:25320-1706108400-1706112000@hdpusergroup.org
SUMMARY:IPC Discussion
DESCRIPTION:Call to discuss HDP project for standards data 
URL:https://hdpusergroup.org/event/ipc-discussion-4/
CATEGORIES:Staff Calendar
ORGANIZER;CN=HDP:mailto:webmaster@hdpug.org
END:VEVENT
BEGIN:VEVENT
DTSTART:20240125T160000Z
DTEND:20240125T170000Z
DTSTAMP:20260420T165054
CREATED:20240110T165206Z
LAST-MODIFIED:20240110T165206Z
UID:25151-1706176800-1706180400@hdpusergroup.org
SUMMARY:Sequential Lamination Mtg
DESCRIPTION:Meeting 
URL:https://hdpusergroup.org/event/sequential-lamination-mtg/
CATEGORIES:Sequential Lamination
ORGANIZER;CN=HDP:mailto:webmaster@hdpug.org
END:VEVENT
BEGIN:VEVENT
DTSTART:20240125T170000Z
DTEND:20240125T180000Z
DTSTAMP:20260420T165054
CREATED:20240119T234835Z
LAST-MODIFIED:20240119T234835Z
UID:25153-1706180400-1706184000@hdpusergroup.org
SUMMARY:Inner Layer Copper Balancing Project 1 and 2
DESCRIPTION:Project Meeting 
URL:https://hdpusergroup.org/event/inner-layer-copper-balancing-project/
CATEGORIES:Inner Layer Copper Balancing 2
ORGANIZER;CN=HDP:mailto:webmaster@hdpug.org
END:VEVENT
END:VCALENDAR