BEGIN:VCALENDAR
VERSION:2.0
PRODID:-//HDP User Group - ECPv6.10.1.1//NONSGML v1.0//EN
CALSCALE:GREGORIAN
METHOD:PUBLISH
X-ORIGINAL-URL:https://hdpusergroup.org
X-WR-CALDESC:Events for HDP User Group
REFRESH-INTERVAL;VALUE=DURATION:PT1H
X-Robots-Tag:noindex
X-PUBLISHED-TTL:PT1H
BEGIN:VTIMEZONE
TZID:America/Chicago
BEGIN:DAYLIGHT
TZOFFSETFROM:-0600
TZOFFSETTO:-0500
TZNAME:CDT
DTSTART:20230312T080000
END:DAYLIGHT
BEGIN:STANDARD
TZOFFSETFROM:-0500
TZOFFSETTO:-0600
TZNAME:CST
DTSTART:20231105T070000
END:STANDARD
END:VTIMEZONE
BEGIN:VEVENT
DTSTART:20231205T170000Z
DTEND:20231205T180000Z
DTSTAMP:20260420T160849
CREATED:20231108T210927Z
LAST-MODIFIED:20231108T210927Z
UID:24958-1701774000-1701777600@hdpusergroup.org
SUMMARY:Copper Surface Roughness Model
DESCRIPTION:Discuss latest results from peel strength tests 
URL:https://hdpusergroup.org/event/copper-surface-roughness-model-9/
CATEGORIES:Cu Surface Rougness Model
ORGANIZER;CN=HDP:mailto:webmaster@hdpug.org
END:VEVENT
BEGIN:VEVENT
DTSTART:20231206T160000Z
DTEND:20231206T170000Z
DTSTAMP:20260420T160849
CREATED:20231108T170244Z
LAST-MODIFIED:20231108T170244Z
UID:24956-1701856800-1701860400@hdpusergroup.org
SUMMARY:Sequential Lamination
DESCRIPTION:Meeting 
URL:https://hdpusergroup.org/event/sequential-lamination-11/
CATEGORIES:Sequential Lamination
ORGANIZER;CN=HDP:mailto:webmaster@hdpug.org
END:VEVENT
BEGIN:VEVENT
DTSTART:20231206T170000Z
DTEND:20231206T180000Z
DTSTAMP:20260420T160849
CREATED:20231108T210256Z
LAST-MODIFIED:20231108T210256Z
UID:24957-1701860400-1701864000@hdpusergroup.org
SUMMARY:Glass Type Comparison
DESCRIPTION:REview latest results ofm the different glass styles 
URL:https://hdpusergroup.org/event/glass-type-comparison-8/
CATEGORIES:Glass Type Composition
ORGANIZER;CN=HDP:mailto:webmaster@hdpug.org
END:VEVENT
BEGIN:VEVENT
DTSTART:20231207T160000Z
DTEND:20231207T170000Z
DTSTAMP:20260420T160849
CREATED:20231114T203640Z
LAST-MODIFIED:20231114T203640Z
UID:24903-1701943200-1701946800@hdpusergroup.org
SUMMARY:Single Surface Finish 2 meeting
DESCRIPTION:Meeting 
URL:https://hdpusergroup.org/event/single-surface-finish-2-meeting-2/
CATEGORIES:Single PCB Surface Finish for Soldered & Compression Contact Pads – 2
ORGANIZER;CN=HDP:mailto:webmaster@hdpug.org
END:VEVENT
BEGIN:VEVENT
DTSTART:20231207T210000Z
DTEND:20231207T220000Z
DTSTAMP:20260420T160849
CREATED:20231207T161639Z
LAST-MODIFIED:20231207T161639Z
UID:25071-1701961200-1701964800@hdpusergroup.org
SUMMARY:Call to discuss AMD
DESCRIPTION:AMD Discussion 
URL:https://hdpusergroup.org/event/call-to-discuss-amd/
CATEGORIES:Staff Calendar
ORGANIZER;CN=HDP:mailto:webmaster@hdpug.org
END:VEVENT
END:VCALENDAR