BEGIN:VCALENDAR
VERSION:2.0
PRODID:-//HDP User Group - ECPv6.10.1.1//NONSGML v1.0//EN
CALSCALE:GREGORIAN
METHOD:PUBLISH
X-ORIGINAL-URL:https://hdpusergroup.org
X-WR-CALDESC:Events for HDP User Group
REFRESH-INTERVAL;VALUE=DURATION:PT1H
X-Robots-Tag:noindex
X-PUBLISHED-TTL:PT1H
BEGIN:VTIMEZONE
TZID:America/Chicago
BEGIN:DAYLIGHT
TZOFFSETFROM:-0600
TZOFFSETTO:-0500
TZNAME:CDT
DTSTART:20230312T080000
END:DAYLIGHT
BEGIN:STANDARD
TZOFFSETFROM:-0500
TZOFFSETTO:-0600
TZNAME:CST
DTSTART:20231105T070000
END:STANDARD
END:VTIMEZONE
BEGIN:VEVENT
DTSTART:20231106T160000Z
DTEND:20231106T170000Z
DTSTAMP:20260420T160752
CREATED:20231016T152842Z
LAST-MODIFIED:20231016T152842Z
UID:24878-1699264800-1699268400@hdpusergroup.org
SUMMARY:Final Finish Layer Deposits for High Frequency
DESCRIPTION:Final Finish Layer Deposits for High Frequency 
URL:https://hdpusergroup.org/event/final-finish-layer-deposits-for-high-frequency-35/
CATEGORIES:Final Finish Layer Deposits for High Frequency
END:VEVENT
BEGIN:VEVENT
DTSTART:20231106T160000Z
DTEND:20231106T170000Z
DTSTAMP:20260420T160752
CREATED:20231016T153705Z
LAST-MODIFIED:20231016T153705Z
UID:24879-1699264800-1699268400@hdpusergroup.org
SUMMARY:Final Finish Layer Deposits for High Frequency
DESCRIPTION:Final Finish Layer Deposits for High Frequency 
URL:https://hdpusergroup.org/event/final-finish-layer-deposits-for-high-frequency-36/
CATEGORIES:Final Finish Layer Deposits for High Frequency
ORGANIZER;CN=HDP:mailto:webmaster@hdpug.org
END:VEVENT
BEGIN:VEVENT
DTSTART:20231107T170000Z
DTEND:20231107T180000Z
DTSTAMP:20260420T160752
CREATED:20231107T154734Z
LAST-MODIFIED:20231107T154734Z
UID:24822-1699354800-1699358400@hdpusergroup.org
SUMMARY:Copper Surface Roughness Model
DESCRIPTION:Using the Hurray Model to predict signal loss 
URL:https://hdpusergroup.org/event/copper-surface-roughness-model-8/
CATEGORIES:Cu Surface Rougness Model
ORGANIZER;CN=HDP:mailto:webmaster@hdpug.org
END:VEVENT
BEGIN:VEVENT
DTSTART:20231108T160000Z
DTEND:20231108T170000Z
DTSTAMP:20260420T160752
CREATED:20231004T160224Z
LAST-MODIFIED:20231004T160224Z
UID:24817-1699437600-1699441200@hdpusergroup.org
SUMMARY:Sequential Lamination
DESCRIPTION:Meeting 
URL:https://hdpusergroup.org/event/sequential-lamination-9/
CATEGORIES:Sequential Lamination
ORGANIZER;CN=HDP:mailto:webmaster@hdpug.org
END:VEVENT
BEGIN:VEVENT
DTSTART:20231108T170000Z
DTEND:20231108T180000Z
DTSTAMP:20260420T160752
CREATED:20230927T175902Z
LAST-MODIFIED:20230927T175902Z
UID:24796-1699441200-1699444800@hdpusergroup.org
SUMMARY:Glass TYpe Comparison
DESCRIPTION:Glass type comparison reliability 
URL:https://hdpusergroup.org/event/glass-type-comparison-7/
CATEGORIES:Glass Type Composition
ORGANIZER;CN=HDP:mailto:webmaster@hdpug.org
END:VEVENT
BEGIN:VEVENT
DTSTART:20231109T150000Z
DTEND:20231109T160000Z
DTSTAMP:20260420T160752
CREATED:20230928T144428Z
LAST-MODIFIED:20230928T144428Z
UID:24800-1699520400-1699524000@hdpusergroup.org
SUMMARY:Better CAF Eq
DESCRIPTION:Updates from Jason and Hubert. \nDisucss possiblity of additional testing 
URL:https://hdpusergroup.org/event/better-caf-eq-32/
CATEGORIES:Better CAF Acceleration Equation
ORGANIZER;CN=HDP:mailto:webmaster@hdpug.org
END:VEVENT
BEGIN:VEVENT
DTSTART:20231110T030000Z
DTEND:20231110T040000Z
DTSTAMP:20260420T160752
CREATED:20231107T085148Z
LAST-MODIFIED:20231107T085148Z
UID:24951-1699563600-1699567200@hdpusergroup.org
SUMMARY:SCC and HDP Introductory Meeting
DESCRIPTION:SCC and HDP Introductory Meeting 
URL:https://hdpusergroup.org/event/scc-and-hdp-introductory-meeting/
CATEGORIES:Staff Calendar
ORGANIZER;CN=HDP:mailto:webmaster@hdpug.org
END:VEVENT
END:VCALENDAR