BEGIN:VCALENDAR
VERSION:2.0
PRODID:-//HDP User Group - ECPv6.10.1.1//NONSGML v1.0//EN
CALSCALE:GREGORIAN
METHOD:PUBLISH
X-ORIGINAL-URL:https://hdpusergroup.org
X-WR-CALDESC:Events for HDP User Group
REFRESH-INTERVAL;VALUE=DURATION:PT1H
X-Robots-Tag:noindex
X-PUBLISHED-TTL:PT1H
BEGIN:VTIMEZONE
TZID:America/Chicago
BEGIN:DAYLIGHT
TZOFFSETFROM:-0600
TZOFFSETTO:-0500
TZNAME:CDT
DTSTART:20230312T080000
END:DAYLIGHT
BEGIN:STANDARD
TZOFFSETFROM:-0500
TZOFFSETTO:-0600
TZNAME:CST
DTSTART:20231105T070000
END:STANDARD
END:VTIMEZONE
BEGIN:VEVENT
DTSTART:20231023T190000Z
DTEND:20231023T200000Z
DTSTAMP:20260420T175711
CREATED:20231020T183851Z
LAST-MODIFIED:20231020T183851Z
UID:24892-1698069600-1698073200@hdpusergroup.org
SUMMARY:Karl Training session
DESCRIPTION:Facilitator training session 
URL:https://hdpusergroup.org/event/karl-training-session/
CATEGORIES:Staff Calendar
ORGANIZER;CN=HDP:mailto:webmaster@hdpug.org
END:VEVENT
BEGIN:VEVENT
DTSTART:20231025T150000Z
DTEND:20231025T160000Z
DTSTAMP:20260420T175711
CREATED:20230927T161110Z
LAST-MODIFIED:20230927T161110Z
UID:24795-1698228000-1698231600@hdpusergroup.org
SUMMARY:Single Surface Finish 2 meeting
DESCRIPTION:Meeting 
URL:https://hdpusergroup.org/event/single-surface-finish-2-meeting/
CATEGORIES:Single Surface Finish for Soldered & Compression
ORGANIZER;CN=HDP:mailto:webmaster@hdpug.org
END:VEVENT
BEGIN:VEVENT
DTSTART:20231025T190000Z
DTEND:20231025T200000Z
DTSTAMP:20260420T175711
CREATED:20231011T194602Z
LAST-MODIFIED:20231011T194602Z
UID:24865-1698242400-1698246000@hdpusergroup.org
SUMMARY:Non-Glass Microvia Buildups
DESCRIPTION:Final steps before Imp?  Review what we have agreed to.  Anything not defined?  Action itemsm in place with responsible parties?  Review HDP checklist. 
URL:https://hdpusergroup.org/event/non-glass-microvia-buildups-5/
CATEGORIES:Non-Glass Microvia Build-ups
ORGANIZER;CN=HDP:mailto:webmaster@hdpug.org
END:VEVENT
BEGIN:VEVENT
DTSTART:20231026T150000Z
DTEND:20231026T160000Z
DTSTAMP:20260420T175711
CREATED:20230924T221220Z
LAST-MODIFIED:20230924T221220Z
UID:24767-1698314400-1698318000@hdpusergroup.org
SUMMARY:Materials #7 meeting
DESCRIPTION:Meeting 
URL:https://hdpusergroup.org/event/materials-7-meeting-22/
CATEGORIES:Materials #7
ORGANIZER;CN=HDP:mailto:webmaster@hdpug.org
END:VEVENT
BEGIN:VEVENT
DTSTART:20231026T160000Z
DTEND:20231026T170000Z
DTSTAMP:20260420T175711
CREATED:20230927T141950Z
LAST-MODIFIED:20230927T141950Z
UID:24790-1698318000-1698321600@hdpusergroup.org
SUMMARY:Inner Layer Cu Balancing phase 1 & 2
DESCRIPTION:Review data and project update 
URL:https://hdpusergroup.org/event/inner-layer-cu-balancing-phase-1-2/
CATEGORIES:Local Copper Density
ORGANIZER;CN=HDP:mailto:webmaster@hdpug.org
END:VEVENT
END:VCALENDAR