BEGIN:VCALENDAR
VERSION:2.0
PRODID:-//HDP User Group - ECPv6.10.1.1//NONSGML v1.0//EN
CALSCALE:GREGORIAN
METHOD:PUBLISH
X-ORIGINAL-URL:https://hdpusergroup.org
X-WR-CALDESC:Events for HDP User Group
REFRESH-INTERVAL;VALUE=DURATION:PT1H
X-Robots-Tag:noindex
X-PUBLISHED-TTL:PT1H
BEGIN:VTIMEZONE
TZID:America/Chicago
BEGIN:DAYLIGHT
TZOFFSETFROM:-0600
TZOFFSETTO:-0500
TZNAME:CDT
DTSTART:20230312T080000
END:DAYLIGHT
BEGIN:STANDARD
TZOFFSETFROM:-0500
TZOFFSETTO:-0600
TZNAME:CST
DTSTART:20231105T070000
END:STANDARD
END:VTIMEZONE
BEGIN:VEVENT
DTSTART:20231002T150000Z
DTEND:20231002T160000Z
DTSTAMP:20260420T175707
CREATED:20230911T152938Z
LAST-MODIFIED:20230911T152938Z
UID:24706-1696240800-1696244400@hdpusergroup.org
SUMMARY:Final Finish Layer Deposits for High Frequency
DESCRIPTION:Final Finish Layer Deposits for High Frequemcy 
URL:https://hdpusergroup.org/event/final-finish-layer-deposits-for-high-frequency-33/
CATEGORIES:Final Finish Layer Deposits for High Frequency
ORGANIZER;CN=HDP:mailto:webmaster@hdpug.org
END:VEVENT
BEGIN:VEVENT
DTSTART:20231003T160000Z
DTEND:20231003T170000Z
DTSTAMP:20260420T175707
CREATED:20230919T162050Z
LAST-MODIFIED:20230919T162050Z
UID:24750-1696330800-1696334400@hdpusergroup.org
SUMMARY:Copper Surface Roughness Model
DESCRIPTION:Surface roughness modeling of copper surface treatments as a prelude to SI. 
URL:https://hdpusergroup.org/event/copper-surface-roughness-model-7/
CATEGORIES:Cu Surface Rougness Model
ORGANIZER;CN=HDP:mailto:webmaster@hdpug.org
END:VEVENT
BEGIN:VEVENT
DTSTART:20231004T140000Z
DTEND:20231004T150000Z
DTSTAMP:20260420T175707
CREATED:20230906T142815Z
LAST-MODIFIED:20230906T142815Z
UID:24688-1696410000-1696413600@hdpusergroup.org
SUMMARY:Microvia Rel
DESCRIPTION:Updates from Jason and Kevin \nWork on presentation for Members' Meeting 
URL:https://hdpusergroup.org/event/microvia-rel-38/
CATEGORIES:Microvia Reliability
ORGANIZER;CN=HDP:mailto:webmaster@hdpug.org
END:VEVENT
BEGIN:VEVENT
DTSTART:20231004T150000Z
DTEND:20231004T160000Z
DTSTAMP:20260420T175707
CREATED:20230913T160207Z
LAST-MODIFIED:20230913T160207Z
UID:24715-1696413600-1696417200@hdpusergroup.org
SUMMARY:Sequential Lamination
DESCRIPTION:Meeting 
URL:https://hdpusergroup.org/event/sequential-lamination-8/
CATEGORIES:Sequential Lamination
ORGANIZER;CN=HDP:mailto:webmaster@hdpug.org
END:VEVENT
BEGIN:VEVENT
DTSTART:20231005T150000Z
DTEND:20231005T160000Z
DTSTAMP:20260420T175707
CREATED:20230920T003343Z
LAST-MODIFIED:20230920T003343Z
UID:24689-1696500000-1696503600@hdpusergroup.org
SUMMARY:ECM-3 Meeting
DESCRIPTION:Meeting 
URL:https://hdpusergroup.org/event/ecm-3-meeting-14/
CATEGORIES:ECM 3
ORGANIZER;CN=HDP:mailto:webmaster@hdpug.org
END:VEVENT
END:VCALENDAR