BEGIN:VCALENDAR
VERSION:2.0
PRODID:-//HDP User Group - ECPv6.10.1.1//NONSGML v1.0//EN
CALSCALE:GREGORIAN
METHOD:PUBLISH
X-ORIGINAL-URL:https://hdpusergroup.org
X-WR-CALDESC:Events for HDP User Group
REFRESH-INTERVAL;VALUE=DURATION:PT1H
X-Robots-Tag:noindex
X-PUBLISHED-TTL:PT1H
BEGIN:VTIMEZONE
TZID:America/Chicago
BEGIN:DAYLIGHT
TZOFFSETFROM:-0600
TZOFFSETTO:-0500
TZNAME:CDT
DTSTART:20230312T080000
END:DAYLIGHT
BEGIN:STANDARD
TZOFFSETFROM:-0500
TZOFFSETTO:-0600
TZNAME:CST
DTSTART:20231105T070000
END:STANDARD
END:VTIMEZONE
BEGIN:VEVENT
DTSTART:20230821T150000Z
DTEND:20230821T160000Z
DTSTAMP:20260420T231252
CREATED:20230807T153141Z
LAST-MODIFIED:20230807T153141Z
UID:24446-1692612000-1692615600@hdpusergroup.org
SUMMARY:Final Finish Layer Deposits for High Frequency
DESCRIPTION:Final Finish Layer Deposits for High Frequency 
URL:https://hdpusergroup.org/event/final-finish-layer-deposits-for-high-frequency-28/
CATEGORIES:Final Finish Layer Deposits for High Frequency
ORGANIZER;CN=HDP:mailto:webmaster@hdpug.org
END:VEVENT
BEGIN:VEVENT
DTSTART:20230821T150000Z
DTEND:20230821T160000Z
DTSTAMP:20260420T231252
CREATED:20230807T153522Z
LAST-MODIFIED:20230807T153522Z
UID:24447-1692612000-1692615600@hdpusergroup.org
SUMMARY:Final Finish Layer Deposits for High Frequency
DESCRIPTION:Final Finish Layer Deposits for High Frequency 
URL:https://hdpusergroup.org/event/final-finish-layer-deposits-for-high-frequency-29/
CATEGORIES:Final Finish Layer Deposits for High Frequency
ORGANIZER;CN=HDP:mailto:webmaster@hdpug.org
END:VEVENT
BEGIN:VEVENT
DTSTART:20230821T150000Z
DTEND:20230821T160000Z
DTSTAMP:20260420T231252
CREATED:20230808T020423Z
LAST-MODIFIED:20230808T020423Z
UID:24448-1692612000-1692615600@hdpusergroup.org
SUMMARY:Final Finish Layer Deposits for High Frequency
DESCRIPTION:Final Finish Layer Deposits for High Frequency 
URL:https://hdpusergroup.org/event/final-finish-layer-deposits-for-high-frequency-30/
CATEGORIES:Final Finish Layer Deposits for High Frequency
ORGANIZER;CN=HDP:mailto:webmaster@hdpug.org
END:VEVENT
BEGIN:VEVENT
DTSTART:20230821T150000Z
DTEND:20230821T160000Z
DTSTAMP:20260420T231252
CREATED:20230808T133856Z
LAST-MODIFIED:20230808T133856Z
UID:24453-1692612000-1692615600@hdpusergroup.org
SUMMARY:Final Finish Layer Deposits for High Frequency
DESCRIPTION:Final Finish Layer Deposits for High Frequency 
URL:https://hdpusergroup.org/event/final-finish-layer-deposits-for-high-frequency-31/
CATEGORIES:Final Finish Layer Deposits for High Frequency
ORGANIZER;CN=HDP:mailto:webmaster@hdpug.org
END:VEVENT
BEGIN:VEVENT
DTSTART:20230822T170000Z
DTEND:20230822T180000Z
DTSTAMP:20260420T231252
CREATED:20230731T195715Z
LAST-MODIFIED:20230731T195715Z
UID:24431-1692705600-1692709200@hdpusergroup.org
SUMMARY:HDP Harsh USe Alloy Projects Call
DESCRIPTION:Periodic Project Call 
URL:https://hdpusergroup.org/event/hdp-harsh-use-alloy-projects-call/
CATEGORIES:Harsh Use Alloy Evaluation 2
ORGANIZER;CN=HDP:mailto:webmaster@hdpug.org
END:VEVENT
BEGIN:VEVENT
DTSTART:20230823T150000Z
DTEND:20230823T160000Z
DTSTAMP:20260420T231252
CREATED:20230726T153115Z
LAST-MODIFIED:20230726T153115Z
UID:24412-1692784800-1692788400@hdpusergroup.org
SUMMARY:Materials #7 meeting
DESCRIPTION:Meeting 
URL:https://hdpusergroup.org/event/materials-7-meeting-20/
CATEGORIES:Materials #7
ORGANIZER;CN=HDP:mailto:webmaster@hdpug.org
END:VEVENT
BEGIN:VEVENT
DTSTART:20230823T170000Z
DTEND:20230823T180000Z
DTSTAMP:20260420T231252
CREATED:20230814T181934Z
LAST-MODIFIED:20230814T181934Z
UID:24384-1692792000-1692795600@hdpusergroup.org
SUMMARY:TA Method
DESCRIPTION:Review progress on final report. \nReview proposed abstract for IPC APEX 2024 \nCritique Bev’s proposed mini-presentation on the project to be given at a one day SMTA Toronto event Oct 16th. 
URL:https://hdpusergroup.org/event/ta-method-16/
CATEGORIES:Thermal Analysis Methodolgy Assessment
ORGANIZER;CN=HDP:mailto:webmaster@hdpug.org
END:VEVENT
BEGIN:VEVENT
DTSTART:20230824T200000Z
DTEND:20230824T210000Z
DTSTAMP:20260420T231252
CREATED:20230810T204750Z
LAST-MODIFIED:20230810T204750Z
UID:24466-1692889200-1692892800@hdpusergroup.org
SUMMARY:Photonic Soldering 2
DESCRIPTION:Progress on rel testing 
URL:https://hdpusergroup.org/event/photonic-soldering-2-10/
CATEGORIES:Photonic Soldering 2
ORGANIZER;CN=HDP:mailto:webmaster@hdpug.org
END:VEVENT
BEGIN:VEVENT
DTSTART:20230825T140000Z
DTEND:20230825T150000Z
DTSTAMP:20260420T231252
CREATED:20230818T145711Z
LAST-MODIFIED:20230818T145711Z
UID:24520-1692954000-1692957600@hdpusergroup.org
SUMMARY:CAF Eq
DESCRIPTION:Testing update \nTalk about possiblity of additional testing 
URL:https://hdpusergroup.org/event/caf-eq-5/
CATEGORIES:Better CAF Acceleration Equation
ORGANIZER;CN=HDP:mailto:webmaster@hdpug.org
END:VEVENT
END:VCALENDAR