BEGIN:VCALENDAR
VERSION:2.0
PRODID:-//HDP User Group - ECPv6.10.1.1//NONSGML v1.0//EN
CALSCALE:GREGORIAN
METHOD:PUBLISH
X-ORIGINAL-URL:https://hdpusergroup.org
X-WR-CALDESC:Events for HDP User Group
REFRESH-INTERVAL;VALUE=DURATION:PT1H
X-Robots-Tag:noindex
X-PUBLISHED-TTL:PT1H
BEGIN:VTIMEZONE
TZID:America/Chicago
BEGIN:DAYLIGHT
TZOFFSETFROM:-0600
TZOFFSETTO:-0500
TZNAME:CDT
DTSTART:20230312T080000
END:DAYLIGHT
BEGIN:STANDARD
TZOFFSETFROM:-0500
TZOFFSETTO:-0600
TZNAME:CST
DTSTART:20231105T070000
END:STANDARD
END:VTIMEZONE
BEGIN:VEVENT
DTSTART:20230712T150000Z
DTEND:20230712T160000Z
DTSTAMP:20260420T231430
CREATED:20230615T155559Z
LAST-MODIFIED:20230615T155559Z
UID:24265-1689156000-1689159600@hdpusergroup.org
SUMMARY:Single Surface Finish meeting
DESCRIPTION:Meeting 
URL:https://hdpusergroup.org/event/single-surface-finish-meeting-27/
CATEGORIES:Single Surface Finish for Soldered & Compression
ORGANIZER;CN=HDP:mailto:webmaster@hdpug.org
END:VEVENT
BEGIN:VEVENT
DTSTART:20230712T190000Z
DTEND:20230712T200000Z
DTSTAMP:20260420T231430
CREATED:20230629T181456Z
LAST-MODIFIED:20230629T181456Z
UID:24342-1689170400-1689174000@hdpusergroup.org
SUMMARY:Nonglass Microvia Build-ups
DESCRIPTION:Continue working on the ideas for the project 
URL:https://hdpusergroup.org/event/nonglass-microvia-build-ups/
CATEGORIES:Non-Glass Microvia Build-ups
ORGANIZER;CN=HDP:mailto:webmaster@hdpug.org
END:VEVENT
BEGIN:VEVENT
DTSTART:20230713T133000Z
DTEND:20230713T143000Z
DTSTAMP:20260420T231430
CREATED:20230711T202738Z
LAST-MODIFIED:20230711T202738Z
UID:24362-1689237000-1689240600@hdpusergroup.org
SUMMARY:Call with Mike C
DESCRIPTION:Call to discuss Projects 
URL:https://hdpusergroup.org/event/call-with-mike-c/
CATEGORIES:Staff Calendar
ORGANIZER;CN=HDP:mailto:webmaster@hdpug.org
END:VEVENT
BEGIN:VEVENT
DTSTART:20230713T150000Z
DTEND:20230713T160000Z
DTSTAMP:20260420T231430
CREATED:20230614T153238Z
LAST-MODIFIED:20230614T153238Z
UID:24258-1689242400-1689246000@hdpusergroup.org
SUMMARY:SIR Testing meeting
DESCRIPTION:Meeting 
URL:https://hdpusergroup.org/event/sir-testing-meeting-9/
CATEGORIES:Surface Insulation Resistance (SIR) Testing the Next Evolution
ORGANIZER;CN=HDP:mailto:webmaster@hdpug.org
END:VEVENT
BEGIN:VEVENT
DTSTART:20230713T160000Z
DTEND:20230713T170000Z
DTSTAMP:20260420T231430
CREATED:20230627T150132Z
LAST-MODIFIED:20230627T150132Z
UID:24341-1689246000-1689249600@hdpusergroup.org
SUMMARY:HDP Backdrill Transition Project
DESCRIPTION:Periodic Project Call 
URL:https://hdpusergroup.org/event/hdp-backdrill-transition-project-6/
CATEGORIES:Back drill to Primary via Transition
ORGANIZER;CN=HDP:mailto:webmaster@hdpug.org
END:VEVENT
BEGIN:VEVENT
DTSTART:20230714T140000Z
DTEND:20230714T150000Z
DTSTAMP:20260420T231430
CREATED:20230616T142014Z
LAST-MODIFIED:20230616T142014Z
UID:24267-1689325200-1689328800@hdpusergroup.org
SUMMARY:Effects of Plating Thickness on CTF at IST Phase 2
DESCRIPTION:Effects of Plating Thickness on CTF at IST Phase 2 
URL:https://hdpusergroup.org/event/effects-of-plating-thickness-on-ctf-at-ist-phase-2/
CATEGORIES:Effects of Plating Thickness on CTF at IST Phase 2
ORGANIZER;CN=HDP:mailto:webmaster@hdpug.org
END:VEVENT
END:VCALENDAR