BEGIN:VCALENDAR
VERSION:2.0
PRODID:-//HDP User Group - ECPv6.10.1.1//NONSGML v1.0//EN
CALSCALE:GREGORIAN
METHOD:PUBLISH
X-ORIGINAL-URL:https://hdpusergroup.org
X-WR-CALDESC:Events for HDP User Group
REFRESH-INTERVAL;VALUE=DURATION:PT1H
X-Robots-Tag:noindex
X-PUBLISHED-TTL:PT1H
BEGIN:VTIMEZONE
TZID:America/Chicago
BEGIN:DAYLIGHT
TZOFFSETFROM:-0600
TZOFFSETTO:-0500
TZNAME:CDT
DTSTART:20230312T080000
END:DAYLIGHT
BEGIN:STANDARD
TZOFFSETFROM:-0500
TZOFFSETTO:-0600
TZNAME:CST
DTSTART:20231105T070000
END:STANDARD
END:VTIMEZONE
BEGIN:VEVENT
DTSTART:20230515T150000Z
DTEND:20230515T160000Z
DTSTAMP:20260421T055949
CREATED:20230424T154315Z
LAST-MODIFIED:20230424T154315Z
UID:24061-1684144800-1684148400@hdpusergroup.org
SUMMARY:Final Finish Layer Deposits for High Frequency
DESCRIPTION:Final Finish Layer Deposits for High Frequency 
URL:https://hdpusergroup.org/event/final-finish-layer-deposits-for-high-frequency-23/
CATEGORIES:Final Finish Layer Deposits for High Frequency
ORGANIZER;CN=HDP:mailto:webmaster@hdpug.org
END:VEVENT
BEGIN:VEVENT
DTSTART:20230515T170000Z
DTEND:20230515T180000Z
DTSTAMP:20260421T055949
CREATED:20230515T203846Z
LAST-MODIFIED:20230515T203846Z
UID:24158-1684152000-1684155600@hdpusergroup.org
SUMMARY:Call with Marshall
DESCRIPTION:Call with Marshall 
URL:https://hdpusergroup.org/event/call-with-marshall/
CATEGORIES:Staff Calendar
ORGANIZER;CN=HDP:mailto:webmaster@hdpug.org
END:VEVENT
BEGIN:VEVENT
DTSTART:20230515T170000Z
DTEND:20230515T180000Z
DTSTAMP:20260421T055949
CREATED:20230515T203914Z
LAST-MODIFIED:20230515T203914Z
UID:24159-1684152000-1684155600@hdpusergroup.org
SUMMARY:Call with Marshall
DESCRIPTION:Call with Marshall 
URL:https://hdpusergroup.org/event/call-with-marshall-2/
CATEGORIES:Staff Calendar
ORGANIZER;CN=HDP:mailto:webmaster@hdpug.org
END:VEVENT
BEGIN:VEVENT
DTSTART:20230515T170000Z
DTEND:20230515T180000Z
DTSTAMP:20260421T055949
CREATED:20230515T203944Z
LAST-MODIFIED:20230515T203944Z
UID:24160-1684152000-1684155600@hdpusergroup.org
SUMMARY:Call with Marshall
DESCRIPTION:Call with Marshall 
URL:https://hdpusergroup.org/event/call-with-marshall-3/
CATEGORIES:Staff Calendar
ORGANIZER;CN=HDP:mailto:webmaster@hdpug.org
END:VEVENT
BEGIN:VEVENT
DTSTART:20230516T140000Z
DTEND:20230516T150000Z
DTSTAMP:20260421T055949
CREATED:20230515T185942Z
LAST-MODIFIED:20230515T185942Z
UID:24157-1684227600-1684231200@hdpusergroup.org
SUMMARY:Call with Larry
DESCRIPTION:30th Anniversary conversation 
URL:https://hdpusergroup.org/event/call-with-larry/
CATEGORIES:Staff Calendar
ORGANIZER;CN=HDP:mailto:webmaster@hdpug.org
END:VEVENT
BEGIN:VEVENT
DTSTART:20230516T150000Z
DTEND:20230516T160000Z
DTSTAMP:20260421T055949
CREATED:20230427T160200Z
LAST-MODIFIED:20230427T160200Z
UID:24074-1684231200-1684234800@hdpusergroup.org
SUMMARY:Sequential Lamination
DESCRIPTION:Meeting 
URL:https://hdpusergroup.org/event/sequential-lamination-2/
CATEGORIES:Sequential Lamination
ORGANIZER;CN=HDP:mailto:webmaster@hdpug.org
END:VEVENT
BEGIN:VEVENT
DTSTART:20230516T160000Z
DTEND:20230516T170000Z
DTSTAMP:20260421T055949
CREATED:20230426T135358Z
LAST-MODIFIED:20230426T135358Z
UID:24063-1684234800-1684238400@hdpusergroup.org
SUMMARY:Cu Surface Roughness Model
DESCRIPTION:Hurray Model development tool. Validation with high speed materials and surface copper roughness 
URL:https://hdpusergroup.org/event/cu-surface-roughness-model-9/
CATEGORIES:Cu Surface Rougness Model
ORGANIZER;CN=HDP:mailto:webmaster@hdpug.org
END:VEVENT
BEGIN:VEVENT
DTSTART:20230516T170000Z
DTEND:20230516T180000Z
DTSTAMP:20260421T055949
CREATED:20230515T204011Z
LAST-MODIFIED:20230515T204011Z
UID:24161-1684238400-1684242000@hdpusergroup.org
SUMMARY:Call with Marshall
DESCRIPTION:Call with Marshall 
URL:https://hdpusergroup.org/event/call-with-marshall-4/
CATEGORIES:Staff Calendar
ORGANIZER;CN=HDP:mailto:webmaster@hdpug.org
END:VEVENT
BEGIN:VEVENT
DTSTART:20230516T180000Z
DTEND:20230516T190000Z
DTSTAMP:20260421T055949
CREATED:20230516T125400Z
LAST-MODIFIED:20230516T125400Z
UID:24162-1684242000-1684245600@hdpusergroup.org
SUMMARY:Call with Smitty
DESCRIPTION:Talk about HDP 30th 
URL:https://hdpusergroup.org/event/call-with-smitty/
CATEGORIES:Staff Calendar
ORGANIZER;CN=HDP:mailto:webmaster@hdpug.org
END:VEVENT
BEGIN:VEVENT
DTSTART:20230517T020000Z
DTEND:20230517T030000Z
DTSTAMP:20260421T055949
CREATED:20230424T102116Z
LAST-MODIFIED:20230424T102116Z
UID:23743-1684270800-1684274400@hdpusergroup.org
SUMMARY:LVH Lifetime Predictor for TC Project Call
DESCRIPTION:LVH Lifetime Predictor for TC Project Call 
URL:https://hdpusergroup.org/event/lvh-lifetime-predictor-for-tc-project-call-17/
CATEGORIES:LVH Lifetime Predictor for TC
ORGANIZER;CN=HDP:mailto:webmaster@hdpug.org
END:VEVENT
BEGIN:VEVENT
DTSTART:20230517T180000Z
DTEND:20230517T190000Z
DTSTAMP:20260421T055949
CREATED:20230510T134939Z
LAST-MODIFIED:20230510T134939Z
UID:24127-1684328400-1684332000@hdpusergroup.org
SUMMARY:Cu Peel Strength 2
DESCRIPTION:Review data -prepare disussion for close-out 
URL:https://hdpusergroup.org/event/cu-peel-strength-2-13/
CATEGORIES:Cu Peel Strength 2
ORGANIZER;CN=HDP:mailto:webmaster@hdpug.org
END:VEVENT
BEGIN:VEVENT
DTSTART:20230518T160000Z
DTEND:20230518T170000Z
DTSTAMP:20260421T055949
CREATED:20230427T165554Z
LAST-MODIFIED:20230427T165554Z
UID:24076-1684407600-1684411200@hdpusergroup.org
SUMMARY:HDP Backdrill Transition Project
DESCRIPTION:Periodic Project Call 
URL:https://hdpusergroup.org/event/hdp-backdrill-transition-project-3/
CATEGORIES:Back drill to Primary via Transition
ORGANIZER;CN=HDP:mailto:webmaster@hdpug.org
END:VEVENT
BEGIN:VEVENT
DTSTART:20230519T150000Z
DTEND:20230519T160000Z
DTSTAMP:20260421T055949
CREATED:20230429T145619Z
LAST-MODIFIED:20230429T145619Z
UID:24088-1684490400-1684494000@hdpusergroup.org
SUMMARY:Permittivity of cooling liquids
DESCRIPTION:discuss moving project to definition stage and lining up resources 
URL:https://hdpusergroup.org/event/permittivity-of-cooling-liquids-3/
CATEGORIES:Permittivity of Cooling Liquids
ORGANIZER;CN=HDP:mailto:webmaster@hdpug.org
END:VEVENT
END:VCALENDAR