BEGIN:VCALENDAR
VERSION:2.0
PRODID:-//HDP User Group - ECPv6.10.1.1//NONSGML v1.0//EN
CALSCALE:GREGORIAN
METHOD:PUBLISH
X-ORIGINAL-URL:https://hdpusergroup.org
X-WR-CALDESC:Events for HDP User Group
REFRESH-INTERVAL;VALUE=DURATION:PT1H
X-Robots-Tag:noindex
X-PUBLISHED-TTL:PT1H
BEGIN:VTIMEZONE
TZID:America/Chicago
BEGIN:DAYLIGHT
TZOFFSETFROM:-0600
TZOFFSETTO:-0500
TZNAME:CDT
DTSTART:20230312T080000
END:DAYLIGHT
BEGIN:STANDARD
TZOFFSETFROM:-0500
TZOFFSETTO:-0600
TZNAME:CST
DTSTART:20231105T070000
END:STANDARD
END:VTIMEZONE
BEGIN:VEVENT
DTSTART:20230502T170000Z
DTEND:20230502T180000Z
DTSTAMP:20260421T042218
CREATED:20230407T024609Z
LAST-MODIFIED:20230407T024609Z
UID:24003-1683028800-1683032400@hdpusergroup.org
SUMMARY:HDP Harsh Use Alloy Evaluations
DESCRIPTION:Periodic Project Review 
URL:https://hdpusergroup.org/event/hdp-harsh-use-alloy-evaluations/
CATEGORIES:Harsh Use Alloy Evaluation 2
ORGANIZER;CN=HDP:mailto:webmaster@hdpug.org
END:VEVENT
BEGIN:VEVENT
DTSTART:20230503T130000Z
DTEND:20230503T140000Z
DTSTAMP:20260421T042218
CREATED:20230428T203641Z
LAST-MODIFIED:20230428T203641Z
UID:24086-1683100800-1683104400@hdpusergroup.org
SUMMARY:HDP Follow Up Call
DESCRIPTION:Feedback on HDP membership. 
URL:https://hdpusergroup.org/event/hdp-follow-up-call/
CATEGORIES:Staff Calendar
ORGANIZER;CN=HDP:mailto:webmaster@hdpug.org
END:VEVENT
BEGIN:VEVENT
DTSTART:20230503T140000Z
DTEND:20230503T150000Z
DTSTAMP:20260421T042218
CREATED:20230419T141719Z
LAST-MODIFIED:20230419T141719Z
UID:24052-1683104400-1683108000@hdpusergroup.org
SUMMARY:SIR Testing meeting
DESCRIPTION:Meeting 
URL:https://hdpusergroup.org/event/sir-testing-meeting-6/
CATEGORIES:Surface Insulation Resistance (SIR) Testing the Next Evolution
ORGANIZER;CN=HDP:mailto:webmaster@hdpug.org
END:VEVENT
BEGIN:VEVENT
DTSTART:20230503T150000Z
DTEND:20230503T160000Z
DTSTAMP:20260421T042218
CREATED:20230401T154655Z
LAST-MODIFIED:20230401T154655Z
UID:23976-1683108000-1683111600@hdpusergroup.org
SUMMARY:Glass Type Comparison
DESCRIPTION:Review results to present. \nDiscuss starting rough draft for close-out \n  
URL:https://hdpusergroup.org/event/glass-type-comparison/
CATEGORIES:Glass Type Composition
ORGANIZER;CN=HDP:mailto:webmaster@hdpug.org
END:VEVENT
BEGIN:VEVENT
DTSTART:20230503T170000Z
DTEND:20230503T180000Z
DTSTAMP:20260421T042218
CREATED:20230419T173938Z
LAST-MODIFIED:20230419T173938Z
UID:24055-1683115200-1683118800@hdpusergroup.org
SUMMARY:TA Method
DESCRIPTION:More data from test houses \nWork on presentation for Japan meeting 
URL:https://hdpusergroup.org/event/ta-method-14/
CATEGORIES:Thermal Analysis Methodolgy Assessment
ORGANIZER;CN=HDP:mailto:webmaster@hdpug.org
END:VEVENT
BEGIN:VEVENT
DTSTART:20230503T200000Z
DTEND:20230503T210000Z
DTSTAMP:20260421T042218
CREATED:20230412T202241Z
LAST-MODIFIED:20230412T202241Z
UID:24032-1683126000-1683129600@hdpusergroup.org
SUMMARY:Photonic Soldering II
DESCRIPTION:Updates on rebuild\, thermocouple results and drop testing. 
URL:https://hdpusergroup.org/event/photonic-soldering-ii-19/
CATEGORIES:Photonic Soldering 2
ORGANIZER;CN=HDP:mailto:webmaster@hdpug.org
END:VEVENT
BEGIN:VEVENT
DTSTART:20230504T160000Z
DTEND:20230504T170000Z
DTSTAMP:20260421T042218
CREATED:20230418T153452Z
LAST-MODIFIED:20230418T153452Z
UID:23956-1683198000-1683201600@hdpusergroup.org
SUMMARY:Inner Layer Cu Balance Project Call
DESCRIPTION:Gary has work travel and has asked to reschedule. 
URL:https://hdpusergroup.org/event/inner-layer-cu-balance-project-call-2/
CATEGORIES:Local Copper Density
ORGANIZER;CN=HDP:mailto:webmaster@hdpug.org
END:VEVENT
END:VCALENDAR