BEGIN:VCALENDAR
VERSION:2.0
PRODID:-//HDP User Group - ECPv6.10.1.1//NONSGML v1.0//EN
CALSCALE:GREGORIAN
METHOD:PUBLISH
X-ORIGINAL-URL:https://hdpusergroup.org
X-WR-CALDESC:Events for HDP User Group
REFRESH-INTERVAL;VALUE=DURATION:PT1H
X-Robots-Tag:noindex
X-PUBLISHED-TTL:PT1H
BEGIN:VTIMEZONE
TZID:America/Chicago
BEGIN:DAYLIGHT
TZOFFSETFROM:-0600
TZOFFSETTO:-0500
TZNAME:CDT
DTSTART:20230312T080000
END:DAYLIGHT
BEGIN:STANDARD
TZOFFSETFROM:-0500
TZOFFSETTO:-0600
TZNAME:CST
DTSTART:20231105T070000
END:STANDARD
END:VTIMEZONE
BEGIN:VEVENT
DTSTART:20230329T150000Z
DTEND:20230329T160000Z
DTSTAMP:20260421T072559
CREATED:20230314T164445Z
LAST-MODIFIED:20230314T164445Z
UID:23907-1680084000-1680087600@hdpusergroup.org
SUMMARY:Microvia Rel
DESCRIPTION:Progress on panel and coupon designs 
URL:https://hdpusergroup.org/event/microvia-rel-28/
CATEGORIES:Microvia Reliability
ORGANIZER;CN=HDP:mailto:webmaster@hdpug.org
END:VEVENT
BEGIN:VEVENT
DTSTART:20230329T160000Z
DTEND:20230329T170000Z
DTSTAMP:20260421T072559
CREATED:20230323T150510Z
LAST-MODIFIED:20230323T150510Z
UID:23911-1680087600-1680091200@hdpusergroup.org
SUMMARY:Copper Peel Strength 2
DESCRIPTION:Follow up on data collected thus far. 
URL:https://hdpusergroup.org/event/copper-peel-strength-2-2/
CATEGORIES:Cu Peel Strength 2
ORGANIZER;CN=HDP:mailto:webmaster@hdpug.org
END:VEVENT
BEGIN:VEVENT
DTSTART:20230329T170000Z
DTEND:20230329T180000Z
DTSTAMP:20260421T072559
CREATED:20230322T200232Z
LAST-MODIFIED:20230322T200232Z
UID:23945-1680091200-1680094800@hdpusergroup.org
SUMMARY:Ta Method
DESCRIPTION:Any additional expts or analysis 
URL:https://hdpusergroup.org/event/ta-method-12/
CATEGORIES:Thermal Analysis Methodolgy Assessment
ORGANIZER;CN=HDP:mailto:webmaster@hdpug.org
END:VEVENT
BEGIN:VEVENT
DTSTART:20230330T160000Z
DTEND:20230330T170000Z
DTSTAMP:20260421T072559
CREATED:20230316T172923Z
LAST-MODIFIED:20230316T172923Z
UID:23918-1680174000-1680177600@hdpusergroup.org
SUMMARY:Reduced Cost CAF
DESCRIPTION:Finalize project deliverables. Review quotes for CAF testing \n  
URL:https://hdpusergroup.org/event/reduced-cost-caf-12/
CATEGORIES:Reduced Cost CAF
ORGANIZER;CN=HDP:mailto:webmaster@hdpug.org
END:VEVENT
BEGIN:VEVENT
DTSTART:20230330T190000Z
DTEND:20230330T200000Z
DTSTAMP:20260421T072559
CREATED:20230316T194455Z
LAST-MODIFIED:20230316T194455Z
UID:23919-1680184800-1680188400@hdpusergroup.org
SUMMARY:PCB Feature Min
DESCRIPTION:Updates for final report\, if not already nailed down via email. If done\, move on to next project. 
URL:https://hdpusergroup.org/event/pcb-feature-min-35/
CATEGORIES:PCB Feature Miniaturization
ORGANIZER;CN=HDP:mailto:webmaster@hdpug.org
END:VEVENT
BEGIN:VEVENT
DTSTART:20230331T010000Z
DTEND:20230331T020000Z
DTSTAMP:20260421T072559
CREATED:20230307T014717Z
LAST-MODIFIED:20230307T014717Z
UID:23878-1680206400-1680210000@hdpusergroup.org
SUMMARY:Non Contact CF Profile Project Call
DESCRIPTION:Non Contact CF Profile Project Call 
URL:https://hdpusergroup.org/event/non-contact-cf-profile-project-call-5/
CATEGORIES:Non-Contact Copper Foil Profile
ORGANIZER;CN=HDP:mailto:webmaster@hdpug.org
END:VEVENT
BEGIN:VEVENT
DTSTART:20230331T160000Z
DTEND:20230331T170000Z
DTSTAMP:20260421T072559
CREATED:20230330T150759Z
LAST-MODIFIED:20230330T150759Z
UID:23923-1680260400-1680264000@hdpusergroup.org
SUMMARY:Kick -off meeting-Permitivity of Cooling Liquids
DESCRIPTION:•In an immersion cooling system\, infrastructure equipment can be submerged in a non-conductive cooling liquid\n•Idea is to develop a model to predict permittivity of different cooling liquids for improved reliability and energy efficiency\n•Compare costs of each fluid vs other properties to determine best options
URL:https://hdpusergroup.org/event/kick-off-meeting-permitivity-of-cooling-liquids/
CATEGORIES:Staff Calendar
ORGANIZER;CN=HDP:mailto:webmaster@hdpug.org
END:VEVENT
END:VCALENDAR