BEGIN:VCALENDAR
VERSION:2.0
PRODID:-//HDP User Group - ECPv6.10.1.1//NONSGML v1.0//EN
CALSCALE:GREGORIAN
METHOD:PUBLISH
X-ORIGINAL-URL:https://hdpusergroup.org
X-WR-CALDESC:Events for HDP User Group
REFRESH-INTERVAL;VALUE=DURATION:PT1H
X-Robots-Tag:noindex
X-PUBLISHED-TTL:PT1H
BEGIN:VTIMEZONE
TZID:America/Chicago
BEGIN:DAYLIGHT
TZOFFSETFROM:-0600
TZOFFSETTO:-0500
TZNAME:CDT
DTSTART:20230312T080000
END:DAYLIGHT
BEGIN:STANDARD
TZOFFSETFROM:-0500
TZOFFSETTO:-0600
TZNAME:CST
DTSTART:20231105T070000
END:STANDARD
END:VTIMEZONE
BEGIN:VEVENT
DTSTART:20230321T150000Z
DTEND:20230321T160000Z
DTSTAMP:20260421T085834
CREATED:20230309T141948Z
LAST-MODIFIED:20230309T141948Z
UID:23895-1679392800-1679396400@hdpusergroup.org
SUMMARY:Better CAF Eq
DESCRIPTION:Updates from Hubert and Jason 
URL:https://hdpusergroup.org/event/better-caf-eq-28/
CATEGORIES:Better CAF Acceleration Equation
ORGANIZER;CN=HDP:mailto:webmaster@hdpug.org
END:VEVENT
BEGIN:VEVENT
DTSTART:20230322T160000Z
DTEND:20230322T170000Z
DTSTAMP:20260421T085834
CREATED:20230307T190951Z
LAST-MODIFIED:20230307T190951Z
UID:23882-1679482800-1679486400@hdpusergroup.org
SUMMARY:Kickoff Meeting – Large Footprint BGA Warpage Project
DESCRIPTION:Project Kickoff Meeting — Large Footprint BGA Warpage Project 
URL:https://hdpusergroup.org/event/kickoff-meeting-large-footprint-bga-warpage-project/
CATEGORIES:Staff Calendar
ORGANIZER;CN=HDP:mailto:webmaster@hdpug.org
END:VEVENT
BEGIN:VEVENT
DTSTART:20230322T170000Z
DTEND:20230322T180000Z
DTSTAMP:20260421T085834
CREATED:20230301T183831Z
LAST-MODIFIED:20230301T183831Z
UID:23840-1679486400-1679490000@hdpusergroup.org
SUMMARY:TA Method
DESCRIPTION:Status of extra testing \nStatus on final report 
URL:https://hdpusergroup.org/event/ta-method-11/
CATEGORIES:Thermal Analysis Methodolgy Assessment
ORGANIZER;CN=HDP:mailto:webmaster@hdpug.org
END:VEVENT
BEGIN:VEVENT
DTSTART:20230322T180000Z
DTEND:20230322T190000Z
DTSTAMP:20260421T085834
CREATED:20230314T205037Z
LAST-MODIFIED:20230314T205037Z
UID:23816-1679490000-1679493600@hdpusergroup.org
SUMMARY:Single Surface Finish meeting
DESCRIPTION:Meeting 
URL:https://hdpusergroup.org/event/single-surface-finish-meeting-22/
CATEGORIES:Single Surface Finish for Soldered & Compression
ORGANIZER;CN=HDP:mailto:webmaster@hdpug.org
END:VEVENT
BEGIN:VEVENT
DTSTART:20230322T190000Z
DTEND:20230322T200000Z
DTSTAMP:20260421T085834
CREATED:20230321T125214Z
LAST-MODIFIED:20230321T125214Z
UID:23926-1679493600-1679497200@hdpusergroup.org
SUMMARY:Website Redesign Kick-Off Call
DESCRIPTION:Kick-Off call for website redesign team. 
URL:https://hdpusergroup.org/event/website-redesign-kick-off-call/
CATEGORIES:Staff Calendar
ORGANIZER;CN=HDP:mailto:webmaster@hdpug.org
END:VEVENT
BEGIN:VEVENT
DTSTART:20230322T200000Z
DTEND:20230322T210000Z
DTSTAMP:20260421T085834
CREATED:20230311T183015Z
LAST-MODIFIED:20230311T183015Z
UID:23898-1679497200-1679500800@hdpusergroup.org
SUMMARY:Cu Surface Treatment vs Loss – Project Call
DESCRIPTION:Yaw can't make the 23rd had to move to the 22nd. \nDiscuss Yaw Obeng Correlation and Michael Coll surface treatment plating info. 
URL:https://hdpusergroup.org/event/cu-surface-treatment-vs-loss-project-call-6/
CATEGORIES:Cu Grain Structure
ORGANIZER;CN=HDP:mailto:webmaster@hdpug.org
END:VEVENT
BEGIN:VEVENT
DTSTART:20230323T140000Z
DTEND:20230323T150000Z
DTSTAMP:20260421T085834
CREATED:20230322T135754Z
LAST-MODIFIED:20230322T135754Z
UID:23942-1679562000-1679565600@hdpusergroup.org
SUMMARY:IPC precall
DESCRIPTION:Call to discuss IPC projects 
URL:https://hdpusergroup.org/event/ipc-precall/
CATEGORIES:Staff Calendar
ORGANIZER;CN=HDP:mailto:webmaster@hdpug.org
END:VEVENT
BEGIN:VEVENT
DTSTART:20230323T150000Z
DTEND:20230323T160000Z
DTSTAMP:20260421T085834
CREATED:20230309T164913Z
LAST-MODIFIED:20230309T164913Z
UID:23896-1679565600-1679569200@hdpusergroup.org
SUMMARY:Materials #7 meeting
DESCRIPTION:Meeting 
URL:https://hdpusergroup.org/event/materials-7-meeting-15/
CATEGORIES:Materials #7
ORGANIZER;CN=HDP:mailto:webmaster@hdpug.org
END:VEVENT
BEGIN:VEVENT
DTSTART:20230323T160000Z
DTEND:20230323T170000Z
DTSTAMP:20260421T085834
CREATED:20230302T172011Z
LAST-MODIFIED:20230302T172011Z
UID:23849-1679569200-1679572800@hdpusergroup.org
SUMMARY:Backdrill Transition Project Call
DESCRIPTION:Periodic project call 
URL:https://hdpusergroup.org/event/backdrill-transition-project-call/
CATEGORIES:Back drill to Primary via Transition
ORGANIZER;CN=HDP:mailto:webmaster@hdpug.org
END:VEVENT
BEGIN:VEVENT
DTSTART:20230323T170000Z
DTEND:20230323T180000Z
DTSTAMP:20260421T085834
CREATED:20230306T184210Z
LAST-MODIFIED:20230306T184210Z
UID:23759-1679572800-1679576400@hdpusergroup.org
SUMMARY:Inner Layer Cu Balance Project Call
DESCRIPTION:Call to discuss measurement results 
URL:https://hdpusergroup.org/event/inner-layer-cu-balance-project-call/
CATEGORIES:Local Copper Density
ORGANIZER;CN=HDP:mailto:webmaster@hdpug.org
END:VEVENT
BEGIN:VEVENT
DTSTART:20230324T140000Z
DTEND:20230324T150000Z
DTSTAMP:20260421T085834
CREATED:20230306T060517Z
LAST-MODIFIED:20230306T060517Z
UID:23856-1679648400-1679652000@hdpusergroup.org
SUMMARY:Effects of Plating Thickness on CTF at IST Project Call
DESCRIPTION:Effects of Plating Thickness on CTF at IST Project Call 
URL:https://hdpusergroup.org/event/effects-of-plating-thickness-on-ctf-at-ist-project-call-23/
CATEGORIES:Effects of Plating Thickness on Cycles to Failure at IST
ORGANIZER;CN=HDP:mailto:webmaster@hdpug.org
END:VEVENT
END:VCALENDAR