BEGIN:VCALENDAR
VERSION:2.0
PRODID:-//HDP User Group - ECPv6.10.1.1//NONSGML v1.0//EN
CALSCALE:GREGORIAN
METHOD:PUBLISH
X-ORIGINAL-URL:https://hdpusergroup.org
X-WR-CALDESC:Events for HDP User Group
REFRESH-INTERVAL;VALUE=DURATION:PT1H
X-Robots-Tag:noindex
X-PUBLISHED-TTL:PT1H
BEGIN:VTIMEZONE
TZID:America/Chicago
BEGIN:DAYLIGHT
TZOFFSETFROM:-0600
TZOFFSETTO:-0500
TZNAME:CDT
DTSTART:20230312T080000
END:DAYLIGHT
BEGIN:STANDARD
TZOFFSETFROM:-0500
TZOFFSETTO:-0600
TZNAME:CST
DTSTART:20231105T070000
END:STANDARD
END:VTIMEZONE
BEGIN:VEVENT
DTSTART:20230313T120000Z
DTEND:20230313T130000Z
DTSTAMP:20260421T072452
CREATED:20230302T212428Z
LAST-MODIFIED:20230302T212428Z
UID:23852-1678690800-1678694400@hdpusergroup.org
SUMMARY:Information Release
DESCRIPTION:Meeting 
URL:https://hdpusergroup.org/event/information-release/
CATEGORIES:Staff Calendar
ORGANIZER;CN=HDP:mailto:webmaster@hdpug.org
END:VEVENT
BEGIN:VEVENT
DTSTART:20230313T130000Z
DTEND:20230313T140000Z
DTSTAMP:20260421T072452
CREATED:20230302T211832Z
LAST-MODIFIED:20230302T211832Z
UID:23850-1678694400-1678698000@hdpusergroup.org
SUMMARY:Meeting on releasing information
DESCRIPTION:Meeting 
URL:https://hdpusergroup.org/event/meeting-on-releasing-information/
CATEGORIES:Staff Calendar
ORGANIZER;CN=HDP:mailto:webmaster@hdpug.org
END:VEVENT
BEGIN:VEVENT
DTSTART:20230313T150000Z
DTEND:20230313T160000Z
DTSTAMP:20260421T072452
CREATED:20230227T164026Z
LAST-MODIFIED:20230227T164026Z
UID:23832-1678701600-1678705200@hdpusergroup.org
SUMMARY:Final Finish Layer Deposits for High Frequency
DESCRIPTION:Final Finish Layer Deposits for High Frequency 
URL:https://hdpusergroup.org/event/final-finish-layer-deposits-for-high-frequency-19/
CATEGORIES:Final Finish Layer Deposits for High Frequency
ORGANIZER;CN=HDP:mailto:webmaster@hdpug.org
END:VEVENT
BEGIN:VEVENT
DTSTART:20230314T160000Z
DTEND:20230314T170000Z
DTSTAMP:20260421T072452
CREATED:20230307T131559Z
LAST-MODIFIED:20230307T131559Z
UID:23879-1678791600-1678795200@hdpusergroup.org
SUMMARY:Microvia Rel
DESCRIPTION:preparing schedule 
URL:https://hdpusergroup.org/event/microvia-rel-27/
CATEGORIES:Microvia Reliability
ORGANIZER;CN=HDP:mailto:webmaster@hdpug.org
END:VEVENT
BEGIN:VEVENT
DTSTART:20230315T020000Z
DTEND:20230315T030000Z
DTSTAMP:20260421T072452
CREATED:20230111T021247Z
LAST-MODIFIED:20230111T021247Z
UID:23607-1678827600-1678831200@hdpusergroup.org
SUMMARY:High Speed Hybrid PWB Project Call
DESCRIPTION:High Speed Hybrid PWB Project Call 
URL:https://hdpusergroup.org/event/high-speed-hybrid-pwb-project-call-45/
CATEGORIES:High Speed Hybrid PWB
ORGANIZER;CN=HDP:mailto:webmaster@hdpug.org
END:VEVENT
BEGIN:VEVENT
DTSTART:20230315T160000Z
DTEND:20230315T170000Z
DTSTAMP:20260421T072452
CREATED:20230222T182548Z
LAST-MODIFIED:20230222T182548Z
UID:23803-1678878000-1678881600@hdpusergroup.org
SUMMARY:Cu Peel Strength 2
DESCRIPTION:Measuring peel strength with different copper foils 
URL:https://hdpusergroup.org/event/cu-peel-strength-2-10/
CATEGORIES:Cu Peel Strength 2
ORGANIZER;CN=HDP:mailto:webmaster@hdpug.org
END:VEVENT
BEGIN:VEVENT
DTSTART:20230315T200000Z
DTEND:20230315T210000Z
DTSTAMP:20260421T072452
CREATED:20230301T201653Z
LAST-MODIFIED:20230301T201653Z
UID:23842-1678892400-1678896000@hdpusergroup.org
SUMMARY:Photo Solder 2
DESCRIPTION:Updates on reflow and drop testing 
URL:https://hdpusergroup.org/event/photo-solder-2-5/
CATEGORIES:Photonic Soldering 2
ORGANIZER;CN=HDP:mailto:webmaster@hdpug.org
END:VEVENT
BEGIN:VEVENT
DTSTART:20230316T170000Z
DTEND:20230316T180000Z
DTSTAMP:20260421T072452
CREATED:20230309T132858Z
LAST-MODIFIED:20230309T132858Z
UID:23891-1678968000-1678971600@hdpusergroup.org
SUMMARY:Reduced Cost CAF
DESCRIPTION:Finalize defintion and make decision on CAF testing 
URL:https://hdpusergroup.org/event/reduced-cost-caf-11/
CATEGORIES:Reduced Cost CAF
ORGANIZER;CN=HDP:mailto:webmaster@hdpug.org
END:VEVENT
BEGIN:VEVENT
DTSTART:20230316T190000Z
DTEND:20230316T200000Z
DTSTAMP:20260421T072452
CREATED:20230301T195354Z
LAST-MODIFIED:20230301T195354Z
UID:23841-1678975200-1678978800@hdpusergroup.org
SUMMARY:PCB Feature Min
DESCRIPTION:Status of final report \nFurther discussion on phase 2 
URL:https://hdpusergroup.org/event/pcb-feature-min-34/
CATEGORIES:PCB Feature Miniaturization
ORGANIZER;CN=HDP:mailto:webmaster@hdpug.org
END:VEVENT
BEGIN:VEVENT
DTSTART:20230317T150000Z
DTEND:20230317T160000Z
DTSTAMP:20260421T072452
CREATED:20230307T163323Z
LAST-MODIFIED:20230307T163323Z
UID:23881-1679047200-1679050800@hdpusergroup.org
SUMMARY:Permittivity of Direct  Cooling Liquids
DESCRIPTION:Cooling liquids and effect on permittivity 
URL:https://hdpusergroup.org/event/permittivity-of-direct-cooling-liquids/
CATEGORIES:Staff Calendar
ORGANIZER;CN=HDP:mailto:webmaster@hdpug.org
END:VEVENT
END:VCALENDAR