BEGIN:VCALENDAR
VERSION:2.0
PRODID:-//HDP User Group - ECPv6.10.1.1//NONSGML v1.0//EN
CALSCALE:GREGORIAN
METHOD:PUBLISH
X-ORIGINAL-URL:https://hdpusergroup.org
X-WR-CALDESC:Events for HDP User Group
REFRESH-INTERVAL;VALUE=DURATION:PT1H
X-Robots-Tag:noindex
X-PUBLISHED-TTL:PT1H
BEGIN:VTIMEZONE
TZID:America/Chicago
BEGIN:DAYLIGHT
TZOFFSETFROM:-0600
TZOFFSETTO:-0500
TZNAME:CDT
DTSTART:20230312T080000
END:DAYLIGHT
BEGIN:STANDARD
TZOFFSETFROM:-0500
TZOFFSETTO:-0600
TZNAME:CST
DTSTART:20231105T070000
END:STANDARD
END:VTIMEZONE
BEGIN:VEVENT
DTSTART:20230207T000000Z
DTEND:20230207T010000Z
DTSTAMP:20260421T085914
CREATED:20230110T110522Z
LAST-MODIFIED:20230110T110522Z
UID:23519-1675706400-1675710000@hdpusergroup.org
SUMMARY:LVH Lifetime Predictor for TC Project Call
DESCRIPTION:LVH Lifetime Predictor for TC Project Call 
URL:https://hdpusergroup.org/event/lvh-lifetime-predictor-for-tc-project-call-16/
CATEGORIES:LVH Lifetime Predictor for TC
ORGANIZER;CN=HDP:mailto:webmaster@hdpug.org
END:VEVENT
BEGIN:VEVENT
DTSTART:20230207T010000Z
DTEND:20230207T020000Z
DTSTAMP:20260421T085914
CREATED:20230110T020707Z
LAST-MODIFIED:20230110T020707Z
UID:23596-1675710000-1675713600@hdpusergroup.org
SUMMARY:Non-contact CF Profile Project Call
DESCRIPTION:Non-contact CF Profile Project Call 
URL:https://hdpusergroup.org/event/non-contact-cf-profile-project-call-3/
CATEGORIES:Non-Contact Copper Foil Profile
ORGANIZER;CN=HDP:mailto:webmaster@hdpug.org
END:VEVENT
BEGIN:VEVENT
DTSTART:20230207T160000Z
DTEND:20230207T170000Z
DTSTAMP:20260421T085914
CREATED:20230206T151230Z
LAST-MODIFIED:20230206T151230Z
UID:23736-1675764000-1675767600@hdpusergroup.org
SUMMARY:ECM-3 Meeting
DESCRIPTION:Meeting 
URL:https://hdpusergroup.org/event/ecm-3-meeting-4/
CATEGORIES:ECM 3
ORGANIZER;CN=HDP:mailto:webmaster@hdpug.org
END:VEVENT
BEGIN:VEVENT
DTSTART:20230207T180000Z
DTEND:20230207T190000Z
DTSTAMP:20260421T085914
CREATED:20230125T154711Z
LAST-MODIFIED:20230125T154711Z
UID:23686-1675771200-1675774800@hdpusergroup.org
SUMMARY:Harsh Use Alloy Evaluations Project Call
DESCRIPTION:Periodic Project Call 
URL:https://hdpusergroup.org/event/harsh-use-alloy-evaluations-project-call-3/
CATEGORIES:Harsh Use Alloy Evaluation 2
ORGANIZER;CN=HDP:mailto:webmaster@hdpug.org
END:VEVENT
BEGIN:VEVENT
DTSTART:20230208T170000Z
DTEND:20230208T180000Z
DTSTAMP:20260421T085914
CREATED:20230111T180911Z
LAST-MODIFIED:20230111T180911Z
UID:23640-1675854000-1675857600@hdpusergroup.org
SUMMARY:TA Method
DESCRIPTION:More discussion\, plus presentation for meeting 
URL:https://hdpusergroup.org/event/ta-method-9/
CATEGORIES:Thermal Analysis Methodolgy Assessment
ORGANIZER;CN=HDP:mailto:webmaster@hdpug.org
END:VEVENT
BEGIN:VEVENT
DTSTART:20230208T190000Z
DTEND:20230208T200000Z
DTSTAMP:20260421T085914
CREATED:20230202T192735Z
LAST-MODIFIED:20230202T192735Z
UID:23730-1675861200-1675864800@hdpusergroup.org
SUMMARY:PCB Feature Min
DESCRIPTION:Last review of Closeout presentation 
URL:https://hdpusergroup.org/event/pcb-feature-min-32/
CATEGORIES:PCB Feature Miniaturization
ORGANIZER;CN=HDP:mailto:webmaster@hdpug.org
END:VEVENT
BEGIN:VEVENT
DTSTART:20230209T140000Z
DTEND:20230209T150000Z
DTSTAMP:20260421T085914
CREATED:20230112T140825Z
LAST-MODIFIED:20230112T140825Z
UID:23647-1675929600-1675933200@hdpusergroup.org
SUMMARY:Better CAF Eq
DESCRIPTION:Updates from Jason and Hubert 
URL:https://hdpusergroup.org/event/better-caf-eq-26/
CATEGORIES:Better CAF Acceleration Equation
ORGANIZER;CN=HDP:mailto:webmaster@hdpug.org
END:VEVENT
BEGIN:VEVENT
DTSTART:20230209T160000Z
DTEND:20230209T170000Z
DTSTAMP:20260421T085914
CREATED:20230115T032550Z
LAST-MODIFIED:20230115T032550Z
UID:23657-1675936800-1675940400@hdpusergroup.org
SUMMARY:Materials #7 meeting
DESCRIPTION:Meeting 
URL:https://hdpusergroup.org/event/materials-7-meeting-13/
CATEGORIES:Materials #7
ORGANIZER;CN=HDP:mailto:webmaster@hdpug.org
END:VEVENT
BEGIN:VEVENT
DTSTART:20230209T170000Z
DTEND:20230209T180000Z
DTSTAMP:20260421T085914
CREATED:20230112T175019Z
LAST-MODIFIED:20230112T175019Z
UID:23649-1675940400-1675944000@hdpusergroup.org
SUMMARY:Innerlayer Copper Balancing
DESCRIPTION:Innerlayer copper balancing 
URL:https://hdpusergroup.org/event/innerlayer-copper-balancing-9/
CATEGORIES:Local Copper Density
ORGANIZER;CN=HDP:mailto:webmaster@hdpug.org
END:VEVENT
BEGIN:VEVENT
DTSTART:20230209T190000Z
DTEND:20230209T200000Z
DTSTAMP:20260421T085914
CREATED:20230202T202515Z
LAST-MODIFIED:20230202T202515Z
UID:23731-1675947600-1675951200@hdpusergroup.org
SUMMARY:Reduced Cost CAF
DESCRIPTION:update on CAF Testing quotes. \nFurther define project/Test vehicles \nDiscuss resources required 
URL:https://hdpusergroup.org/event/reduced-cost-caf-8/
CATEGORIES:Reduced Cost CAF
ORGANIZER;CN=HDP:mailto:webmaster@hdpug.org
END:VEVENT
END:VCALENDAR