BEGIN:VCALENDAR
VERSION:2.0
PRODID:-//HDP User Group - ECPv6.10.1.1//NONSGML v1.0//EN
CALSCALE:GREGORIAN
METHOD:PUBLISH
X-ORIGINAL-URL:https://hdpusergroup.org
X-WR-CALDESC:Events for HDP User Group
REFRESH-INTERVAL;VALUE=DURATION:PT1H
X-Robots-Tag:noindex
X-PUBLISHED-TTL:PT1H
BEGIN:VTIMEZONE
TZID:America/Chicago
BEGIN:DAYLIGHT
TZOFFSETFROM:-0600
TZOFFSETTO:-0500
TZNAME:CDT
DTSTART:20220313T080000
END:DAYLIGHT
BEGIN:STANDARD
TZOFFSETFROM:-0500
TZOFFSETTO:-0600
TZNAME:CST
DTSTART:20221106T070000
END:STANDARD
END:VTIMEZONE
BEGIN:VEVENT
DTSTART:20221017T150000Z
DTEND:20221017T160000Z
DTSTAMP:20260421T165249
CREATED:20220926T155513Z
LAST-MODIFIED:20220926T155513Z
UID:23236-1666000800-1666004400@hdpusergroup.org
SUMMARY:Final Finish Layer Deposits for High Frequency
DESCRIPTION:Final Finish Layer Deposits for High Frequency 
URL:https://hdpusergroup.org/event/final-finish-layer-deposits-for-high-frequency-12/
CATEGORIES:Final Finish Layer Deposits for High Frequency
ORGANIZER;CN=HDP:mailto:webmaster@hdpug.org
END:VEVENT
BEGIN:VEVENT
DTSTART:20221019T113000Z
DTEND:20221019T123000Z
DTSTAMP:20260421T165249
CREATED:20221018T142402Z
LAST-MODIFIED:20221018T142402Z
UID:23306-1666161000-1666164600@hdpusergroup.org
SUMMARY:Drop test new project discussion
DESCRIPTION:Call with Shunichi and Jack Tan 
URL:https://hdpusergroup.org/event/drop-test-new-project-discussion/
CATEGORIES:Staff Calendar
ORGANIZER;CN=HDP:mailto:webmaster@hdpug.org
END:VEVENT
BEGIN:VEVENT
DTSTART:20221019T140000Z
DTEND:20221019T150000Z
DTSTAMP:20260421T165249
CREATED:20220928T145632Z
LAST-MODIFIED:20220928T145632Z
UID:23248-1666170000-1666173600@hdpusergroup.org
SUMMARY:SIR Testing
DESCRIPTION:Meeting 
URL:https://hdpusergroup.org/event/sir-testing-2/
CATEGORIES:Surface Insulation Resistance (SIR) Testing the Next Evolution
ORGANIZER;CN=HDP:mailto:webmaster@hdpug.org
END:VEVENT
BEGIN:VEVENT
DTSTART:20221019T190000Z
DTEND:20221019T200000Z
DTSTAMP:20260421T165249
CREATED:20220928T192352Z
LAST-MODIFIED:20220928T192352Z
UID:23250-1666188000-1666191600@hdpusergroup.org
SUMMARY:Photo Solder 2
DESCRIPTION:Status of thermcouples \nStatus on build with Pulse Forge 
URL:https://hdpusergroup.org/event/photo-solder-2-3/
CATEGORIES:Photonic Soldering 2
ORGANIZER;CN=HDP:mailto:webmaster@hdpug.org
END:VEVENT
BEGIN:VEVENT
DTSTART:20221020T150000Z
DTEND:20221020T160000Z
DTSTAMP:20260421T165249
CREATED:20220922T162008Z
LAST-MODIFIED:20220922T162008Z
UID:23218-1666260000-1666263600@hdpusergroup.org
SUMMARY:Materials #7 meeting
DESCRIPTION:Meeting 
URL:https://hdpusergroup.org/event/materials-7-meeting-8/
CATEGORIES:Materials #7
ORGANIZER;CN=HDP:mailto:webmaster@hdpug.org
END:VEVENT
BEGIN:VEVENT
DTSTART:20221020T160000Z
DTEND:20221020T170000Z
DTSTAMP:20260421T165249
CREATED:20220922T170257Z
LAST-MODIFIED:20220922T170257Z
UID:23219-1666263600-1666267200@hdpusergroup.org
SUMMARY:TA Methods
DESCRIPTION:Further testing progress 
URL:https://hdpusergroup.org/event/ta-methods/
CATEGORIES:Thermal Analysis Methodolgy Assessment
ORGANIZER;CN=HDP:mailto:webmaster@hdpug.org
END:VEVENT
BEGIN:VEVENT
DTSTART:20221020T180000Z
DTEND:20221020T190000Z
DTSTAMP:20260421T165249
CREATED:20220927T143000Z
LAST-MODIFIED:20220927T143000Z
UID:23240-1666270800-1666274400@hdpusergroup.org
SUMMARY:Cu Peel Strength 2
DESCRIPTION:Review results of peel tests. 
URL:https://hdpusergroup.org/event/cu-peel-strength-2-4/
CATEGORIES:Cu Peel Strength 2
ORGANIZER;CN=HDP:mailto:webmaster@hdpug.org
END:VEVENT
END:VCALENDAR