BEGIN:VCALENDAR
VERSION:2.0
PRODID:-//HDP User Group - ECPv6.10.1.1//NONSGML v1.0//EN
CALSCALE:GREGORIAN
METHOD:PUBLISH
X-ORIGINAL-URL:https://hdpusergroup.org
X-WR-CALDESC:Events for HDP User Group
REFRESH-INTERVAL;VALUE=DURATION:PT1H
X-Robots-Tag:noindex
X-PUBLISHED-TTL:PT1H
BEGIN:VTIMEZONE
TZID:America/Chicago
BEGIN:DAYLIGHT
TZOFFSETFROM:-0600
TZOFFSETTO:-0500
TZNAME:CDT
DTSTART:20220313T080000
END:DAYLIGHT
BEGIN:STANDARD
TZOFFSETFROM:-0500
TZOFFSETTO:-0600
TZNAME:CST
DTSTART:20221106T070000
END:STANDARD
END:VTIMEZONE
BEGIN:VEVENT
DTSTART:20221011T130000Z
DTEND:20221011T190000Z
DTSTAMP:20260421T182339
CREATED:20221005T153248Z
LAST-MODIFIED:20221005T153248Z
UID:23234-1665475200-1665496800@hdpusergroup.org
SUMMARY:HDP Board of Directors Meeting October 11\, 2022
DESCRIPTION:HDP Fall Board of Directors Meeting. 
URL:https://hdpusergroup.org/event/hdp-board-of-directors-meeting-october-11-2022/
CATEGORIES:Board Meetings
ORGANIZER;CN=HDP:mailto:webmaster@hdpug.org
END:VEVENT
BEGIN:VEVENT
DTSTART:20221012T130000Z
DTEND:20221012T220000Z
DTSTAMP:20260421T182339
CREATED:20221007T151833Z
LAST-MODIFIED:20221007T151833Z
UID:22960-1665561600-1665594000@hdpusergroup.org
SUMMARY:HDP Fall Member Meeting
DESCRIPTION:The HDP Fall Member Meeting will be held October 12 & 13\, 2022 in Rock Hill\, South Carolina\, USA.  The meeting will be hosted by Atotech.  Members can register for the meeting by clicking the register button on this page\, or contacting the HDP Business Manager\, Kim Andrews\, at kima77@hdpug.org \nThe meeting will also be available virtually.  The call information is provided below and ics files are available for download at the bottom of this page. \nMeeting Location: \nAtotech USA\, LLC1750 Overview DriveRock Hill\, SC 29730 USA \nThe closest airport to the meeting location is Charlotte Douglas\, approximately 40 minutes from the Atotech campus and Holiday Inn hotel. \nHotel Information:  \nHOLIDAY INN  \n503 Galleria BoulevardRock Hill\, SC 29730  \n RESERVATIONS: 1-803.323.1900  \nEMAIL: frontdesk@hirockhill.com \nAtotech rate including breakfast: $103.95 \nFor assistance with reservations please contact the HDP Administrator at kima77@hdpug.org. \nCall Information: \nDay 1 \n \n\n\n\n\nJoin meeting \n\n\n\n\nMore ways to join:Join from the meeting link –https://hdpug.webex.com/hdpug/j.php?MTID=m40df45df89ce53664a6d2302f7638787  \nJoin by meeting number –Meeting number (access code): 2557 065 8690Meeting password: HDPfall1 \nJoin by phone –1-650-479-3208 Call-in toll number (US/Canada)Global call-in numbers \nDay 2 \n \n\n\n\n\nJoin meeting \n\n\n\n\nMore ways to join:Join from the meeting link –https://hdpug.webex.com/hdpug/j.php?MTID=mba2c7776a726c404353d738cca8d8909  \nJoin by meeting number –Meeting number (access code): 2553 812 0356Meeting password: HDPfall2 \nJoin by phone –1-650-479-3208 Call-in toll number (US/Canada)Global call-in numbers 
URL:https://hdpusergroup.org/event/hdp-fall-member-meeting-3/2022-10-12/
LOCATION:Rock Hill\, South Carolina
CATEGORIES:Member Meetings
ORGANIZER;CN=HDP:mailto:webmaster@hdpug.org
END:VEVENT
END:VCALENDAR