BEGIN:VCALENDAR
VERSION:2.0
PRODID:-//HDP User Group - ECPv6.10.1.1//NONSGML v1.0//EN
CALSCALE:GREGORIAN
METHOD:PUBLISH
X-ORIGINAL-URL:https://hdpusergroup.org
X-WR-CALDESC:Events for HDP User Group
REFRESH-INTERVAL;VALUE=DURATION:PT1H
X-Robots-Tag:noindex
X-PUBLISHED-TTL:PT1H
BEGIN:VTIMEZONE
TZID:America/Chicago
BEGIN:DAYLIGHT
TZOFFSETFROM:-0600
TZOFFSETTO:-0500
TZNAME:CDT
DTSTART:20220313T080000
END:DAYLIGHT
BEGIN:STANDARD
TZOFFSETFROM:-0500
TZOFFSETTO:-0600
TZNAME:CST
DTSTART:20221106T070000
END:STANDARD
END:VTIMEZONE
BEGIN:VEVENT
DTSTART:20220808T150000Z
DTEND:20220808T160000Z
DTSTAMP:20260421T200136
CREATED:20220711T155539Z
LAST-MODIFIED:20220711T155539Z
UID:22923-1659952800-1659956400@hdpusergroup.org
SUMMARY:Final Finish Layer Deposits for High Frequency
DESCRIPTION:Final Finish Layer Deposits for High Frequency 
URL:https://hdpusergroup.org/event/final-finish-layer-deposits-for-high-frequency-8/
CATEGORIES:Final Finish Layer Deposits for High Frequency
ORGANIZER;CN=HDP:mailto:webmaster@hdpug.org
END:VEVENT
BEGIN:VEVENT
DTSTART:20220809T150000Z
DTEND:20220809T160000Z
DTSTAMP:20260421T200136
CREATED:20220801T163846Z
LAST-MODIFIED:20220801T163846Z
UID:22994-1660039200-1660042800@hdpusergroup.org
SUMMARY:Reduced Cost CAF telecom
DESCRIPTION:Reduced Cost CAF telecom 
URL:https://hdpusergroup.org/event/reduced-cost-caf-telecom-3/
CATEGORIES:Reduced Cost CAF
ORGANIZER;CN=HDP:mailto:webmaster@hdpug.org
END:VEVENT
BEGIN:VEVENT
DTSTART:20220809T160000Z
DTEND:20220809T170000Z
DTSTAMP:20260421T200136
CREATED:20220728T220220Z
LAST-MODIFIED:20220728T220220Z
UID:22990-1660042800-1660046400@hdpusergroup.org
SUMMARY:Cu Surface Treatment vs Loss
DESCRIPTION:Had to move due to Joe's availability. \nDiscuss data and final report 
URL:https://hdpusergroup.org/event/cu-surface-treatment-vs-loss-2/
CATEGORIES:Cu Grain Structure
ORGANIZER;CN=HDP:mailto:webmaster@hdpug.org
END:VEVENT
BEGIN:VEVENT
DTSTART:20220810T010000Z
DTEND:20220810T020000Z
DTSTAMP:20260421T200136
CREATED:20220804T080155Z
LAST-MODIFIED:20220804T080155Z
UID:22770-1660075200-1660078800@hdpusergroup.org
SUMMARY:High Speed Hybrid PWB Project Call
DESCRIPTION:High Speed Hybrid PWB Project Call 
URL:https://hdpusergroup.org/event/high-speed-hybrid-pwb-project-call-42/
CATEGORIES:High Speed Hybrid PWB
ORGANIZER;CN=HDP:mailto:webmaster@hdpug.org
END:VEVENT
BEGIN:VEVENT
DTSTART:20220810T160000Z
DTEND:20220810T170000Z
DTSTAMP:20260421T200136
CREATED:20220802T194020Z
LAST-MODIFIED:20220802T194020Z
UID:22952-1660129200-1660132800@hdpusergroup.org
SUMMARY:Backdrill Transition Telecom
DESCRIPTION:Backdrill Transition Telecom 
URL:https://hdpusergroup.org/event/backdrill-transition-telecom/
CATEGORIES:Back drill to Primary via Transition
ORGANIZER;CN=HDP:mailto:webmaster@hdpug.org
END:VEVENT
BEGIN:VEVENT
DTSTART:20220811T130000Z
DTEND:20220811T140000Z
DTSTAMP:20260421T200136
CREATED:20220728T131545Z
LAST-MODIFIED:20220728T131545Z
UID:22979-1660204800-1660208400@hdpusergroup.org
SUMMARY:Photo Soldering 2
DESCRIPTION:Status of board build and thermocupling 
URL:https://hdpusergroup.org/event/photo-soldering-2/
CATEGORIES:Photonic Soldering 2
ORGANIZER;CN=HDP:mailto:webmaster@hdpug.org
END:VEVENT
BEGIN:VEVENT
DTSTART:20220811T140000Z
DTEND:20220811T150000Z
DTSTAMP:20260421T200136
CREATED:20220721T142931Z
LAST-MODIFIED:20220721T142931Z
UID:22967-1660208400-1660212000@hdpusergroup.org
SUMMARY:Single Surface Finish meeting
DESCRIPTION:Meeting 
URL:https://hdpusergroup.org/event/july-21-1000-am-1100-am-edt-single-surface-finish-meeting/
CATEGORIES:Single Surface Finish for Soldered & Compression
ORGANIZER;CN=HDP:mailto:webmaster@hdpug.org
END:VEVENT
BEGIN:VEVENT
DTSTART:20220811T160000Z
DTEND:20220811T170000Z
DTSTAMP:20260421T200136
CREATED:20220720T170759Z
LAST-MODIFIED:20220720T170759Z
UID:22966-1660215600-1660219200@hdpusergroup.org
SUMMARY:TA Method
DESCRIPTION:Results of intial testing 
URL:https://hdpusergroup.org/event/ta-method-3/
CATEGORIES:Thermal Analysis Methodolgy Assessment
ORGANIZER;CN=HDP:mailto:webmaster@hdpug.org
END:VEVENT
BEGIN:VEVENT
DTSTART:20220812T170000Z
DTEND:20220812T180000Z
DTSTAMP:20260421T200136
CREATED:20220801T174249Z
LAST-MODIFIED:20220801T174249Z
UID:23002-1660305600-1660309200@hdpusergroup.org
SUMMARY:Ultra-Low Dk Glass Analysis Project Call
DESCRIPTION:Periodic Project Call 
URL:https://hdpusergroup.org/event/ultra-low-dk-glass-analysis-project-call-6/
CATEGORIES:Glass Weave
ORGANIZER;CN=HDP:mailto:webmaster@hdpug.org
END:VEVENT
END:VCALENDAR