BEGIN:VCALENDAR
VERSION:2.0
PRODID:-//HDP User Group - ECPv6.10.1.1//NONSGML v1.0//EN
CALSCALE:GREGORIAN
METHOD:PUBLISH
X-ORIGINAL-URL:https://hdpusergroup.org
X-WR-CALDESC:Events for HDP User Group
REFRESH-INTERVAL;VALUE=DURATION:PT1H
X-Robots-Tag:noindex
X-PUBLISHED-TTL:PT1H
BEGIN:VTIMEZONE
TZID:America/Chicago
BEGIN:DAYLIGHT
TZOFFSETFROM:-0600
TZOFFSETTO:-0500
TZNAME:CDT
DTSTART:20220313T080000
END:DAYLIGHT
BEGIN:STANDARD
TZOFFSETFROM:-0500
TZOFFSETTO:-0600
TZNAME:CST
DTSTART:20221106T070000
END:STANDARD
END:VTIMEZONE
BEGIN:VEVENT
DTSTART:20220801T160000Z
DTEND:20220801T170000Z
DTSTAMP:20260421T182151
CREATED:20220719T123553Z
LAST-MODIFIED:20220719T123553Z
UID:22951-1659351600-1659355200@hdpusergroup.org
SUMMARY:Innerlayer Copper Balancing
DESCRIPTION:Innerlayer Copper Balancing 
URL:https://hdpusergroup.org/event/innerlayer-copper-balancing-6/
CATEGORIES:Local Copper Density
ORGANIZER;CN=HDP:mailto:webmaster@hdpug.org
END:VEVENT
BEGIN:VEVENT
DTSTART:20220802T170000Z
DTEND:20220802T180000Z
DTSTAMP:20260421T182151
CREATED:20220706T181214Z
LAST-MODIFIED:20220706T181214Z
UID:22905-1659441600-1659445200@hdpusergroup.org
SUMMARY:Harsh Use Alloy Evaluation Project Call
DESCRIPTION:Periodic Project Call 
URL:https://hdpusergroup.org/event/harsh-use-alloy-evaluation-project-call-8/
CATEGORIES:Harsh Use Alloy Evaluation 2
ORGANIZER;CN=HDP:mailto:webmaster@hdpug.org
END:VEVENT
BEGIN:VEVENT
DTSTART:20220803T150000Z
DTEND:20220803T160000Z
DTSTAMP:20260421T182151
CREATED:20220720T160907Z
LAST-MODIFIED:20220720T160907Z
UID:22965-1659520800-1659524400@hdpusergroup.org
SUMMARY:Materials #7 meeting
DESCRIPTION:Meeting 
URL:https://hdpusergroup.org/event/materials-7-meeting-4/
CATEGORIES:Materials #7
ORGANIZER;CN=HDP:mailto:webmaster@hdpug.org
END:VEVENT
BEGIN:VEVENT
DTSTART:20220803T180000Z
DTEND:20220803T190000Z
DTSTAMP:20260421T182151
CREATED:20220720T122829Z
LAST-MODIFIED:20220720T122829Z
UID:22958-1659531600-1659535200@hdpusergroup.org
SUMMARY:Glass type composition Project call
DESCRIPTION:Call to discuss project results 
URL:https://hdpusergroup.org/event/glass-type-composition-project-call/
LOCATION:Virtual
CATEGORIES:Glass Type Composition
ORGANIZER;CN=HDP:mailto:webmaster@hdpug.org
END:VEVENT
BEGIN:VEVENT
DTSTART:20220804T130000Z
DTEND:20220804T140000Z
DTSTAMP:20260421T182151
CREATED:20220728T184648Z
LAST-MODIFIED:20220728T184648Z
UID:22983-1659600000-1659603600@hdpusergroup.org
SUMMARY:SIR Next Ev
DESCRIPTION:Possible test houses \nWhat exactly will we tackle that will be different than other ventures? 
URL:https://hdpusergroup.org/event/sir-next-ev/
CATEGORIES:Surface Insulation Resistance (SIR) Testing the Next Evolution
ORGANIZER;CN=HDP:mailto:webmaster@hdpug.org
END:VEVENT
BEGIN:VEVENT
DTSTART:20220804T140000Z
DTEND:20220804T150000Z
DTSTAMP:20260421T182151
CREATED:20220803T192955Z
LAST-MODIFIED:20220803T192955Z
UID:23014-1659603600-1659607200@hdpusergroup.org
SUMMARY:Better CAF Eq
DESCRIPTION:Updates from Hubert and Jason 
URL:https://hdpusergroup.org/event/better-caf-eq-19/
CATEGORIES:Better CAF Acceleration Equation
ORGANIZER;CN=HDP:mailto:webmaster@hdpug.org
END:VEVENT
BEGIN:VEVENT
DTSTART:20220804T190000Z
DTEND:20220804T200000Z
DTSTAMP:20260421T182151
CREATED:20220728T192210Z
LAST-MODIFIED:20220728T192210Z
UID:22984-1659621600-1659625200@hdpusergroup.org
SUMMARY:Microvia Reliability
DESCRIPTION:Review draft submission of document for going to Implementation to be sent to the BoD  
URL:https://hdpusergroup.org/event/microvia-reliability-3/
CATEGORIES:Microvia Reliability
ORGANIZER;CN=HDP:mailto:webmaster@hdpug.org
END:VEVENT
BEGIN:VEVENT
DTSTART:20220805T140000Z
DTEND:20220805T150000Z
DTSTAMP:20260421T182151
CREATED:20220711T153250Z
LAST-MODIFIED:20220711T153250Z
UID:22922-1659690000-1659693600@hdpusergroup.org
SUMMARY:Effects of Plating Thickness on CTF at IST Project Call
DESCRIPTION:Effects of Plating Thickness on CTF at IST Project Call 
URL:https://hdpusergroup.org/event/effects-of-plating-thickness-on-ctf-at-ist-project-call-15/
CATEGORIES:Effects of Plating Thickness on Cycles to Failure at IST
ORGANIZER;CN=HDP:mailto:webmaster@hdpug.org
END:VEVENT
END:VCALENDAR