BEGIN:VCALENDAR
VERSION:2.0
PRODID:-//HDP User Group - ECPv6.10.1.1//NONSGML v1.0//EN
CALSCALE:GREGORIAN
METHOD:PUBLISH
X-ORIGINAL-URL:https://hdpusergroup.org
X-WR-CALDESC:Events for HDP User Group
REFRESH-INTERVAL;VALUE=DURATION:PT1H
X-Robots-Tag:noindex
X-PUBLISHED-TTL:PT1H
BEGIN:VTIMEZONE
TZID:America/Chicago
BEGIN:DAYLIGHT
TZOFFSETFROM:-0600
TZOFFSETTO:-0500
TZNAME:CDT
DTSTART:20220313T080000
END:DAYLIGHT
BEGIN:STANDARD
TZOFFSETFROM:-0500
TZOFFSETTO:-0600
TZNAME:CST
DTSTART:20221106T070000
END:STANDARD
END:VTIMEZONE
BEGIN:VEVENT
DTSTART:20220620T140000Z
DTEND:20220620T150000Z
DTSTAMP:20260421T213826
CREATED:20220603T012915Z
LAST-MODIFIED:20220603T012915Z
UID:22701-1655715600-1655719200@hdpusergroup.org
SUMMARY:Cu Surface Roughness Model
DESCRIPTION:Review model evaluation protocol \n  
URL:https://hdpusergroup.org/event/cu-surface-roughness-model/
LOCATION:Virtual
CATEGORIES:Staff Calendar
ORGANIZER;CN=HDP:mailto:webmaster@hdpug.org
END:VEVENT
BEGIN:VEVENT
DTSTART:20220620T150000Z
DTEND:20220620T160000Z
DTSTAMP:20260421T213826
CREATED:20220523T225705Z
LAST-MODIFIED:20220523T225705Z
UID:22595-1655719200-1655722800@hdpusergroup.org
SUMMARY:Final Finish Layer Deposits for High Frequency
DESCRIPTION:Final Finish Layer Deposits for High Frequency 
URL:https://hdpusergroup.org/event/final-finish-layer-deposits-for-high-frequency-6/
CATEGORIES:Final Finish Layer Deposits for High Frequency
ORGANIZER;CN=HDP:mailto:webmaster@hdpug.org
END:VEVENT
BEGIN:VEVENT
DTSTART:20220621T170000Z
DTEND:20220621T180000Z
DTSTAMP:20260421T213826
CREATED:20220524T172400Z
LAST-MODIFIED:20220524T172400Z
UID:22644-1655812800-1655816400@hdpusergroup.org
SUMMARY:Harsh Use Alloy Evaluation Project Call
DESCRIPTION:Periodic Project Call 
URL:https://hdpusergroup.org/event/harsh-use-alloy-evaluation-project-call-6/
CATEGORIES:Harsh Use Alloy Evaluation 2
ORGANIZER;CN=HDP:mailto:webmaster@hdpug.org
END:VEVENT
BEGIN:VEVENT
DTSTART:20220622T140000Z
DTEND:20220622T150000Z
DTSTAMP:20260421T213826
CREATED:20220609T150312Z
LAST-MODIFIED:20220609T150312Z
UID:22750-1655888400-1655892000@hdpusergroup.org
SUMMARY:SIR Testing the Next Evolution Meeting
DESCRIPTION:Meeting 
URL:https://hdpusergroup.org/event/sir-testing-the-next-evolution-meeting-7/
CATEGORIES:Surface Insulation Resistance (SIR) Testing the Next Evolution
ORGANIZER;CN=HDP:mailto:webmaster@hdpug.org
END:VEVENT
BEGIN:VEVENT
DTSTART:20220623T130000Z
DTEND:20220623T140000Z
DTSTAMP:20260421T213826
CREATED:20220622T193556Z
LAST-MODIFIED:20220622T193556Z
UID:22785-1655971200-1655974800@hdpusergroup.org
SUMMARY:Photonic Soldering II
DESCRIPTION:Talk about thermocouples and drop testing 
URL:https://hdpusergroup.org/event/photonic-soldering-ii-16/
CATEGORIES:Photonic Soldering 2
ORGANIZER;CN=HDP:mailto:webmaster@hdpug.org
END:VEVENT
BEGIN:VEVENT
DTSTART:20220623T140000Z
DTEND:20220623T150000Z
DTSTAMP:20260421T213826
CREATED:20220526T143627Z
LAST-MODIFIED:20220526T143627Z
UID:22652-1655974800-1655978400@hdpusergroup.org
SUMMARY:Single Surface Finish meeting
DESCRIPTION:Meeting 
URL:https://hdpusergroup.org/event/single-surface-finish-meeting-13/
CATEGORIES:Single Surface Finish for Soldered & Compression
ORGANIZER;CN=HDP:mailto:webmaster@hdpug.org
END:VEVENT
BEGIN:VEVENT
DTSTART:20220623T150000Z
DTEND:20220623T160000Z
DTSTAMP:20260421T213826
CREATED:20220617T122822Z
LAST-MODIFIED:20220617T122822Z
UID:22786-1655978400-1655982000@hdpusergroup.org
SUMMARY:Better CAF Eq
DESCRIPTION:Uo dates from Hubert and Jason 
URL:https://hdpusergroup.org/event/better-caf-eq-18/
CATEGORIES:Better CAF Acceleration Equation
ORGANIZER;CN=HDP:mailto:webmaster@hdpug.org
END:VEVENT
BEGIN:VEVENT
DTSTART:20220623T160000Z
DTEND:20220623T170000Z
DTSTAMP:20260421T213826
CREATED:20220602T163626Z
LAST-MODIFIED:20220602T163626Z
UID:22695-1655982000-1655985600@hdpusergroup.org
SUMMARY:Cu Surface Treatment vs. Loss Project Call
DESCRIPTION:Review Joe's latest analysis 
URL:https://hdpusergroup.org/event/cu-surface-treatment-vs-loss-project-call-2/
LOCATION:Virtual
CATEGORIES:Cu Grain Structure
ORGANIZER;CN=HDP:mailto:webmaster@hdpug.org
END:VEVENT
BEGIN:VEVENT
DTSTART:20220624T170000Z
DTEND:20220624T180000Z
DTSTAMP:20260421T213826
CREATED:20220613T195143Z
LAST-MODIFIED:20220613T195143Z
UID:22764-1656072000-1656075600@hdpusergroup.org
SUMMARY:Ultra-Low Dk Glass Analysis Project Call
DESCRIPTION:Project Call 
URL:https://hdpusergroup.org/event/ultra-low-dk-glass-analysis-project-call-4/
CATEGORIES:Glass Weave
ORGANIZER;CN=HDP:mailto:webmaster@hdpug.org
END:VEVENT
END:VCALENDAR