BEGIN:VCALENDAR
VERSION:2.0
PRODID:-//HDP User Group - ECPv6.10.1.1//NONSGML v1.0//EN
CALSCALE:GREGORIAN
METHOD:PUBLISH
X-ORIGINAL-URL:https://hdpusergroup.org
X-WR-CALDESC:Events for HDP User Group
REFRESH-INTERVAL;VALUE=DURATION:PT1H
X-Robots-Tag:noindex
X-PUBLISHED-TTL:PT1H
BEGIN:VTIMEZONE
TZID:America/Chicago
BEGIN:DAYLIGHT
TZOFFSETFROM:-0600
TZOFFSETTO:-0500
TZNAME:CDT
DTSTART:20220313T080000
END:DAYLIGHT
BEGIN:STANDARD
TZOFFSETFROM:-0500
TZOFFSETTO:-0600
TZNAME:CST
DTSTART:20221106T070000
END:STANDARD
END:VTIMEZONE
BEGIN:VEVENT
DTSTART:20220510T000000Z
DTEND:20220510T010000Z
DTSTAMP:20260421T232518
CREATED:20220506T124616Z
LAST-MODIFIED:20220506T124616Z
UID:22531-1652122800-1652126400@hdpusergroup.org
SUMMARY:Last project call to review Reliability of Wettable Flank in Routable QFN for Automotive final report
DESCRIPTION:Call to review final report 
URL:https://hdpusergroup.org/event/last-project-call-to-review-reliability-of-wettable-flank-in-routable-qfn-for-automotive-final-report/
LOCATION:Virtual
CATEGORIES:Reliability of Wettable Flank in Routable QFN for Automotive
ORGANIZER;CN=HDP:mailto:webmaster@hdpug.org
END:VEVENT
BEGIN:VEVENT
DTSTART:20220510T150000Z
DTEND:20220510T160000Z
DTSTAMP:20260421T232518
CREATED:20220412T151201Z
LAST-MODIFIED:20220412T151201Z
UID:22384-1652176800-1652180400@hdpusergroup.org
SUMMARY:Better CAF Eq
DESCRIPTION:Updates from Hubert and Jason 
URL:https://hdpusergroup.org/event/better-caf-eq-16/
CATEGORIES:Better CAF Acceleration Equation
ORGANIZER;CN=HDP:mailto:webmaster@hdpug.org
END:VEVENT
BEGIN:VEVENT
DTSTART:20220510T170000Z
DTEND:20220510T180000Z
DTSTAMP:20260421T232518
CREATED:20220502T173846Z
LAST-MODIFIED:20220502T173846Z
UID:22465-1652184000-1652187600@hdpusergroup.org
SUMMARY:Harsh Use Alloy Evaluation
DESCRIPTION:Periodic project call 
URL:https://hdpusergroup.org/event/harsh-use-alloy-evaluation-3/
CATEGORIES:Harsh Use Alloy Evaluation 2
ORGANIZER;CN=HDP:mailto:webmaster@hdpug.org
END:VEVENT
BEGIN:VEVENT
DTSTART:20220510T190000Z
DTEND:20220510T200000Z
DTSTAMP:20260421T232518
CREATED:20220421T194922Z
LAST-MODIFIED:20220421T194922Z
UID:22429-1652191200-1652194800@hdpusergroup.org
SUMMARY:DISC2A
DESCRIPTION:Finalize Final report 
URL:https://hdpusergroup.org/event/disc2a-47/
CATEGORIES:Digital Speckle Correlation (DSC) 2
ORGANIZER;CN=HDP:mailto:webmaster@hdpug.org
END:VEVENT
BEGIN:VEVENT
DTSTART:20220512T010000Z
DTEND:20220512T020000Z
DTSTAMP:20260421T232518
CREATED:20220302T013343Z
LAST-MODIFIED:20220302T013343Z
UID:22143-1652299200-1652302800@hdpusergroup.org
SUMMARY:LVH Lifetime Predictor for TC Project Call
DESCRIPTION:LVH Lifetime Predictor for TC Project Call 
URL:https://hdpusergroup.org/event/lvh-lifetime-predictor-for-tc-project-call-11/
CATEGORIES:LVH Lifetime Predictor for TC
ORGANIZER;CN=HDP:mailto:webmaster@hdpug.org
END:VEVENT
BEGIN:VEVENT
DTSTART:20220512T173000Z
DTEND:20220512T180000Z
DTSTAMP:20260421T232518
CREATED:20220512T172536Z
LAST-MODIFIED:20220512T172536Z
UID:22567-1652358600-1652360400@hdpusergroup.org
SUMMARY:Call with Matt
DESCRIPTION:Call with matt 
URL:https://hdpusergroup.org/event/call-with-matt/
LOCATION:Virtual
CATEGORIES:Staff Calendar
ORGANIZER;CN=HDP:mailto:webmaster@hdpug.org
END:VEVENT
BEGIN:VEVENT
DTSTART:20220512T180000Z
DTEND:20220512T183000Z
DTSTAMP:20260421T232518
CREATED:20220510T164539Z
LAST-MODIFIED:20220510T164539Z
UID:22555-1652360400-1652362200@hdpusergroup.org
SUMMARY:Presenter Orientation
DESCRIPTION:Orientation session for new virtual presenter.  Smitty\, Larry\, and Kim to attend. 
URL:https://hdpusergroup.org/event/presenter-orientation/
LOCATION:Virtual
CATEGORIES:Staff Calendar
ORGANIZER;CN=HDP:mailto:webmaster@hdpug.org
END:VEVENT
BEGIN:VEVENT
DTSTART:20220512T190000Z
DTEND:20220512T200000Z
DTSTAMP:20260421T232518
CREATED:20220510T200335Z
LAST-MODIFIED:20220510T200335Z
UID:22558-1652364000-1652367600@hdpusergroup.org
SUMMARY:DISC2A
DESCRIPTION:Final cut of presentation 
URL:https://hdpusergroup.org/event/disc2a-48/
CATEGORIES:Digital Speckle Correlation (DSC) 2
ORGANIZER;CN=HDP:mailto:webmaster@hdpug.org
END:VEVENT
BEGIN:VEVENT
DTSTART:20220512T200000Z
DTEND:20220512T210000Z
DTSTAMP:20260421T232518
CREATED:20220428T203543Z
LAST-MODIFIED:20220428T203543Z
UID:22455-1652367600-1652371200@hdpusergroup.org
SUMMARY:Photonic Soldering 2
DESCRIPTION:Status of intial preparations \nLast look at Members' Meeting presentation before submission 
URL:https://hdpusergroup.org/event/photonic-soldering-2-6/
CATEGORIES:Photonic Soldering 2
ORGANIZER;CN=HDP:mailto:webmaster@hdpug.org
END:VEVENT
BEGIN:VEVENT
DTSTART:20220513T140000Z
DTEND:20220513T150000Z
DTSTAMP:20260421T232518
CREATED:20220422T144156Z
LAST-MODIFIED:20220422T144156Z
UID:22430-1652432400-1652436000@hdpusergroup.org
SUMMARY:Effects of Plating Thickness on CTF at IST Project Call
DESCRIPTION:Effects of Plating Thickness on CTF at IST Project Call 
URL:https://hdpusergroup.org/event/effects-of-plating-thickness-on-ctf-at-ist-project-call-12/
CATEGORIES:Effects of Plating Thickness on Cycles to Failure at IST
ORGANIZER;CN=HDP:mailto:webmaster@hdpug.org
END:VEVENT
BEGIN:VEVENT
DTSTART:20220513T170000Z
DTEND:20220513T180000Z
DTSTAMP:20260421T232518
CREATED:20220502T181010Z
LAST-MODIFIED:20220502T181010Z
UID:22468-1652443200-1652446800@hdpusergroup.org
SUMMARY:Ultra-Low Dk Glass Analysis Project
DESCRIPTION:Periodic Project Call 
URL:https://hdpusergroup.org/event/ultra-low-dk-glass-analysis-project-7/
CATEGORIES:Glass Weave
ORGANIZER;CN=HDP:mailto:webmaster@hdpug.org
END:VEVENT
END:VCALENDAR