BEGIN:VCALENDAR
VERSION:2.0
PRODID:-//HDP User Group - ECPv6.10.1.1//NONSGML v1.0//EN
CALSCALE:GREGORIAN
METHOD:PUBLISH
X-ORIGINAL-URL:https://hdpusergroup.org
X-WR-CALDESC:Events for HDP User Group
REFRESH-INTERVAL;VALUE=DURATION:PT1H
X-Robots-Tag:noindex
X-PUBLISHED-TTL:PT1H
BEGIN:VTIMEZONE
TZID:America/Chicago
BEGIN:DAYLIGHT
TZOFFSETFROM:-0600
TZOFFSETTO:-0500
TZNAME:CDT
DTSTART:20220313T080000
END:DAYLIGHT
BEGIN:STANDARD
TZOFFSETFROM:-0500
TZOFFSETTO:-0600
TZNAME:CST
DTSTART:20221106T070000
END:STANDARD
END:VTIMEZONE
BEGIN:VEVENT
DTSTART:20220425T170000Z
DTEND:20220425T180000Z
DTSTAMP:20260422T010416
CREATED:20220418T194355Z
LAST-MODIFIED:20220418T194355Z
UID:22411-1650888000-1650891600@hdpusergroup.org
SUMMARY:Microvia Rel
DESCRIPTION:Continue fleshing out a project definition 
URL:https://hdpusergroup.org/event/microvia-rel-9/
CATEGORIES:Microvia Reliability
ORGANIZER;CN=HDP:mailto:webmaster@hdpug.org
END:VEVENT
BEGIN:VEVENT
DTSTART:20220426T170000Z
DTEND:20220426T180000Z
DTSTAMP:20260422T010416
CREATED:20220418T142604Z
LAST-MODIFIED:20220418T142604Z
UID:22399-1650974400-1650978000@hdpusergroup.org
SUMMARY:Harsh Use Alloy Evaluation
DESCRIPTION:Periodic project review. 
URL:https://hdpusergroup.org/event/harsh-use-alloy-evaluation-2/
CATEGORIES:Harsh Use Alloy Evaluation 2
ORGANIZER;CN=HDP:mailto:webmaster@hdpug.org
END:VEVENT
BEGIN:VEVENT
DTSTART:20220427T020000Z
DTEND:20220427T030000Z
DTSTAMP:20260422T010416
CREATED:20220324T085144Z
LAST-MODIFIED:20220324T085144Z
UID:21971-1651006800-1651010400@hdpusergroup.org
SUMMARY:High Speed Hybrid PWB Project Call
DESCRIPTION:High Speed Hybrid PWB Project Call 
URL:https://hdpusergroup.org/event/high-speed-hybrid-pwb-project-call-39/
CATEGORIES:High Speed Hybrid PWB
ORGANIZER;CN=HDP:mailto:webmaster@hdpug.org
END:VEVENT
BEGIN:VEVENT
DTSTART:20220427T140000Z
DTEND:20220427T150000Z
DTSTAMP:20260422T010416
CREATED:20220406T151755Z
LAST-MODIFIED:20220406T151755Z
UID:22371-1651050000-1651053600@hdpusergroup.org
SUMMARY:SIR Testing the Next Evolution Meeting
DESCRIPTION:Meeting 
URL:https://hdpusergroup.org/event/april-6-1000-am-1100-am-edt-sir-testing-the-next-evolution-meeting/
CATEGORIES:Surface Insulation Resistance (SIR) Testing the Next Evolution
ORGANIZER;CN=HDP:mailto:webmaster@hdpug.org
END:VEVENT
BEGIN:VEVENT
DTSTART:20220427T200000Z
DTEND:20220427T210000Z
DTSTAMP:20260422T010416
CREATED:20220420T154123Z
LAST-MODIFIED:20220420T154123Z
UID:22326-1651071600-1651075200@hdpusergroup.org
SUMMARY:Board Thickness II
DESCRIPTION:Review draft final presentation 
URL:https://hdpusergroup.org/event/board-thickness-ii-29/
CATEGORIES:Board Thickness Effect on ATC Reliability II
ORGANIZER;CN=HDP:mailto:webmaster@hdpug.org
END:VEVENT
BEGIN:VEVENT
DTSTART:20220428T000000Z
DTEND:20220428T010000Z
DTSTAMP:20260422T010416
CREATED:20220415T142328Z
LAST-MODIFIED:20220415T142328Z
UID:22396-1651086000-1651089600@hdpusergroup.org
SUMMARY:Reliability of Wettable Flank in Routable QFN for Auto - Project Call
DESCRIPTION:Work on the final report 
URL:https://hdpusergroup.org/event/reliability-of-wettable-flank-in-routable-qfn-for-auto-project-call/
LOCATION:Virtual
CATEGORIES:Reliability of Wettable Flank in Routable QFN for Automotive
ORGANIZER;CN=HDP:mailto:webmaster@hdpug.org
END:VEVENT
BEGIN:VEVENT
DTSTART:20220428T200000Z
DTEND:20220428T210000Z
DTSTAMP:20260422T010416
CREATED:20220427T212516Z
LAST-MODIFIED:20220427T212516Z
UID:22441-1651158000-1651161600@hdpusergroup.org
SUMMARY:Photonic Soldering 2
DESCRIPTION:Board Status \nReview presentation for May meeting 
URL:https://hdpusergroup.org/event/photonic-soldering-2-7/
CATEGORIES:Photonic Soldering 2
ORGANIZER;CN=HDP:mailto:webmaster@hdpug.org
END:VEVENT
BEGIN:VEVENT
DTSTART:20220429T140000Z
DTEND:20220429T150000Z
DTSTAMP:20260422T010416
CREATED:20220422T191046Z
LAST-MODIFIED:20220422T191046Z
UID:22386-1651222800-1651226400@hdpusergroup.org
SUMMARY:ECM 3 Project Meeting
DESCRIPTION:Meeting 
URL:https://hdpusergroup.org/event/ecm-3-project-meeting-4/
CATEGORIES:ECM 3
ORGANIZER;CN=HDP:mailto:webmaster@hdpug.org
END:VEVENT
BEGIN:VEVENT
DTSTART:20220429T170000Z
DTEND:20220429T180000Z
DTSTAMP:20260422T010416
CREATED:20220418T142903Z
LAST-MODIFIED:20220418T142903Z
UID:22400-1651233600-1651237200@hdpusergroup.org
SUMMARY:Ultra-Low Dk Glass Analysis
DESCRIPTION:Periodic Project Call 
URL:https://hdpusergroup.org/event/ultra-low-dk-glass-analysis-9/
CATEGORIES:Glass Weave
ORGANIZER;CN=HDP:mailto:webmaster@hdpug.org
END:VEVENT
END:VCALENDAR