BEGIN:VCALENDAR
VERSION:2.0
PRODID:-//HDP User Group - ECPv6.10.1.1//NONSGML v1.0//EN
CALSCALE:GREGORIAN
METHOD:PUBLISH
X-ORIGINAL-URL:https://hdpusergroup.org
X-WR-CALDESC:Events for HDP User Group
REFRESH-INTERVAL;VALUE=DURATION:PT1H
X-Robots-Tag:noindex
X-PUBLISHED-TTL:PT1H
BEGIN:VTIMEZONE
TZID:America/Chicago
BEGIN:DAYLIGHT
TZOFFSETFROM:-0600
TZOFFSETTO:-0500
TZNAME:CDT
DTSTART:20220313T080000
END:DAYLIGHT
BEGIN:STANDARD
TZOFFSETFROM:-0500
TZOFFSETTO:-0600
TZNAME:CST
DTSTART:20221106T070000
END:STANDARD
END:VTIMEZONE
BEGIN:VEVENT
DTSTART:20220328T150000Z
DTEND:20220328T160000Z
DTSTAMP:20260422T063327
CREATED:20220314T161817Z
LAST-MODIFIED:20220314T161817Z
UID:22266-1648461600-1648465200@hdpusergroup.org
SUMMARY:Final Finish Layer Deposits for High Frequency
DESCRIPTION:Final Finish Layer Deposits for High Frequency Project Call March 28\,2022 
URL:https://hdpusergroup.org/event/final-finish-layer-deposits-for-high-frequency/
CATEGORIES:Final Finish Layer Deposits for High Frequency
ORGANIZER;CN=HDP:mailto:webmaster@hdpug.org
END:VEVENT
BEGIN:VEVENT
DTSTART:20220328T180000Z
DTEND:20220328T190000Z
DTSTAMP:20260422T063327
CREATED:20220325T134706Z
LAST-MODIFIED:20220325T134706Z
UID:22068-1648472400-1648476000@hdpusergroup.org
SUMMARY:DISC2A
DESCRIPTION:Next set of back drill results \nUpdate from Thilo on progress on final report 
URL:https://hdpusergroup.org/event/disc2a-43/
CATEGORIES:Digital Speckle Correlation (DSC) 2
ORGANIZER;CN=HDP:mailto:webmaster@hdpug.org
END:VEVENT
BEGIN:VEVENT
DTSTART:20220329T170000Z
DTEND:20220329T180000Z
DTSTAMP:20260422T063327
CREATED:20220318T144417Z
LAST-MODIFIED:20220318T144417Z
UID:22301-1648555200-1648558800@hdpusergroup.org
SUMMARY:Harsh Use Alloy Eval Project Call
DESCRIPTION:Project Call -- Harsh Use Alloy Eval 2 & 3 
URL:https://hdpusergroup.org/event/harsh-use-alloy-eval-project-call-4/
CATEGORIES:Harsh Use Alloy Evaluation 2
ORGANIZER;CN=HDP:mailto:webmaster@hdpug.org
END:VEVENT
BEGIN:VEVENT
DTSTART:20220330T140000Z
DTEND:20220330T150000Z
DTSTAMP:20260422T063327
CREATED:20220316T150417Z
LAST-MODIFIED:20220316T150417Z
UID:22278-1648630800-1648634400@hdpusergroup.org
SUMMARY:ECM 3 Project Meeting
DESCRIPTION:Meeting 
URL:https://hdpusergroup.org/event/ecm-3-project-meeting-2/
CATEGORIES:ECM 3
ORGANIZER;CN=HDP:mailto:webmaster@hdpug.org
END:VEVENT
BEGIN:VEVENT
DTSTART:20220330T150000Z
DTEND:20220330T160000Z
DTSTAMP:20260422T063327
CREATED:20220316T123703Z
LAST-MODIFIED:20220316T123703Z
UID:22277-1648634400-1648638000@hdpusergroup.org
SUMMARY:CAF Eq
DESCRIPTION:Update on testing 
URL:https://hdpusergroup.org/event/caf-eq-3/
CATEGORIES:Better CAF Acceleration Equation
ORGANIZER;CN=HDP:mailto:webmaster@hdpug.org
END:VEVENT
BEGIN:VEVENT
DTSTART:20220330T200000Z
DTEND:20220330T210000Z
DTSTAMP:20260422T063327
CREATED:20220316T204158Z
LAST-MODIFIED:20220316T204158Z
UID:22162-1648652400-1648656000@hdpusergroup.org
SUMMARY:Board Thickness II
DESCRIPTION:Omar’s cycles to failure runs 
URL:https://hdpusergroup.org/event/board-thickness-ii-28/
CATEGORIES:Board Thickness Effect on ATC Reliability II
ORGANIZER;CN=HDP:mailto:webmaster@hdpug.org
END:VEVENT
BEGIN:VEVENT
DTSTART:20220331T000000Z
DTEND:20220331T010000Z
DTSTAMP:20260422T063327
CREATED:20220314T163853Z
LAST-MODIFIED:20220314T163853Z
UID:22267-1648666800-1648670400@hdpusergroup.org
SUMMARY:Reliability of Wettable Flank in Routable QFN for Automotive Project Call
DESCRIPTION:Work on the final report 
URL:https://hdpusergroup.org/event/reliability-of-wettable-flank-in-routable-qfn-for-automotive-project-call-23/
LOCATION:Virtual
CATEGORIES:Reliability of Wettable Flank in Routable QFN for Automotive
ORGANIZER;CN=HDP:mailto:webmaster@hdpug.org
END:VEVENT
BEGIN:VEVENT
DTSTART:20220331T140000Z
DTEND:20220331T150000Z
DTSTAMP:20260422T063327
CREATED:20220314T201149Z
LAST-MODIFIED:20220314T201149Z
UID:22271-1648717200-1648720800@hdpusergroup.org
SUMMARY:Single Surface Finish project call - Rescheduled
DESCRIPTION:Meeting 
URL:https://hdpusergroup.org/event/single-surface-finish-project-call-rescheduled/
CATEGORIES:Single Surface Finish for Soldered & Compression
ORGANIZER;CN=HDP:mailto:webmaster@hdpug.org
END:VEVENT
BEGIN:VEVENT
DTSTART:20220331T190000Z
DTEND:20220331T200000Z
DTSTAMP:20260422T063327
CREATED:20220303T200833Z
LAST-MODIFIED:20220303T200833Z
UID:22159-1648735200-1648738800@hdpusergroup.org
SUMMARY:PCB Feature Min
DESCRIPTION:Board Build Status 
URL:https://hdpusergroup.org/event/pcb-feature-min-19/
CATEGORIES:PCB Feature Miniaturization
ORGANIZER;CN=HDP:mailto:webmaster@hdpug.org
END:VEVENT
BEGIN:VEVENT
DTSTART:20220401T170000Z
DTEND:20220401T180000Z
DTSTAMP:20260422T063327
CREATED:20220318T175224Z
LAST-MODIFIED:20220318T175224Z
UID:22300-1648814400-1648818000@hdpusergroup.org
SUMMARY:Ultra-Low Dk Glass Analysis Project
DESCRIPTION:Project Call 
URL:https://hdpusergroup.org/event/ultra-low-dk-glass-analysis-project-6/
CATEGORIES:Glass Weave
ORGANIZER;CN=HDP:mailto:webmaster@hdpug.org
END:VEVENT
END:VCALENDAR