BEGIN:VCALENDAR
VERSION:2.0
PRODID:-//HDP User Group - ECPv6.10.1.1//NONSGML v1.0//EN
CALSCALE:GREGORIAN
METHOD:PUBLISH
X-ORIGINAL-URL:https://hdpusergroup.org
X-WR-CALDESC:Events for HDP User Group
REFRESH-INTERVAL;VALUE=DURATION:PT1H
X-Robots-Tag:noindex
X-PUBLISHED-TTL:PT1H
BEGIN:VTIMEZONE
TZID:America/Chicago
BEGIN:DAYLIGHT
TZOFFSETFROM:-0600
TZOFFSETTO:-0500
TZNAME:CDT
DTSTART:20220313T080000
END:DAYLIGHT
BEGIN:STANDARD
TZOFFSETFROM:-0500
TZOFFSETTO:-0600
TZNAME:CST
DTSTART:20221106T070000
END:STANDARD
END:VTIMEZONE
BEGIN:VEVENT
DTSTART:20220314T150000Z
DTEND:20220314T160000Z
DTSTAMP:20260422T114335
CREATED:20220228T170606Z
LAST-MODIFIED:20220228T170606Z
UID:22108-1647252000-1647255600@hdpusergroup.org
SUMMARY:Final Finish Layer Deposits for High Frequency
DESCRIPTION:Final Finish Layer Deposits for High Frequency 
URL:https://hdpusergroup.org/event/final-finish-layer-deposits-for-high-frequency-2/
CATEGORIES:Final Finish Layer Deposits for High Frequency
ORGANIZER;CN=HDP:mailto:webmaster@hdpug.org
END:VEVENT
BEGIN:VEVENT
DTSTART:20220315T150000Z
DTEND:20220315T160000Z
DTSTAMP:20260422T114335
CREATED:20220308T235107Z
LAST-MODIFIED:20220308T235107Z
UID:22223-1647338400-1647342000@hdpusergroup.org
SUMMARY:Backdrill Under BGA final report discussion
DESCRIPTION:Backdrill Under BGA final report discussion 
URL:https://hdpusergroup.org/event/backdrill-under-bga-final-report-discussion/
CATEGORIES:Backdrill Under BGA
ORGANIZER;CN=HDP:mailto:webmaster@hdpug.org
END:VEVENT
BEGIN:VEVENT
DTSTART:20220315T170000Z
DTEND:20220315T180000Z
DTSTAMP:20260422T114335
CREATED:20220307T165033Z
LAST-MODIFIED:20220307T165033Z
UID:22166-1647345600-1647349200@hdpusergroup.org
SUMMARY:Harsh Use Alloy Evaluation
DESCRIPTION:Project Review 
URL:https://hdpusergroup.org/event/harsh-use-alloy-evaluation/
CATEGORIES:Harsh Use Alloy Evaluation 2
ORGANIZER;CN=HDP:mailto:webmaster@hdpug.org
END:VEVENT
BEGIN:VEVENT
DTSTART:20220316T140000Z
DTEND:20220316T150000Z
DTSTAMP:20260422T114335
CREATED:20220302T160123Z
LAST-MODIFIED:20220302T160123Z
UID:22145-1647421200-1647424800@hdpusergroup.org
SUMMARY:ECM 3 Project Meeting
DESCRIPTION:Meeting 
URL:https://hdpusergroup.org/event/ecm-3-project-meeting/
CATEGORIES:Electro-Chemical Migration 2
ORGANIZER;CN=HDP:mailto:webmaster@hdpug.org
END:VEVENT
BEGIN:VEVENT
DTSTART:20220317T190000Z
DTEND:20220317T200000Z
DTSTAMP:20260422T114335
CREATED:20220223T201157Z
LAST-MODIFIED:20220223T201157Z
UID:22063-1647525600-1647529200@hdpusergroup.org
SUMMARY:Photonic Soldering 2
DESCRIPTION:Status update on boards and components 
URL:https://hdpusergroup.org/event/photonic-soldering-2-3/
CATEGORIES:Photonic Soldering 2
ORGANIZER;CN=HDP:mailto:webmaster@hdpug.org
END:VEVENT
BEGIN:VEVENT
DTSTART:20220318T140000Z
DTEND:20220318T150000Z
DTSTAMP:20260422T114335
CREATED:20220314T202527Z
LAST-MODIFIED:20220314T202527Z
UID:22272-1647594000-1647597600@hdpusergroup.org
SUMMARY:Presentation Prep
DESCRIPTION:Meeting to fix presentation 
URL:https://hdpusergroup.org/event/presentation-prep/
CATEGORIES:Staff Calendar
ORGANIZER;CN=HDP:mailto:webmaster@hdpug.org
END:VEVENT
END:VCALENDAR