BEGIN:VCALENDAR
VERSION:2.0
PRODID:-//HDP User Group - ECPv6.10.1.1//NONSGML v1.0//EN
CALSCALE:GREGORIAN
METHOD:PUBLISH
X-ORIGINAL-URL:https://hdpusergroup.org
X-WR-CALDESC:Events for HDP User Group
REFRESH-INTERVAL;VALUE=DURATION:PT1H
X-Robots-Tag:noindex
X-PUBLISHED-TTL:PT1H
BEGIN:VTIMEZONE
TZID:America/Chicago
BEGIN:DAYLIGHT
TZOFFSETFROM:-0600
TZOFFSETTO:-0500
TZNAME:CDT
DTSTART:20220313T080000
END:DAYLIGHT
BEGIN:STANDARD
TZOFFSETFROM:-0500
TZOFFSETTO:-0600
TZNAME:CST
DTSTART:20221106T070000
END:STANDARD
END:VTIMEZONE
BEGIN:VEVENT
DTSTART:20220228T160000Z
DTEND:20220228T170000Z
DTSTAMP:20260422T100459
CREATED:20220214T091233Z
LAST-MODIFIED:20220214T091233Z
UID:21958-1646042400-1646046000@hdpusergroup.org
SUMMARY:Kick-off of Final Finish Layer Deposits for High Frequency
DESCRIPTION:Kick-off of Final Finish Layer Deposits for High Frequency 
URL:https://hdpusergroup.org/event/kick-off-of-final-finish-layer-deposits-for-high-frequency/
CATEGORIES:Final Finish Layer Deposits for High Frequency
ORGANIZER;CN=HDP:mailto:webmaster@hdpug.org
END:VEVENT
BEGIN:VEVENT
DTSTART:20220301T160000Z
DTEND:20220301T170000Z
DTSTAMP:20260422T100459
CREATED:20220222T163623Z
LAST-MODIFIED:20220222T163623Z
UID:22049-1646128800-1646132400@hdpusergroup.org
SUMMARY:Reliability and Power Cycles
DESCRIPTION:Reliability and Power Cycles 
URL:https://hdpusergroup.org/event/reliability-and-power-cycles-7/
CATEGORIES:Reliability and Power Cycles
ORGANIZER;CN=HDP:mailto:webmaster@hdpug.org
END:VEVENT
BEGIN:VEVENT
DTSTART:20220301T180000Z
DTEND:20220301T190000Z
DTSTAMP:20260422T100459
CREATED:20220222T181921Z
LAST-MODIFIED:20220222T181921Z
UID:22051-1646136000-1646139600@hdpusergroup.org
SUMMARY:Harsh Use Alloy Evaluation Projects
DESCRIPTION:Project Call 
URL:https://hdpusergroup.org/event/harsh-use-alloy-evaluation-projects/
CATEGORIES:Harsh Use Alloy Evaluation 2
ORGANIZER;CN=HDP:mailto:webmaster@hdpug.org
END:VEVENT
BEGIN:VEVENT
DTSTART:20220302T010000Z
DTEND:20220302T020000Z
DTSTAMP:20260422T100459
CREATED:20211221T064640Z
LAST-MODIFIED:20211221T064640Z
UID:21725-1646161200-1646164800@hdpusergroup.org
SUMMARY:LVH Lifetime Predictor for TC Project Call
DESCRIPTION:LVH Lifetime Predictor for TC Project Call 
URL:https://hdpusergroup.org/event/lvh-lifetime-predictor-for-tc-project-call-10/
CATEGORIES:LVH Lifetime Predictor for TC
ORGANIZER;CN=HDP:mailto:webmaster@hdpug.org
END:VEVENT
BEGIN:VEVENT
DTSTART:20220302T150000Z
DTEND:20220302T160000Z
DTSTAMP:20260422T100459
CREATED:20220218T144605Z
LAST-MODIFIED:20220218T144605Z
UID:21984-1646211600-1646215200@hdpusergroup.org
SUMMARY:ECM2 meeting
DESCRIPTION:Meeting 
URL:https://hdpusergroup.org/event/ecm2-meeting-2/
CATEGORIES:Electro-Chemical Migration 2
ORGANIZER;CN=HDP:mailto:webmaster@hdpug.org
END:VEVENT
BEGIN:VEVENT
DTSTART:20220303T150000Z
DTEND:20220303T160000Z
DTSTAMP:20260422T100459
CREATED:20220209T205038Z
LAST-MODIFIED:20220209T205038Z
UID:21946-1646298000-1646301600@hdpusergroup.org
SUMMARY:Single Surface Finish project call
DESCRIPTION:Meeting 
URL:https://hdpusergroup.org/event/single-surface-finish-project-call-4/
CATEGORIES:Single Surface Finish for Soldered & Compression
ORGANIZER;CN=HDP:mailto:webmaster@hdpug.org
END:VEVENT
BEGIN:VEVENT
DTSTART:20220303T150000Z
DTEND:20220303T160000Z
DTSTAMP:20260422T100459
CREATED:20220303T155712Z
LAST-MODIFIED:20220303T155712Z
UID:22153-1646298000-1646301600@hdpusergroup.org
SUMMARY:Single Surface Finish project call
DESCRIPTION:Meeting 
URL:https://hdpusergroup.org/event/single-surface-finish-project-call-5/
CATEGORIES:Single Surface Finish for Soldered & Compression
ORGANIZER;CN=HDP:mailto:webmaster@hdpug.org
END:VEVENT
BEGIN:VEVENT
DTSTART:20220303T160000Z
DTEND:20220303T170000Z
DTSTAMP:20260422T100459
CREATED:20220203T171054Z
LAST-MODIFIED:20220203T171054Z
UID:21923-1646301600-1646305200@hdpusergroup.org
SUMMARY:Materials #6 meeting
DESCRIPTION:Meeting 
URL:https://hdpusergroup.org/event/materials-6-meeting-15/
CATEGORIES:Lead Free PWB Materials Reliability Phase 6
ORGANIZER;CN=HDP:mailto:webmaster@hdpug.org
END:VEVENT
BEGIN:VEVENT
DTSTART:20220303T170000Z
DTEND:20220303T180000Z
DTSTAMP:20260422T100459
CREATED:20220224T174051Z
LAST-MODIFIED:20220224T174051Z
UID:22069-1646305200-1646308800@hdpusergroup.org
SUMMARY:Microvia Rel
DESCRIPTION:Continue trying to flesh out the project 
URL:https://hdpusergroup.org/event/microvia-rel-5/
CATEGORIES:Microvia Reliability
ORGANIZER;CN=HDP:mailto:webmaster@hdpug.org
END:VEVENT
BEGIN:VEVENT
DTSTART:20220303T200000Z
DTEND:20220303T210000Z
DTSTAMP:20260422T100459
CREATED:20220203T201709Z
LAST-MODIFIED:20220203T201709Z
UID:21925-1646316000-1646319600@hdpusergroup.org
SUMMARY:PCB Feature Min
DESCRIPTION:Status of build 
URL:https://hdpusergroup.org/event/pcb-feature-min-18/
CATEGORIES:PCB Feature Miniaturization
ORGANIZER;CN=HDP:mailto:webmaster@hdpug.org
END:VEVENT
BEGIN:VEVENT
DTSTART:20220304T160000Z
DTEND:20220304T170000Z
DTSTAMP:20260422T100459
CREATED:20220223T140500Z
LAST-MODIFIED:20220223T140500Z
UID:22054-1646388000-1646391600@hdpusergroup.org
SUMMARY:Board Thickness 2
DESCRIPTION:To examine Mike and Omar's proposal. \nStart working on report for things already completed\, 
URL:https://hdpusergroup.org/event/board-thickness-2-2/
CATEGORIES:Board Thickness Effect on ATC Reliability II
ORGANIZER;CN=HDP:mailto:webmaster@hdpug.org
END:VEVENT
END:VCALENDAR