BEGIN:VCALENDAR
VERSION:2.0
PRODID:-//HDP User Group - ECPv6.10.1.1//NONSGML v1.0//EN
CALSCALE:GREGORIAN
METHOD:PUBLISH
X-ORIGINAL-URL:https://hdpusergroup.org
X-WR-CALDESC:Events for HDP User Group
REFRESH-INTERVAL;VALUE=DURATION:PT1H
X-Robots-Tag:noindex
X-PUBLISHED-TTL:PT1H
BEGIN:VTIMEZONE
TZID:America/Chicago
BEGIN:DAYLIGHT
TZOFFSETFROM:-0600
TZOFFSETTO:-0500
TZNAME:CDT
DTSTART:20220313T080000
END:DAYLIGHT
BEGIN:STANDARD
TZOFFSETFROM:-0500
TZOFFSETTO:-0600
TZNAME:CST
DTSTART:20221106T070000
END:STANDARD
END:VTIMEZONE
BEGIN:VEVENT
DTSTART:20220208T190000Z
DTEND:20220208T200000Z
DTSTAMP:20260422T131144
CREATED:20220201T193716Z
LAST-MODIFIED:20220201T193716Z
UID:21904-1644325200-1644328800@hdpusergroup.org
SUMMARY:Rescheduled Glass Type Comparison project meeting for Feb 8\, 2022
DESCRIPTION:Rescheduled Glass Type Comparison project meeting for Feb 8\, 2022. Feb 9th meeting cancelled 
URL:https://hdpusergroup.org/event/rescheduled-glass-type-comparison-project-meeting-for-feb-8-2022/
LOCATION:Virtual
CATEGORIES:Glass Type Composition
ORGANIZER;CN=HDP:mailto:webmaster@hdpug.org
END:VEVENT
BEGIN:VEVENT
DTSTART:20220209T150000Z
DTEND:20220209T160000Z
DTSTAMP:20260422T131144
CREATED:20220203T170642Z
LAST-MODIFIED:20220203T170642Z
UID:21922-1644397200-1644400800@hdpusergroup.org
SUMMARY:ECM 2 Project Meeting
DESCRIPTION:Meeting 
URL:https://hdpusergroup.org/event/ecm-2-project-meeting-10/
CATEGORIES:Electro-Chemical Migration 2
ORGANIZER;CN=HDP:mailto:webmaster@hdpug.org
END:VEVENT
BEGIN:VEVENT
DTSTART:20220209T160000Z
DTEND:20220209T170000Z
DTSTAMP:20260422T131144
CREATED:20220119T163946Z
LAST-MODIFIED:20220119T163946Z
UID:21829-1644400800-1644404400@hdpusergroup.org
SUMMARY:Single Surface Finish Meeting
DESCRIPTION:Meeting 
URL:https://hdpusergroup.org/event/single-surface-finish-meeting-8/
CATEGORIES:Single Surface Finish for Soldered & Compression
ORGANIZER;CN=HDP:mailto:webmaster@hdpug.org
END:VEVENT
BEGIN:VEVENT
DTSTART:20220209T180000Z
DTEND:20220209T230000Z
DTSTAMP:20260422T131144
CREATED:20220211T153117Z
LAST-MODIFIED:20220211T153117Z
UID:21901-1644408000-1644426000@hdpusergroup.org
SUMMARY:Board of Directors Annual Meeting
DESCRIPTION:Annual Board of Directors call to discuss final 2021 Financial Performance and 2022 Proposed Operating Plan. 
URL:https://hdpusergroup.org/event/board-of-directors-annual-meeting/
LOCATION:Virtual
CATEGORIES:Board Meetings
ORGANIZER;CN=HDP:mailto:webmaster@hdpug.org
END:VEVENT
BEGIN:VEVENT
DTSTART:20220210T200000Z
DTEND:20220210T210000Z
DTSTAMP:20260422T131144
CREATED:20220202T193609Z
LAST-MODIFIED:20220202T193609Z
UID:21915-1644501600-1644505200@hdpusergroup.org
SUMMARY:DISC2A
DESCRIPTION:Go over member meeting presentation and dicuss back drilll results 
URL:https://hdpusergroup.org/event/disc2a-41/
CATEGORIES:Digital Speckle Correlation (DSC) 2
ORGANIZER;CN=HDP:mailto:webmaster@hdpug.org
END:VEVENT
BEGIN:VEVENT
DTSTART:20220211T010000Z
DTEND:20220211T020000Z
DTSTAMP:20260422T131144
CREATED:20220204T133845Z
LAST-MODIFIED:20220204T133845Z
UID:21934-1644519600-1644523200@hdpusergroup.org
SUMMARY:Reliability of Wettable Flank in Routable QFN for Automotive  Project call
DESCRIPTION:We will review the latest FA results and discuss the presentation for the upcoming member meeting. 
URL:https://hdpusergroup.org/event/reliability-of-wettable-flank-in-routable-qfn-for-automotive-project-call-21/
LOCATION:Virtual
CATEGORIES:Reliability of Wettable Flank in Routable QFN for Automotive
ORGANIZER;CN=HDP:mailto:webmaster@hdpug.org
END:VEVENT
BEGIN:VEVENT
DTSTART:20220211T150000Z
DTEND:20220211T160000Z
DTSTAMP:20260422T131144
CREATED:20220114T155904Z
LAST-MODIFIED:20220114T155904Z
UID:21806-1644570000-1644573600@hdpusergroup.org
SUMMARY:Effects of Plating Thickness on CTF at IST Project Call
DESCRIPTION:Effects of Plating Thickness on CTF at IST Project Call 
URL:https://hdpusergroup.org/event/effects-of-plating-thickness-on-ctf-at-ist-project-call-8/
CATEGORIES:Effects of Plating Thickness on Cycles to Failure at IST
ORGANIZER;CN=HDP:mailto:webmaster@hdpug.org
END:VEVENT
BEGIN:VEVENT
DTSTART:20220211T180000Z
DTEND:20220211T190000Z
DTSTAMP:20260422T131144
CREATED:20220202T170140Z
LAST-MODIFIED:20220202T170140Z
UID:21912-1644580800-1644584400@hdpusergroup.org
SUMMARY:Ultra-Low Dk Glass Analysis Project
DESCRIPTION:Periodic project call 
URL:https://hdpusergroup.org/event/ultra-low-dk-glass-analysis-project-4/
CATEGORIES:Glass Weave
ORGANIZER;CN=HDP:mailto:webmaster@hdpug.org
END:VEVENT
END:VCALENDAR