BEGIN:VCALENDAR
VERSION:2.0
PRODID:-//HDP User Group - ECPv6.10.1.1//NONSGML v1.0//EN
CALSCALE:GREGORIAN
METHOD:PUBLISH
X-ORIGINAL-URL:https://hdpusergroup.org
X-WR-CALDESC:Events for HDP User Group
REFRESH-INTERVAL;VALUE=DURATION:PT1H
X-Robots-Tag:noindex
X-PUBLISHED-TTL:PT1H
BEGIN:VTIMEZONE
TZID:America/Chicago
BEGIN:DAYLIGHT
TZOFFSETFROM:-0600
TZOFFSETTO:-0500
TZNAME:CDT
DTSTART:20210314T080000
END:DAYLIGHT
BEGIN:STANDARD
TZOFFSETFROM:-0500
TZOFFSETTO:-0600
TZNAME:CST
DTSTART:20211107T070000
END:STANDARD
END:VTIMEZONE
BEGIN:VEVENT
DTSTART:20211213T160000Z
DTEND:20211213T170000Z
DTSTAMP:20260422T181657
CREATED:20211115T202045Z
LAST-MODIFIED:20211115T202045Z
UID:21415-1639389600-1639393200@hdpusergroup.org
SUMMARY:Cu Surface Roughness Model project continuation #2
DESCRIPTION:Continuation of discussions on project proposal for Cu Roughness Model 
URL:https://hdpusergroup.org/event/cu-surface-roughness-model-project-continuation-2/
LOCATION:WebEx
CATEGORIES:Staff Calendar
ORGANIZER;CN=HDP:mailto:webmaster@hdpug.org
END:VEVENT
BEGIN:VEVENT
DTSTART:20211213T170000Z
DTEND:20211213T180000Z
DTSTAMP:20260422T181657
CREATED:20211208T210920Z
LAST-MODIFIED:20211208T210920Z
UID:21517-1639393200-1639396800@hdpusergroup.org
SUMMARY:Back Drill to Primary Via Transition Conditions kickoff telecom
DESCRIPTION:Back Drill to Primary Via Transition Conditions kickoff telecom 
URL:https://hdpusergroup.org/event/back-drill-to-primary-via-transition-conditions-kickoff-telecom/
CATEGORIES:Back drill to Primary via Transition
ORGANIZER;CN=HDP:mailto:webmaster@hdpug.org
END:VEVENT
BEGIN:VEVENT
DTSTART:20211214T160000Z
DTEND:20211214T170000Z
DTSTAMP:20260422T181657
CREATED:20211207T163906Z
LAST-MODIFIED:20211207T163906Z
UID:21519-1639476000-1639479600@hdpusergroup.org
SUMMARY:Board Thickness II
DESCRIPTION:Status of report 
URL:https://hdpusergroup.org/event/board-thickness-ii-24/
CATEGORIES:Board Thickness Effect on ATC Reliability II
ORGANIZER;CN=HDP:mailto:webmaster@hdpug.org
END:VEVENT
BEGIN:VEVENT
DTSTART:20211215T020000Z
DTEND:20211215T030000Z
DTSTAMP:20260422T181657
CREATED:20211110T041029Z
LAST-MODIFIED:20211110T041029Z
UID:21393-1639512000-1639515600@hdpusergroup.org
SUMMARY:High Speed Hybrid PWB Project Call
DESCRIPTION:High Speed Hybrid PWB Project Call 
URL:https://hdpusergroup.org/event/high-speed-hybrid-pwb-project-call-37/
CATEGORIES:High Speed Hybrid PWB
ORGANIZER;CN=HDP:mailto:webmaster@hdpug.org
END:VEVENT
BEGIN:VEVENT
DTSTART:20211215T160000Z
DTEND:20211215T170000Z
DTSTAMP:20260422T181657
CREATED:20211201T161444Z
LAST-MODIFIED:20211201T161444Z
UID:21485-1639562400-1639566000@hdpusergroup.org
SUMMARY:Reliability and Power Cycles telecom
DESCRIPTION:Reliability and Power Cycles telecom 
URL:https://hdpusergroup.org/event/reliability-and-power-cycles-telecom-29/
CATEGORIES:Reliability and Power Cycles
ORGANIZER;CN=HDP:mailto:webmaster@hdpug.org
END:VEVENT
BEGIN:VEVENT
DTSTART:20211215T200000Z
DTEND:20211215T210000Z
DTSTAMP:20260422T181657
CREATED:20211201T171126Z
LAST-MODIFIED:20211201T171126Z
UID:21489-1639576800-1639580400@hdpusergroup.org
SUMMARY:PCB Feature Min
DESCRIPTION:Build update 
URL:https://hdpusergroup.org/event/pcb-feature-min-15/
CATEGORIES:PCB Feature Miniaturization
ORGANIZER;CN=HDP:mailto:webmaster@hdpug.org
END:VEVENT
BEGIN:VEVENT
DTSTART:20211216T150000Z
DTEND:20211216T160000Z
DTSTAMP:20260422T181657
CREATED:20211215T143821Z
LAST-MODIFIED:20211215T143821Z
UID:21576-1639645200-1639648800@hdpusergroup.org
SUMMARY:Microvia Reliability
DESCRIPTION:Further discussion to determine the forward path of the potential project. The focus seems to be gelling around electroplating\, but this is not carved in stone. 
URL:https://hdpusergroup.org/event/microvia-reliability/
CATEGORIES:Microvia Reliability
ORGANIZER;CN=HDP:mailto:webmaster@hdpug.org
END:VEVENT
BEGIN:VEVENT
DTSTART:20211216T160000Z
DTEND:20211216T170000Z
DTSTAMP:20260422T181657
CREATED:20211202T165913Z
LAST-MODIFIED:20211202T165913Z
UID:21493-1639648800-1639652400@hdpusergroup.org
SUMMARY:Single Surface Finish Meeting
DESCRIPTION:Meeting 
URL:https://hdpusergroup.org/event/single-surface-finish-meeting-6/
CATEGORIES:Single Surface Finish for Soldered & Compression
ORGANIZER;CN=HDP:mailto:webmaster@hdpug.org
END:VEVENT
BEGIN:VEVENT
DTSTART:20211217T160000Z
DTEND:20211217T170000Z
DTSTAMP:20260422T181657
CREATED:20211203T171731Z
LAST-MODIFIED:20211203T171731Z
UID:21498-1639735200-1639738800@hdpusergroup.org
SUMMARY:Ultra-Low Dk Glass Project Call
DESCRIPTION:Periodic Project Call 
URL:https://hdpusergroup.org/event/ultra-low-dk-glass-project-call-2/
CATEGORIES:Glass Weave
ORGANIZER;CN=HDP:mailto:webmaster@hdpug.org
END:VEVENT
BEGIN:VEVENT
DTSTART:20211217T170000Z
DTEND:20211217T200000Z
DTSTAMP:20260422T181657
CREATED:20211210T153403Z
LAST-MODIFIED:20211210T153403Z
UID:21515-1639738800-1639749600@hdpusergroup.org
SUMMARY:Year End Op Plan Performance Review
DESCRIPTION:Review of 2021 Op Plan Performance \nDocuments and agenda to follow shortly 
URL:https://hdpusergroup.org/event/year-end-op-plan-performance-review/
LOCATION:Virtual
CATEGORIES:Board Calendar
ORGANIZER;CN=HDP:mailto:webmaster@hdpug.org
END:VEVENT
END:VCALENDAR