BEGIN:VCALENDAR
VERSION:2.0
PRODID:-//HDP User Group - ECPv6.10.1.1//NONSGML v1.0//EN
CALSCALE:GREGORIAN
METHOD:PUBLISH
X-ORIGINAL-URL:https://hdpusergroup.org
X-WR-CALDESC:Events for HDP User Group
REFRESH-INTERVAL;VALUE=DURATION:PT1H
X-Robots-Tag:noindex
X-PUBLISHED-TTL:PT1H
BEGIN:VTIMEZONE
TZID:America/Chicago
BEGIN:DAYLIGHT
TZOFFSETFROM:-0600
TZOFFSETTO:-0500
TZNAME:CDT
DTSTART:20210314T080000
END:DAYLIGHT
BEGIN:STANDARD
TZOFFSETFROM:-0500
TZOFFSETTO:-0600
TZNAME:CST
DTSTART:20211107T070000
END:STANDARD
END:VTIMEZONE
BEGIN:VEVENT
DTSTART:20211025T160000Z
DTEND:20211025T170000Z
DTSTAMP:20260422T195140
CREATED:20211019T123733Z
LAST-MODIFIED:20211019T123733Z
UID:21144-1635159600-1635163200@hdpusergroup.org
SUMMARY:Backdrill Under BGA telecom
DESCRIPTION:Backdrill Under BGA telecom 
URL:https://hdpusergroup.org/event/backdrill-under-bga-telecom-28/
CATEGORIES:Backdrill Under BGA
ORGANIZER;CN=HDP:mailto:webmaster@hdpug.org
END:VEVENT
BEGIN:VEVENT
DTSTART:20211026T170000Z
DTEND:20211026T180000Z
DTSTAMP:20260422T195140
CREATED:20211021T130859Z
LAST-MODIFIED:20211021T130859Z
UID:21149-1635249600-1635253200@hdpusergroup.org
SUMMARY:Harsh Use Alloy Evaluation Project
DESCRIPTION:Harsh Use Alloy Project Review 
URL:https://hdpusergroup.org/event/harsh-use-alloy-evaluation-project/
CATEGORIES:Harsh Use Alloy Evaluation 2
ORGANIZER;CN=HDP:mailto:webmaster@hdpug.org
END:VEVENT
BEGIN:VEVENT
DTSTART:20211026T200000Z
DTEND:20211026T210000Z
DTSTAMP:20260422T195140
CREATED:20211006T200703Z
LAST-MODIFIED:20211006T200703Z
UID:21050-1635260400-1635264000@hdpusergroup.org
SUMMARY:Photonic Soldering 2
DESCRIPTION:Continue building the project plan 
URL:https://hdpusergroup.org/event/photonic-soldering-2-2/
CATEGORIES:Photonic Soldering 2
ORGANIZER;CN=HDP:mailto:webmaster@hdpug.org
END:VEVENT
BEGIN:VEVENT
DTSTART:20211027T000000Z
DTEND:20211027T010000Z
DTSTAMP:20260422T195140
CREATED:20211008T151425Z
LAST-MODIFIED:20211008T151425Z
UID:21057-1635274800-1635278400@hdpusergroup.org
SUMMARY:Reliability of Wettable Flank in Routable QFN for Automotive
DESCRIPTION:Call to discuss the final report. 
URL:https://hdpusergroup.org/event/reliability-of-wettable-flank-in-routable-qfn-for-automotive-11/
CATEGORIES:Reliability of Wettable Flank in Routable QFN for Automotive
ORGANIZER;CN=HDP:mailto:webmaster@hdpug.org
END:VEVENT
BEGIN:VEVENT
DTSTART:20211027T150000Z
DTEND:20211027T160000Z
DTSTAMP:20260422T195140
CREATED:20211011T160332Z
LAST-MODIFIED:20211011T160332Z
UID:21073-1635328800-1635332400@hdpusergroup.org
SUMMARY:ECM 2 Project Call
DESCRIPTION:Meeting 
URL:https://hdpusergroup.org/event/ecm-2-project-call-11/
CATEGORIES:Electro-Chemical Migration 2
ORGANIZER;CN=HDP:mailto:webmaster@hdpug.org
END:VEVENT
BEGIN:VEVENT
DTSTART:20211027T150000Z
DTEND:20211027T160000Z
DTSTAMP:20260422T195140
CREATED:20211019T124536Z
LAST-MODIFIED:20211019T124536Z
UID:21147-1635328800-1635332400@hdpusergroup.org
SUMMARY:Reliability and Power Cycles telecom
DESCRIPTION:Reliability and Power Cycles telecom 
URL:https://hdpusergroup.org/event/reliability-and-power-cycles-telecom-27/
CATEGORIES:Reliability and Power Cycles
ORGANIZER;CN=HDP:mailto:webmaster@hdpug.org
END:VEVENT
BEGIN:VEVENT
DTSTART:20211028T150000Z
DTEND:20211028T160000Z
DTSTAMP:20260422T195140
CREATED:20211014T155143Z
LAST-MODIFIED:20211014T155143Z
UID:21112-1635415200-1635418800@hdpusergroup.org
SUMMARY:Single Surface Finish Meeting
DESCRIPTION:Meeting 
URL:https://hdpusergroup.org/event/single-surface-finish-meeting-3/
CATEGORIES:Single Surface Finish for Soldered & Compression
ORGANIZER;CN=HDP:mailto:webmaster@hdpug.org
END:VEVENT
BEGIN:VEVENT
DTSTART:20211029T150000Z
DTEND:20211029T160000Z
DTSTAMP:20260422T195140
CREATED:20211021T131319Z
LAST-MODIFIED:20211021T131319Z
UID:21150-1635501600-1635505200@hdpusergroup.org
SUMMARY:Ultra-Low Dk Glass Project Review
DESCRIPTION:Ultra-Low Dk Project Review 
URL:https://hdpusergroup.org/event/ultra-low-dk-glass-project-review-5/
CATEGORIES:Glass Weave
ORGANIZER;CN=HDP:mailto:webmaster@hdpug.org
END:VEVENT
END:VCALENDAR