BEGIN:VCALENDAR
VERSION:2.0
PRODID:-//HDP User Group - ECPv6.10.1.1//NONSGML v1.0//EN
CALSCALE:GREGORIAN
METHOD:PUBLISH
X-ORIGINAL-URL:https://hdpusergroup.org
X-WR-CALDESC:Events for HDP User Group
REFRESH-INTERVAL;VALUE=DURATION:PT1H
X-Robots-Tag:noindex
X-PUBLISHED-TTL:PT1H
BEGIN:VTIMEZONE
TZID:America/Chicago
BEGIN:DAYLIGHT
TZOFFSETFROM:-0600
TZOFFSETTO:-0500
TZNAME:CDT
DTSTART:20210314T080000
END:DAYLIGHT
BEGIN:STANDARD
TZOFFSETFROM:-0500
TZOFFSETTO:-0600
TZNAME:CST
DTSTART:20211107T070000
END:STANDARD
END:VTIMEZONE
BEGIN:VEVENT
DTSTART:20210622T150000Z
DTEND:20210622T160000Z
DTSTAMP:20260423T124930
CREATED:20210519T052221Z
LAST-MODIFIED:20210519T052221Z
UID:19856-1624356000-1624359600@hdpusergroup.org
SUMMARY:Better CAF EQ
DESCRIPTION:Project progress 
URL:https://hdpusergroup.org/event/better-caf-eq-10/
CATEGORIES:Better CAF Acceleration Equation
ORGANIZER;CN=HDP:mailto:webmaster@hdpug.org
END:VEVENT
BEGIN:VEVENT
DTSTART:20210622T160000Z
DTEND:20210622T170000Z
DTSTAMP:20260423T124930
CREATED:20210608T152423Z
LAST-MODIFIED:20210608T152423Z
UID:20040-1624359600-1624363200@hdpusergroup.org
SUMMARY:Innerlayer Copper Balancing telecom
DESCRIPTION:Innerlayer copper balancing telecom 
URL:https://hdpusergroup.org/event/innerlayer-copper-balancing-telecom-9/
CATEGORIES:Local Copper Density
ORGANIZER;CN=HDP:mailto:webmaster@hdpug.org
END:VEVENT
BEGIN:VEVENT
DTSTART:20210622T170000Z
DTEND:20210622T180000Z
DTSTAMP:20260423T124930
CREATED:20210617T160624Z
LAST-MODIFIED:20210617T160624Z
UID:20094-1624363200-1624366800@hdpusergroup.org
SUMMARY:Harsh Use Alloy Eval Project Review
DESCRIPTION:Project Review 
URL:https://hdpusergroup.org/event/harsh-use-alloy-eval-project-review/
CATEGORIES:Harsh Use Alloy Evaluation 2
ORGANIZER;CN=HDP:mailto:webmaster@hdpug.org
END:VEVENT
BEGIN:VEVENT
DTSTART:20210623T140000Z
DTEND:20210623T150000Z
DTSTAMP:20260423T124930
CREATED:20210824T222503Z
LAST-MODIFIED:20210824T222503Z
UID:19809-1624438800-1624442400@hdpusergroup.org
SUMMARY:Key High-Density Design Considerations for High-Reliability 5G Radio Access Network (RAN) Webinar
DESCRIPTION:  \nThe advent of 5G promises gigabit per second mobile network access using large deployments of small cells and traditional towers. The use of millimeter wave spectrum bands and massive MIMO introduce new product packaging challenges. As operators seek to optimize performance versus total cost of ownership by deploying virtualized radio access networks (RAN)\, including the adoption of OpenRAN\, a close examination of product design considerations is warranted. \nThis webinar addresses the challenges posed by the 5G network evolution and key printed circuit assembly design considerations for high-density\, high-reliability radio units. The topics include: \n·         RAN deployment and support challenges. \n·         Product design considerations. \nSpeakers:\n·         OEM Perspective: Charlie Martin\, RAN Product Management\, Dell Technologies \n·         Host: Madan Jagernauth\, Marketing Director\, High Density Packaging User Group \nSchedule:\n·         Date:                                     June 23\, 2021 \n·         Time:                                     10:00 am EDT\, 9:00 am CDT\, 7:00 am PDT \n·         Duration:                             1 hour
URL:https://hdpusergroup.org/event/key-high-density-design-considerations-for-high-reliability-5g-radio-access-network-ran-webinar/
CATEGORIES:Member Meetings
ORGANIZER;CN=HDP:mailto:webmaster@hdpug.org
END:VEVENT
BEGIN:VEVENT
DTSTART:20210624T140000Z
DTEND:20210624T150000Z
DTSTAMP:20260423T124930
CREATED:20210506T150936Z
LAST-MODIFIED:20210506T150936Z
UID:19788-1624525200-1624528800@hdpusergroup.org
SUMMARY:PFH Technology Phase 2 Project Call
DESCRIPTION:PFH Technology Phase 2 Project Call 
URL:https://hdpusergroup.org/event/pfh-technology-phase-2-project-call-4/
CATEGORIES:PFH Technology 2
ORGANIZER;CN=HDP:mailto:webmaster@hdpug.org
END:VEVENT
BEGIN:VEVENT
DTSTART:20210624T180000Z
DTEND:20210624T190000Z
DTSTAMP:20260423T124930
CREATED:20210608T194631Z
LAST-MODIFIED:20210608T194631Z
UID:20048-1624539600-1624543200@hdpusergroup.org
SUMMARY:ECM 2 project Call
DESCRIPTION:Meeting 
URL:https://hdpusergroup.org/event/ecm-2-project-call-6/
CATEGORIES:Electro-Chemical Migration 2
ORGANIZER;CN=HDP:mailto:webmaster@hdpug.org
END:VEVENT
BEGIN:VEVENT
DTSTART:20210624T200000Z
DTEND:20210624T210000Z
DTSTAMP:20260423T124930
CREATED:20210611T122541Z
LAST-MODIFIED:20210611T122541Z
UID:20067-1624546800-1624550400@hdpusergroup.org
SUMMARY:Photonic Soldering II
DESCRIPTION:Move from Idea to Definition? 
URL:https://hdpusergroup.org/event/photonic-soldering-ii-3/
CATEGORIES:Photonic Soldering 2
ORGANIZER;CN=HDP:mailto:webmaster@hdpug.org
END:VEVENT
BEGIN:VEVENT
DTSTART:20210624T200000Z
DTEND:20210624T210000Z
DTSTAMP:20260423T124930
CREATED:20210622T152019Z
LAST-MODIFIED:20210622T152019Z
UID:20116-1624546800-1624550400@hdpusergroup.org
SUMMARY:Photosoldering II
DESCRIPTION:Continuing our discussion 
URL:https://hdpusergroup.org/event/photosoldering-ii/
CATEGORIES:Photonic Soldering
ORGANIZER;CN=HDP:mailto:webmaster@hdpug.org
END:VEVENT
BEGIN:VEVENT
DTSTART:20210625T140000Z
DTEND:20210625T150000Z
DTSTAMP:20260423T124930
CREATED:20210625T134341Z
LAST-MODIFIED:20210625T134341Z
UID:20023-1624611600-1624615200@hdpusergroup.org
SUMMARY:Effects of Plating Thickness on CTF at IST
DESCRIPTION:Effects of Plating Thickness on CTF at IST 
URL:https://hdpusergroup.org/event/effects-of-plating-thickness-on-ctf-at-ist/
CATEGORIES:Effects of Plating Thickness on Cycles to Failure at IST
ORGANIZER;CN=HDP:mailto:webmaster@hdpug.org
END:VEVENT
BEGIN:VEVENT
DTSTART:20210625T150000Z
DTEND:20210625T160000Z
DTSTAMP:20260423T124930
CREATED:20210617T163211Z
LAST-MODIFIED:20210617T163211Z
UID:20095-1624615200-1624618800@hdpusergroup.org
SUMMARY:Ultr-Low Dk Glass
DESCRIPTION:Project Review 
URL:https://hdpusergroup.org/event/ultr-low-dk-glass/
CATEGORIES:Staff Calendar
ORGANIZER;CN=HDP:mailto:webmaster@hdpug.org
END:VEVENT
BEGIN:VEVENT
DTSTART:20210625T150000Z
DTEND:20210625T160000Z
DTSTAMP:20260423T124930
CREATED:20210617T163731Z
LAST-MODIFIED:20210617T163731Z
UID:20096-1624615200-1624618800@hdpusergroup.org
SUMMARY:Ultra-Low Dk Glass Project Review
DESCRIPTION:Project Review 
URL:https://hdpusergroup.org/event/ultra-low-dk-glass-project-review/
CATEGORIES:Glass Weave
ORGANIZER;CN=HDP:mailto:webmaster@hdpug.org
END:VEVENT
END:VCALENDAR