BEGIN:VCALENDAR
VERSION:2.0
PRODID:-//HDP User Group - ECPv6.10.1.1//NONSGML v1.0//EN
CALSCALE:GREGORIAN
METHOD:PUBLISH
X-ORIGINAL-URL:https://hdpusergroup.org
X-WR-CALDESC:Events for HDP User Group
REFRESH-INTERVAL;VALUE=DURATION:PT1H
X-Robots-Tag:noindex
X-PUBLISHED-TTL:PT1H
BEGIN:VTIMEZONE
TZID:America/Chicago
BEGIN:DAYLIGHT
TZOFFSETFROM:-0600
TZOFFSETTO:-0500
TZNAME:CDT
DTSTART:20210314T080000
END:DAYLIGHT
BEGIN:STANDARD
TZOFFSETFROM:-0500
TZOFFSETTO:-0600
TZNAME:CST
DTSTART:20211107T070000
END:STANDARD
END:VTIMEZONE
BEGIN:VEVENT
DTSTART:20210302T180000Z
DTEND:20210302T190000Z
DTSTAMP:20260423T172656
CREATED:20210216T183238Z
LAST-MODIFIED:20210216T183238Z
UID:19280-1614686400-1614690000@hdpusergroup.org
SUMMARY:Harsh Use Alloy 2
DESCRIPTION:Project review call.
URL:https://hdpusergroup.org/event/harsh-use-alloy-2-2/
ORGANIZER;CN=HDP:mailto:webmaster@hdpug.org
END:VEVENT
BEGIN:VEVENT
DTSTART:20210302T200000Z
DTEND:20210302T210000Z
DTSTAMP:20260423T172656
CREATED:20210209T210141Z
LAST-MODIFIED:20210209T210141Z
UID:19246-1614693600-1614697200@hdpusergroup.org
SUMMARY:PCB Feature Miniaturization
DESCRIPTION:Progress on TV design 
URL:https://hdpusergroup.org/event/pcb-feature-miniaturization-4/
CATEGORIES:PCB Feature Miniaturization
ORGANIZER;CN=HDP:mailto:webmaster@hdpug.org
END:VEVENT
BEGIN:VEVENT
DTSTART:20210302T210000Z
DTEND:20210302T220000Z
DTSTAMP:20260423T172656
CREATED:20210301T204439Z
LAST-MODIFIED:20210301T204439Z
UID:19384-1614697200-1614700800@hdpusergroup.org
SUMMARY:Photonic Soldering
DESCRIPTION:Draft final report \nOther soder pastes \nHeat sinking 
URL:https://hdpusergroup.org/event/photonic-soldering-26/
CATEGORIES:Photonic Soldering
ORGANIZER;CN=HDP:mailto:webmaster@hdpug.org
END:VEVENT
BEGIN:VEVENT
DTSTART:20210303T020000Z
DTEND:20210303T050000Z
DTSTAMP:20260423T172656
CREATED:20210824T222527Z
LAST-MODIFIED:20210824T222527Z
UID:19201-1614715200-1614726000@hdpusergroup.org
SUMMARY:HDP March 2021 Virtual Member Meeting Asia
DESCRIPTION:March 2021 Virtual meeting review for Asia members.  Meeting is for members only.  Please register for the meeting by clicking the register button on this page\, or emailing the HDP Administrator at kima77@hdpug.org. \nMeeting Call Information \nHDP March 2-3\, 2021 Virtual Member Meeting Asia \nTuesday\, March 2\, 20218:00 PM  |  (UTC-06:00) Central Time (US & Canada)  |  4 hrsGlobal call-in numbersMeeting number (access code): 182 644 2636Meeting password: Mar2021AsiaWhen it’s time\, join the meetingJoin by phone1-650-479-3208 Call-in toll number (US/Canada)Global call-in numbers \n 
URL:https://hdpusergroup.org/event/hdp-march-2021-virtual-member-meeting-asia/
CATEGORIES:Member Meetings
ORGANIZER;CN=HDP:mailto:webmaster@hdpug.org
END:VEVENT
BEGIN:VEVENT
DTSTART:20210304T160000Z
DTEND:20210304T170000Z
DTSTAMP:20260423T172656
CREATED:20210218T180409Z
LAST-MODIFIED:20210218T180409Z
UID:19317-1614852000-1614855600@hdpusergroup.org
SUMMARY:ECM2 Project call
DESCRIPTION:Meeting 
URL:https://hdpusergroup.org/event/1100am-1200pm-ecm2-project-call-2/
CATEGORIES:Electro-Chemical Migration 2
ORGANIZER;CN=HDP:mailto:webmaster@hdpug.org
END:VEVENT
BEGIN:VEVENT
DTSTART:20210305T140000Z
DTEND:20210305T150000Z
DTSTAMP:20260423T172656
CREATED:20210211T162928Z
LAST-MODIFIED:20210211T162928Z
UID:19247-1614931200-1614934800@hdpusergroup.org
SUMMARY:DISC2A
DESCRIPTION:Progress by Hua on samples Jason sends. \nAny progres by Kevin on samples for depth of grind experiment. \nThilo's sample. \nIMEC progress. 
URL:https://hdpusergroup.org/event/disc2a-22/
CATEGORIES:Digital Speckle Correlation (DSC) 2
ORGANIZER;CN=HDP:mailto:webmaster@hdpug.org
END:VEVENT
BEGIN:VEVENT
DTSTART:20210305T170000Z
DTEND:20210305T180000Z
DTSTAMP:20260423T172656
CREATED:20210301T190042Z
LAST-MODIFIED:20210301T190042Z
UID:19366-1614942000-1614945600@hdpusergroup.org
SUMMARY:Backdrill Under BGA telecom
DESCRIPTION:Backdrill Under BGA telecom 
URL:https://hdpusergroup.org/event/backdrill-under-bga-telecom-15/
CATEGORIES:Backdrill Under BGA
ORGANIZER;CN=HDP:mailto:webmaster@hdpug.org
END:VEVENT
END:VCALENDAR