BEGIN:VCALENDAR
VERSION:2.0
PRODID:-//HDP User Group - ECPv6.10.1.1//NONSGML v1.0//EN
CALSCALE:GREGORIAN
METHOD:PUBLISH
X-ORIGINAL-URL:https://hdpusergroup.org
X-WR-CALDESC:Events for HDP User Group
REFRESH-INTERVAL;VALUE=DURATION:PT1H
X-Robots-Tag:noindex
X-PUBLISHED-TTL:PT1H
BEGIN:VTIMEZONE
TZID:America/Chicago
BEGIN:DAYLIGHT
TZOFFSETFROM:-0600
TZOFFSETTO:-0500
TZNAME:CDT
DTSTART:20200308T080000
END:DAYLIGHT
BEGIN:STANDARD
TZOFFSETFROM:-0500
TZOFFSETTO:-0600
TZNAME:CST
DTSTART:20201101T070000
END:STANDARD
END:VTIMEZONE
BEGIN:VEVENT
DTSTART:20201116T150000Z
DTEND:20201116T160000Z
DTSTAMP:20260423T234218
CREATED:20201028T142254Z
LAST-MODIFIED:20201028T142254Z
UID:18457-1605517200-1605520800@hdpusergroup.org
SUMMARY:DISC2A
DESCRIPTION:Status on sampling gathering and preparation 
URL:https://hdpusergroup.org/event/disc2a-15/
CATEGORIES:Digital Speckle Correlation (DSC) 2
ORGANIZER;CN=HDP:mailto:webmaster@hdpug.org
END:VEVENT
BEGIN:VEVENT
DTSTART:20201116T200000Z
DTEND:20201116T210000Z
DTSTAMP:20260423T234218
CREATED:20201028T193018Z
LAST-MODIFIED:20201028T193018Z
UID:18465-1605535200-1605538800@hdpusergroup.org
SUMMARY:PCB Feature Miniaturization
DESCRIPTION:Any progress in getting a shop to build? 
URL:https://hdpusergroup.org/event/pcb-feature-miniaturization/
CATEGORIES:PCB Feature Miniaturization
ORGANIZER;CN=HDP:mailto:webmaster@hdpug.org
END:VEVENT
BEGIN:VEVENT
DTSTART:20201117T160000Z
DTEND:20201118T050000Z
DTSTAMP:20260423T234218
CREATED:20201020T151802Z
LAST-MODIFIED:20201020T151802Z
UID:18423-1605607200-1605654000@hdpusergroup.org
SUMMARY:Better CF Equation
DESCRIPTION:Updates from our 3 test houes.  Talk about drop dead date.  Any new test houses? 
URL:https://hdpusergroup.org/event/better-cf-equation/
CATEGORIES:Better CAF Acceleration Equation
ORGANIZER;CN=HDP:mailto:webmaster@hdpug.org
END:VEVENT
BEGIN:VEVENT
DTSTART:20201118T160000Z
DTEND:20201118T170000Z
DTSTAMP:20260423T234218
CREATED:20201104T170207Z
LAST-MODIFIED:20201104T170207Z
UID:18484-1605693600-1605697200@hdpusergroup.org
SUMMARY:ECM2 Project call
DESCRIPTION:Meeting 
URL:https://hdpusergroup.org/event/1100am-1200pm-ecm2-project-call/
CATEGORIES:Electro-Chemical Migration 2
ORGANIZER;CN=HDP:mailto:webmaster@hdpug.org
END:VEVENT
BEGIN:VEVENT
DTSTART:20201118T180000Z
DTEND:20201118T190000Z
DTSTAMP:20260423T234218
CREATED:20201020T200631Z
LAST-MODIFIED:20201020T200631Z
UID:18425-1605700800-1605704400@hdpusergroup.org
SUMMARY:Low Ag Alloy Solder Paste project meeting
DESCRIPTION:meeting 
URL:https://hdpusergroup.org/event/low-ag-alloy-solder-paste-project-meeting-3/
CATEGORIES:Low Ag Alloy Solderpaste Reliability – BGA Leg
ORGANIZER;CN=HDP:mailto:webmaster@hdpug.org
END:VEVENT
BEGIN:VEVENT
DTSTART:20201119T150000Z
DTEND:20201119T160000Z
DTSTAMP:20260423T234218
CREATED:20201029T160340Z
LAST-MODIFIED:20201029T160340Z
UID:18468-1605776400-1605780000@hdpusergroup.org
SUMMARY:Automotive PWB Meeting
DESCRIPTION:Meeting 
URL:https://hdpusergroup.org/event/automotive-pwb-meeting-6/
CATEGORIES:Automotive PCB – Hi Voltage/Hi Current
ORGANIZER;CN=HDP:mailto:webmaster@hdpug.org
END:VEVENT
BEGIN:VEVENT
DTSTART:20201119T160000Z
DTEND:20201119T170000Z
DTSTAMP:20260423T234218
CREATED:20201110T135108Z
LAST-MODIFIED:20201110T135108Z
UID:18528-1605780000-1605783600@hdpusergroup.org
SUMMARY:Innerlayer copper balancing telecom
DESCRIPTION:Innerlayer copper balancing telecom 
URL:https://hdpusergroup.org/event/innerlayer-copper-balancing-telecom/
CATEGORIES:Local Copper Density
ORGANIZER;CN=HDP:mailto:webmaster@hdpug.org
END:VEVENT
BEGIN:VEVENT
DTSTART:20201119T170000Z
DTEND:20201119T180000Z
DTSTAMP:20260423T234218
CREATED:20201109T222637Z
LAST-MODIFIED:20201109T222637Z
UID:18525-1605783600-1605787200@hdpusergroup.org
SUMMARY:Cu Surface Treatment vs Loss Call
DESCRIPTION:Call to discuss TV progress 
URL:https://hdpusergroup.org/event/cu-surface-treatment-vs-loss-call/
CATEGORIES:Cu Grain Structure
ORGANIZER;CN=HDP:mailto:webmaster@hdpug.org
END:VEVENT
BEGIN:VEVENT
DTSTART:20201119T200000Z
DTEND:20201119T210000Z
DTSTAMP:20260423T234218
CREATED:20201105T204039Z
LAST-MODIFIED:20201105T204039Z
UID:18502-1605794400-1605798000@hdpusergroup.org
SUMMARY:Board Thickness II Tiger Team
DESCRIPTION:Further discussion 
URL:https://hdpusergroup.org/event/board-thickness-ii-tiger-team-3/
CATEGORIES:Staff Calendar
ORGANIZER;CN=HDP:mailto:webmaster@hdpug.org
END:VEVENT
BEGIN:VEVENT
DTSTART:20201120T020000Z
DTEND:20201120T030000Z
DTSTAMP:20260423T234218
CREATED:20201026T122119Z
LAST-MODIFIED:20201026T122119Z
UID:18432-1605816000-1605819600@hdpusergroup.org
SUMMARY:Reliability of Wettable Flank in Routable QFN for Automotive  - Project Call
DESCRIPTION:Call to discuss project status 
URL:https://hdpusergroup.org/event/reliability-of-wettable-flank-in-routable-qfn-for-automotive-project-call-9/
CATEGORIES:Reliability of Wettable Flank in Routable QFN for Automotive
ORGANIZER;CN=HDP:mailto:webmaster@hdpug.org
END:VEVENT
END:VCALENDAR