BEGIN:VCALENDAR
VERSION:2.0
PRODID:-//HDP User Group - ECPv6.10.1.1//NONSGML v1.0//EN
CALSCALE:GREGORIAN
METHOD:PUBLISH
X-ORIGINAL-URL:https://hdpusergroup.org
X-WR-CALDESC:Events for HDP User Group
REFRESH-INTERVAL;VALUE=DURATION:PT1H
X-Robots-Tag:noindex
X-PUBLISHED-TTL:PT1H
BEGIN:VTIMEZONE
TZID:America/Chicago
BEGIN:DAYLIGHT
TZOFFSETFROM:-0600
TZOFFSETTO:-0500
TZNAME:CDT
DTSTART:20200308T080000
END:DAYLIGHT
BEGIN:STANDARD
TZOFFSETFROM:-0500
TZOFFSETTO:-0600
TZNAME:CST
DTSTART:20201101T070000
END:STANDARD
END:VTIMEZONE
BEGIN:VEVENT
DTSTART:20201012T070000Z
DTEND:20201012T080000Z
DTSTAMP:20260424T005328
CREATED:20201011T044149Z
LAST-MODIFIED:20201011T044149Z
UID:18332-1602468000-1602471600@hdpusergroup.org
SUMMARY:LVH Lifetime Predictor for TC Discussion on SIT
DESCRIPTION:LVH Lifetime Predictor for TC Discussion on SIT 
URL:https://hdpusergroup.org/event/lvh-lifetime-predictor-for-tc-discussion-on-sit/
CATEGORIES:Staff Calendar
ORGANIZER;CN=HDP:mailto:webmaster@hdpug.org
END:VEVENT
BEGIN:VEVENT
DTSTART:20201012T150000Z
DTEND:20201012T160000Z
DTSTAMP:20260424T005328
CREATED:20201006T123722Z
LAST-MODIFIED:20201006T123722Z
UID:18330-1602496800-1602500400@hdpusergroup.org
SUMMARY:Reliability and Power Cycles  telecom
DESCRIPTION:Reliability and Power Cycles  telecom 
URL:https://hdpusergroup.org/event/reliability-and-power-cycles-telecom-7/
CATEGORIES:Reliability and Power Cycles
ORGANIZER;CN=HDP:mailto:webmaster@hdpug.org
END:VEVENT
BEGIN:VEVENT
DTSTART:20201013T150000Z
DTEND:20201013T160000Z
DTSTAMP:20260424T005328
CREATED:20201006T123332Z
LAST-MODIFIED:20201006T123332Z
UID:18329-1602583200-1602586800@hdpusergroup.org
SUMMARY:Backdrill under BGA
DESCRIPTION:Backdrill under BGA 
URL:https://hdpusergroup.org/event/backdrill-under-bga-7/
CATEGORIES:Backdrill Under BGA
ORGANIZER;CN=HDP:mailto:webmaster@hdpug.org
END:VEVENT
BEGIN:VEVENT
DTSTART:20201014T140000Z
DTEND:20201014T150000Z
DTSTAMP:20260424T005328
CREATED:20200929T070019Z
LAST-MODIFIED:20200929T070019Z
UID:18283-1602666000-1602669600@hdpusergroup.org
SUMMARY:Component Rework Reliability Project Call
DESCRIPTION:Component Rework Reliability Project Call 
URL:https://hdpusergroup.org/event/component-rework-reliability-project-call-14/
CATEGORIES:Component Rework Reliability
ORGANIZER;CN=HDP:mailto:webmaster@hdpug.org
END:VEVENT
BEGIN:VEVENT
DTSTART:20201014T150000Z
DTEND:20201014T160000Z
DTSTAMP:20260424T005328
CREATED:20200923T154420Z
LAST-MODIFIED:20200923T154420Z
UID:18267-1602669600-1602673200@hdpusergroup.org
SUMMARY:Automotive PWB Meeting
DESCRIPTION:Meeting \n  
URL:https://hdpusergroup.org/event/automotive-pwb-meeting-4/
CATEGORIES:Automotive PCB – Hi Voltage/Hi Current
ORGANIZER;CN=HDP:mailto:webmaster@hdpug.org
END:VEVENT
BEGIN:VEVENT
DTSTART:20201014T160000Z
DTEND:20201014T170000Z
DTSTAMP:20260424T005328
CREATED:20200924T130226Z
LAST-MODIFIED:20200924T130226Z
UID:18271-1602673200-1602676800@hdpusergroup.org
SUMMARY:Harsh Use Alloy 2 Project call
DESCRIPTION:Call to discuss resource plan 
URL:https://hdpusergroup.org/event/harsh-use-alloy-2-project-call/
CATEGORIES:Harsh Use Environment Alloy Evaluation
ORGANIZER;CN=HDP:mailto:webmaster@hdpug.org
END:VEVENT
BEGIN:VEVENT
DTSTART:20201014T190000Z
DTEND:20201014T200000Z
DTSTAMP:20260424T005328
CREATED:20200929T194601Z
LAST-MODIFIED:20200929T194601Z
UID:18290-1602684000-1602687600@hdpusergroup.org
SUMMARY:Miniaturization Process
DESCRIPTION:To see where we are in getting materials\, fabricators\, etc. 
URL:https://hdpusergroup.org/event/miniaturization-process/
CATEGORIES:PCB Feature Miniaturization
ORGANIZER;CN=HDP:mailto:webmaster@hdpug.org
END:VEVENT
BEGIN:VEVENT
DTSTART:20201015T130000Z
DTEND:20201015T140000Z
DTSTAMP:20260424T005328
CREATED:20201005T204123Z
LAST-MODIFIED:20201005T204123Z
UID:18327-1602748800-1602752400@hdpusergroup.org
SUMMARY:DISC2A
DESCRIPTION:Introduce Maarten and see where we are at on preparing/sending samples. 
URL:https://hdpusergroup.org/event/disc2a-13/
CATEGORIES:Digital Speckle Correlation (DSC) 2
ORGANIZER;CN=HDP:mailto:webmaster@hdpug.org
END:VEVENT
BEGIN:VEVENT
DTSTART:20201015T140000Z
DTEND:20201015T150000Z
DTSTAMP:20260424T005328
CREATED:20200924T161253Z
LAST-MODIFIED:20200924T161253Z
UID:18275-1602752400-1602756000@hdpusergroup.org
SUMMARY:ECM2 Project call
DESCRIPTION:Meeting \n  
URL:https://hdpusergroup.org/event/ecm2-project-call-17/
CATEGORIES:Electro-Chemical Migration 2
ORGANIZER;CN=HDP:mailto:webmaster@hdpug.org
END:VEVENT
BEGIN:VEVENT
DTSTART:20201015T160000Z
DTEND:20201015T170000Z
DTSTAMP:20260424T005328
CREATED:20201001T142051Z
LAST-MODIFIED:20201001T142051Z
UID:18302-1602759600-1602763200@hdpusergroup.org
SUMMARY:Cu Surface Treatment vs Loss
DESCRIPTION:Review TV progress 
URL:https://hdpusergroup.org/event/cu-surface-treatment-vs-loss/
CATEGORIES:Cu Grain Structure
ORGANIZER;CN=HDP:mailto:webmaster@hdpug.org
END:VEVENT
BEGIN:VEVENT
DTSTART:20201015T200000Z
DTEND:20201015T210000Z
DTSTAMP:20260424T005328
CREATED:20200924T202751Z
LAST-MODIFIED:20200924T202751Z
UID:18282-1602774000-1602777600@hdpusergroup.org
SUMMARY:Photonic Soldering
DESCRIPTION:Where are we at with Celestica board(s) sent to Novacentrix? 
URL:https://hdpusergroup.org/event/photonic-soldering-14/
CATEGORIES:Photonic Soldering
ORGANIZER;CN=HDP:mailto:webmaster@hdpug.org
END:VEVENT
BEGIN:VEVENT
DTSTART:20201016T170000Z
DTEND:20201016T180000Z
DTSTAMP:20260424T005328
CREATED:20200922T121046Z
LAST-MODIFIED:20200922T121046Z
UID:18264-1602849600-1602853200@hdpusergroup.org
SUMMARY:Ultra Low Dk Glass Analysis telecom
DESCRIPTION:Ultra Low Dk Glass Analysis telecom 
URL:https://hdpusergroup.org/event/ultra-low-dk-glass-analysis-telecom-3/
CATEGORIES:Glass Weave
ORGANIZER;CN=HDP:mailto:webmaster@hdpug.org
END:VEVENT
END:VCALENDAR