BEGIN:VCALENDAR
VERSION:2.0
PRODID:-//HDP User Group - ECPv6.10.1.1//NONSGML v1.0//EN
CALSCALE:GREGORIAN
METHOD:PUBLISH
X-ORIGINAL-URL:https://hdpusergroup.org
X-WR-CALDESC:Events for HDP User Group
REFRESH-INTERVAL;VALUE=DURATION:PT1H
X-Robots-Tag:noindex
X-PUBLISHED-TTL:PT1H
BEGIN:VTIMEZONE
TZID:America/Chicago
BEGIN:DAYLIGHT
TZOFFSETFROM:-0600
TZOFFSETTO:-0500
TZNAME:CDT
DTSTART:20200308T080000
END:DAYLIGHT
BEGIN:STANDARD
TZOFFSETFROM:-0500
TZOFFSETTO:-0600
TZNAME:CST
DTSTART:20201101T070000
END:STANDARD
END:VTIMEZONE
BEGIN:VEVENT
DTSTART:20200928T150000Z
DTEND:20200928T160000Z
DTSTAMP:20260423T234329
CREATED:20200914T152007Z
LAST-MODIFIED:20200914T152007Z
UID:18201-1601287200-1601290800@hdpusergroup.org
SUMMARY:Reliability and Power Cycles
DESCRIPTION:Reliability and Power Cycles telecom 
URL:https://hdpusergroup.org/event/reliability-and-power-cycles-2/
CATEGORIES:Reliability and Power Cycles
ORGANIZER;CN=HDP:mailto:webmaster@hdpug.org
END:VEVENT
BEGIN:VEVENT
DTSTART:20200929T190000Z
DTEND:20200929T200000Z
DTSTAMP:20260423T234329
CREATED:20200917T150229Z
LAST-MODIFIED:20200917T150229Z
UID:18249-1601388000-1601391600@hdpusergroup.org
SUMMARY:Semi-add
DESCRIPTION:Continue determing who will do what. 
URL:https://hdpusergroup.org/event/semi-add-5/
CATEGORIES:PCB Feature Miniaturization
ORGANIZER;CN=HDP:mailto:webmaster@hdpug.org
END:VEVENT
BEGIN:VEVENT
DTSTART:20200930T010000Z
DTEND:20200930T020000Z
DTSTAMP:20260423T234329
CREATED:20200909T140956Z
LAST-MODIFIED:20200909T140956Z
UID:18184-1601409600-1601413200@hdpusergroup.org
SUMMARY:High Speed Hybrid PWB Project Call
DESCRIPTION:High Speed Hybrid PWB Project Call 
URL:https://hdpusergroup.org/event/high-speed-hybrid-pwb-project-call-24/
CATEGORIES:High Speed Hybrid PWB
ORGANIZER;CN=HDP:mailto:webmaster@hdpug.org
END:VEVENT
BEGIN:VEVENT
DTSTART:20200930T150000Z
DTEND:20200930T160000Z
DTSTAMP:20260423T234329
CREATED:20200902T160405Z
LAST-MODIFIED:20200902T160405Z
UID:17836-1601460000-1601463600@hdpusergroup.org
SUMMARY:Materials #6 Call
DESCRIPTION:Meeting 
URL:https://hdpusergroup.org/event/materials-6-call-10/
CATEGORIES:Lead Free PWB Materials Reliability Phase 6
ORGANIZER;CN=HDP:mailto:webmaster@hdpug.org
END:VEVENT
BEGIN:VEVENT
DTSTART:20200930T180000Z
DTEND:20200930T190000Z
DTSTAMP:20260423T234329
CREATED:20200922T121545Z
LAST-MODIFIED:20200922T121545Z
UID:18265-1601470800-1601474400@hdpusergroup.org
SUMMARY:Glass Type Composition (tentative)
DESCRIPTION:Glass Type Composition telecom 
URL:https://hdpusergroup.org/event/glass-type-composition-tentative/
CATEGORIES:Glass Type Composition
ORGANIZER;CN=HDP:mailto:webmaster@hdpug.org
END:VEVENT
BEGIN:VEVENT
DTSTART:20201001T140000Z
DTEND:20201001T150000Z
DTSTAMP:20260423T234329
CREATED:20200917T150544Z
LAST-MODIFIED:20200917T150544Z
UID:18250-1601542800-1601546400@hdpusergroup.org
SUMMARY:DISC 2A
DESCRIPTION:See where people are with sample acquisition and prep. 
URL:https://hdpusergroup.org/event/disc-2a/
CATEGORIES:Digital Speckle Correlation (DSC) 2
ORGANIZER;CN=HDP:mailto:webmaster@hdpug.org
END:VEVENT
BEGIN:VEVENT
DTSTART:20201001T170000Z
DTEND:20201001T180000Z
DTSTAMP:20260423T234329
CREATED:20200904T133527Z
LAST-MODIFIED:20200904T133527Z
UID:17845-1601553600-1601557200@hdpusergroup.org
SUMMARY:VeCS Project Call
DESCRIPTION:Review of Generic SI Data by Wus 
URL:https://hdpusergroup.org/event/vecs-project-call-2/
CATEGORIES:VeCS Technology Evaluation
ORGANIZER;CN=HDP:mailto:webmaster@hdpug.org
END:VEVENT
BEGIN:VEVENT
DTSTART:20201001T180000Z
DTEND:20201001T190000Z
DTSTAMP:20260423T234329
CREATED:20200917T184355Z
LAST-MODIFIED:20200917T184355Z
UID:18253-1601557200-1601560800@hdpusergroup.org
SUMMARY:Cu Peel
DESCRIPTION:Review the presentation for the members' meeting. 
URL:https://hdpusergroup.org/event/cu-peel-2/
CATEGORIES:Cu Properties
ORGANIZER;CN=HDP:mailto:webmaster@hdpug.org
END:VEVENT
END:VCALENDAR