BEGIN:VCALENDAR
VERSION:2.0
PRODID:-//HDP User Group - ECPv6.10.1.1//NONSGML v1.0//EN
CALSCALE:GREGORIAN
METHOD:PUBLISH
X-ORIGINAL-URL:https://hdpusergroup.org
X-WR-CALDESC:Events for HDP User Group
REFRESH-INTERVAL;VALUE=DURATION:PT1H
X-Robots-Tag:noindex
X-PUBLISHED-TTL:PT1H
BEGIN:VTIMEZONE
TZID:America/Chicago
BEGIN:DAYLIGHT
TZOFFSETFROM:-0600
TZOFFSETTO:-0500
TZNAME:CDT
DTSTART:20200308T080000
END:DAYLIGHT
BEGIN:STANDARD
TZOFFSETFROM:-0500
TZOFFSETTO:-0600
TZNAME:CST
DTSTART:20201101T070000
END:STANDARD
END:VTIMEZONE
BEGIN:VEVENT
DTSTART:20200908T150000Z
DTEND:20200908T160000Z
DTSTAMP:20260424T005213
CREATED:20200728T155321Z
LAST-MODIFIED:20200728T155321Z
UID:17722-1599559200-1599562800@hdpusergroup.org
SUMMARY:CAF Equation
DESCRIPTION:Review of latest testing 
URL:https://hdpusergroup.org/event/caf-equation-3/
CATEGORIES:Better CAF Acceleration Equation
ORGANIZER;CN=HDP:mailto:webmaster@hdpug.org
END:VEVENT
BEGIN:VEVENT
DTSTART:20200908T170000Z
DTEND:20200908T180000Z
DTSTAMP:20260424T005213
CREATED:20200825T175430Z
LAST-MODIFIED:20200825T175430Z
UID:17817-1599566400-1599570000@hdpusergroup.org
SUMMARY:Semi-additive
DESCRIPTION:Discuss who is doing what and hopefully complete the Powerpoint for the BoD 
URL:https://hdpusergroup.org/event/semi-additive-2/
CATEGORIES:PCB Feature Miniaturization
ORGANIZER;CN=HDP:mailto:webmaster@hdpug.org
END:VEVENT
BEGIN:VEVENT
DTSTART:20200909T010000Z
DTEND:20200909T020000Z
DTSTAMP:20260424T005213
CREATED:20200819T021904Z
LAST-MODIFIED:20200819T021904Z
UID:17799-1599595200-1599598800@hdpusergroup.org
SUMMARY:High Speed Hybrid PWB Project Call
DESCRIPTION:High Speed Hybrid PWB Project Call 
URL:https://hdpusergroup.org/event/high-speed-hybrid-pwb-project-call-22/
CATEGORIES:High Speed Hybrid PWB
ORGANIZER;CN=HDP:mailto:webmaster@hdpug.org
END:VEVENT
BEGIN:VEVENT
DTSTART:20200909T133000Z
DTEND:20200909T143000Z
DTSTAMP:20260424T005213
CREATED:20200907T164846Z
LAST-MODIFIED:20200907T164846Z
UID:17846-1599640200-1599643800@hdpusergroup.org
SUMMARY:Logo Call
DESCRIPTION:Martin\, Kim\, Smitty logo roll-out call 
URL:https://hdpusergroup.org/event/logo-call-13/
CATEGORIES:Staff Calendar
ORGANIZER;CN=HDP:mailto:webmaster@hdpug.org
END:VEVENT
BEGIN:VEVENT
DTSTART:20200909T150000Z
DTEND:20200909T160000Z
DTSTAMP:20260424T005213
CREATED:20200813T154310Z
LAST-MODIFIED:20200813T154310Z
UID:17789-1599645600-1599649200@hdpusergroup.org
SUMMARY:Automotive PWB – Placeholder
DESCRIPTION:Placeholder \n  
URL:https://hdpusergroup.org/event/automotive-pwb-placeholder/
CATEGORIES:Automotive PCB – Hi Voltage/Hi Current
ORGANIZER;CN=HDP:mailto:webmaster@hdpug.org
END:VEVENT
BEGIN:VEVENT
DTSTART:20200909T150000Z
DTEND:20200909T160000Z
DTSTAMP:20260424T005213
CREATED:20200826T154944Z
LAST-MODIFIED:20200826T154944Z
UID:17822-1599645600-1599649200@hdpusergroup.org
SUMMARY:Automotive PWB – Meeting
DESCRIPTION:Meeting 
URL:https://hdpusergroup.org/event/automotive-pwb-meeting-3/
CATEGORIES:Automotive PCB – Hi Voltage/Hi Current
ORGANIZER;CN=HDP:mailto:webmaster@hdpug.org
END:VEVENT
BEGIN:VEVENT
DTSTART:20200909T160000Z
DTEND:20200909T170000Z
DTSTAMP:20260424T005213
CREATED:20200820T125315Z
LAST-MODIFIED:20200820T125315Z
UID:17804-1599649200-1599652800@hdpusergroup.org
SUMMARY:Cu foil surface treatment vs loss Project Call
DESCRIPTION:Update on project progress 
URL:https://hdpusergroup.org/event/cu-foil-surface-treatment-vs-loss-project-call/
CATEGORIES:Cu Grain Structure
ORGANIZER;CN=HDP:mailto:webmaster@hdpug.org
END:VEVENT
BEGIN:VEVENT
DTSTART:20200910T010000Z
DTEND:20200910T020000Z
DTSTAMP:20260424T005213
CREATED:20210825T235741Z
LAST-MODIFIED:20210825T235741Z
UID:17762-1599681600-1599685200@hdpusergroup.org
SUMMARY:LVH Lifetime Predictor for TC Project Call
DESCRIPTION:LVH Lifetime Predictor for TC Project Call 
URL:https://hdpusergroup.org/event/lvh-lifetime-predictor-for-tc-project-call-3/
CATEGORIES:LVH Lifetime Predictor for TC
ORGANIZER;CN=HDP:mailto:webmaster@hdpug.org
END:VEVENT
BEGIN:VEVENT
DTSTART:20200910T070000Z
DTEND:20200910T080000Z
DTSTAMP:20260424T005213
CREATED:20200904T023134Z
LAST-MODIFIED:20200904T023134Z
UID:17842-1599703200-1599706800@hdpusergroup.org
SUMMARY:Component Rework Reliability Project Call
DESCRIPTION:Component Rework Reliability Project Call 
URL:https://hdpusergroup.org/event/component-rework-reliability-project-call-12/
CATEGORIES:Component Rework Reliability
ORGANIZER;CN=HDP:mailto:webmaster@hdpug.org
END:VEVENT
BEGIN:VEVENT
DTSTART:20200910T150000Z
DTEND:20200910T160000Z
DTSTAMP:20260424T005213
CREATED:20200820T155234Z
LAST-MODIFIED:20200820T155234Z
UID:17807-1599732000-1599735600@hdpusergroup.org
SUMMARY:ECM2 Project call
DESCRIPTION:Meeting \n  
URL:https://hdpusergroup.org/event/ecm2-project-call-15/
CATEGORIES:Electro-Chemical Migration 2
ORGANIZER;CN=HDP:mailto:webmaster@hdpug.org
END:VEVENT
END:VCALENDAR