BEGIN:VCALENDAR
VERSION:2.0
PRODID:-//HDP User Group - ECPv6.10.1.1//NONSGML v1.0//EN
CALSCALE:GREGORIAN
METHOD:PUBLISH
X-ORIGINAL-URL:https://hdpusergroup.org
X-WR-CALDESC:Events for HDP User Group
REFRESH-INTERVAL;VALUE=DURATION:PT1H
X-Robots-Tag:noindex
X-PUBLISHED-TTL:PT1H
BEGIN:VTIMEZONE
TZID:America/Chicago
BEGIN:DAYLIGHT
TZOFFSETFROM:-0600
TZOFFSETTO:-0500
TZNAME:CDT
DTSTART:20200308T080000
END:DAYLIGHT
BEGIN:STANDARD
TZOFFSETFROM:-0500
TZOFFSETTO:-0600
TZNAME:CST
DTSTART:20201101T070000
END:STANDARD
END:VTIMEZONE
BEGIN:VEVENT
DTSTART:20200824T150000Z
DTEND:20200824T160000Z
DTSTAMP:20260424T035246
CREATED:20200817T151220Z
LAST-MODIFIED:20200817T151220Z
UID:17797-1598263200-1598266800@hdpusergroup.org
SUMMARY:Reliability and Power Cycles telecom
DESCRIPTION:Reliability and Power Cycles telecom 
URL:https://hdpusergroup.org/event/reliability-and-power-cycles-telecom-5/
CATEGORIES:Reliability and Power Cycles
ORGANIZER;CN=HDP:mailto:webmaster@hdpug.org
END:VEVENT
BEGIN:VEVENT
DTSTART:20200825T170000Z
DTEND:20200825T180000Z
DTSTAMP:20260424T035246
CREATED:20200811T180303Z
LAST-MODIFIED:20200811T180303Z
UID:17774-1598356800-1598360400@hdpusergroup.org
SUMMARY:Semi-additive
DESCRIPTION:Down select variables and start the discussion on who does what. 
URL:https://hdpusergroup.org/event/semi-additive/
CATEGORIES:PCB Feature Miniaturization
ORGANIZER;CN=HDP:mailto:webmaster@hdpug.org
END:VEVENT
BEGIN:VEVENT
DTSTART:20200826T140000Z
DTEND:20200826T150000Z
DTSTAMP:20260424T035246
CREATED:20200826T135832Z
LAST-MODIFIED:20200826T135832Z
UID:17821-1598432400-1598436000@hdpusergroup.org
SUMMARY:Logo
DESCRIPTION:Logo Call 
URL:https://hdpusergroup.org/event/logo/
CATEGORIES:Staff Calendar
ORGANIZER;CN=HDP:mailto:webmaster@hdpug.org
END:VEVENT
BEGIN:VEVENT
DTSTART:20200826T150000Z
DTEND:20200826T160000Z
DTSTAMP:20260424T035246
CREATED:20200805T154836Z
LAST-MODIFIED:20200805T154836Z
UID:17752-1598436000-1598439600@hdpusergroup.org
SUMMARY:Automotive PWB – Meeting
DESCRIPTION:Meeting \n  
URL:https://hdpusergroup.org/event/automotive-pwb-meeting-2/
CATEGORIES:Automotive PCB – Hi Voltage/Hi Current
ORGANIZER;CN=HDP:mailto:webmaster@hdpug.org
END:VEVENT
BEGIN:VEVENT
DTSTART:20200827T150000Z
DTEND:20200827T160000Z
DTSTAMP:20260424T035246
CREATED:20200716T152111Z
LAST-MODIFIED:20200716T152111Z
UID:17687-1598522400-1598526000@hdpusergroup.org
SUMMARY:SAC Aging 3-84 Meeting
DESCRIPTION:Meeting \n  
URL:https://hdpusergroup.org/event/sac-aging-3-84-meeting-8/
CATEGORIES:SAC Aging 3 84
ORGANIZER;CN=HDP:mailto:webmaster@hdpug.org
END:VEVENT
BEGIN:VEVENT
DTSTART:20200827T190000Z
DTEND:20200827T200000Z
DTSTAMP:20260424T035246
CREATED:20200731T144010Z
LAST-MODIFIED:20200731T144010Z
UID:17734-1598536800-1598540400@hdpusergroup.org
SUMMARY:Mini Power Cycle Call
DESCRIPTION:Call to review data and final report draft. 
URL:https://hdpusergroup.org/event/mini-power-cycle-call-7/
CATEGORIES:Mini Power Cycles
ORGANIZER;CN=HDP:mailto:webmaster@hdpug.org
END:VEVENT
BEGIN:VEVENT
DTSTART:20200828T010000Z
DTEND:20200828T020000Z
DTSTAMP:20260424T035246
CREATED:20200731T152054Z
LAST-MODIFIED:20200731T152054Z
UID:17738-1598558400-1598562000@hdpusergroup.org
SUMMARY:Reliability of Wettable Flank in Routable QFN for Automotive Project Call
DESCRIPTION:Discuss Testing  
URL:https://hdpusergroup.org/event/reliability-of-wettable-flank-in-routable-qfn-for-automotive-project-call-7/
CATEGORIES:Reliability of Wettable Flank in Routable QFN for Automotive
ORGANIZER;CN=HDP:mailto:webmaster@hdpug.org
END:VEVENT
END:VCALENDAR