BEGIN:VCALENDAR
VERSION:2.0
PRODID:-//HDP User Group - ECPv6.10.1.1//NONSGML v1.0//EN
CALSCALE:GREGORIAN
METHOD:PUBLISH
X-ORIGINAL-URL:https://hdpusergroup.org
X-WR-CALDESC:Events for HDP User Group
REFRESH-INTERVAL;VALUE=DURATION:PT1H
X-Robots-Tag:noindex
X-PUBLISHED-TTL:PT1H
BEGIN:VTIMEZONE
TZID:America/Chicago
BEGIN:DAYLIGHT
TZOFFSETFROM:-0600
TZOFFSETTO:-0500
TZNAME:CDT
DTSTART:20200308T080000
END:DAYLIGHT
BEGIN:STANDARD
TZOFFSETFROM:-0500
TZOFFSETTO:-0600
TZNAME:CST
DTSTART:20201101T070000
END:STANDARD
END:VTIMEZONE
BEGIN:VEVENT
DTSTART:20200804T150000Z
DTEND:20200804T160000Z
DTSTAMP:20260424T052723
CREATED:20200721T213919Z
LAST-MODIFIED:20200721T213919Z
UID:17709-1596535200-1596538800@hdpusergroup.org
SUMMARY:HDP Backdrill Under BGA telecom
DESCRIPTION:HDP Backdrill Under BGA telecom 
URL:https://hdpusergroup.org/event/hdp-backdrill-under-bga-telecom/
CATEGORIES:Backdrill Under BGA
ORGANIZER;CN=HDP:mailto:webmaster@hdpug.org
END:VEVENT
BEGIN:VEVENT
DTSTART:20200805T010000Z
DTEND:20200805T020000Z
DTSTAMP:20260424T052723
CREATED:20200805T001810Z
LAST-MODIFIED:20200805T001810Z
UID:17624-1596571200-1596574800@hdpusergroup.org
SUMMARY:LVH Lifetime Predictor for TC Project Call
DESCRIPTION:LVH Lifetime Predictor for TC Project Call 
URL:https://hdpusergroup.org/event/lvh-lifetime-predictor-for-tc-project-call-2/
CATEGORIES:LVH Lifetime Predictor for TC
ORGANIZER;CN=HDP:mailto:webmaster@hdpug.org
END:VEVENT
BEGIN:VEVENT
DTSTART:20200805T150000Z
DTEND:20200805T160000Z
DTSTAMP:20260424T052723
CREATED:20200715T161138Z
LAST-MODIFIED:20200715T161138Z
UID:17681-1596621600-1596625200@hdpusergroup.org
SUMMARY:Automotive PWB – Meeting
DESCRIPTION:Project Call \n  
URL:https://hdpusergroup.org/event/automotive-pwb-meeting/
CATEGORIES:Automotive PCB – Hi Voltage/Hi Current
ORGANIZER;CN=HDP:mailto:webmaster@hdpug.org
END:VEVENT
BEGIN:VEVENT
DTSTART:20200805T160000Z
DTEND:20200805T170000Z
DTSTAMP:20260424T052723
CREATED:20200717T214148Z
LAST-MODIFIED:20200717T214148Z
UID:17694-1596625200-1596628800@hdpusergroup.org
SUMMARY:Cu Surface Treatment Aug 5\, 2020 project meeting
DESCRIPTION:Cu Surface Treatment Aug 5\, 2020 project meeting 
URL:https://hdpusergroup.org/event/cu-surface-treatment-aug-5-2020-project-meeting/
LOCATION:WebEx
CATEGORIES:Cu Grain Structure
ORGANIZER;CN=HDP:mailto:webmaster@hdpug.org
END:VEVENT
BEGIN:VEVENT
DTSTART:20200805T170000Z
DTEND:20200805T180000Z
DTSTAMP:20260424T052723
CREATED:20200717T214919Z
LAST-MODIFIED:20200717T214919Z
UID:17696-1596628800-1596632400@hdpusergroup.org
SUMMARY:Low Ag Alloy Solder Paste Aug 5\, 2020 project meeting
DESCRIPTION:Low Ag Alloy Solder Paste Aug 5\, 2020 project meeting 
URL:https://hdpusergroup.org/event/low-ag-alloy-solder-paste-aug-5-2020-project-meeting/
LOCATION:WebEx
CATEGORIES:Low Ag Alloy Solderpaste Reliability – BGA Leg
ORGANIZER;CN=HDP:mailto:webmaster@hdpug.org
END:VEVENT
BEGIN:VEVENT
DTSTART:20200805T180000Z
DTEND:20200805T190000Z
DTSTAMP:20260424T052723
CREATED:20200717T214601Z
LAST-MODIFIED:20200717T214601Z
UID:17695-1596632400-1596636000@hdpusergroup.org
SUMMARY:Glass Type Comparison Aug 5\, 2020 project meeting
DESCRIPTION:Glass Type Comparison Aug 5\, 2020 project meeting 
URL:https://hdpusergroup.org/event/glass-type-comparison-aug-5-2020-project-meeting/
LOCATION:WebEx
CATEGORIES:Glass Type Composition
ORGANIZER;CN=HDP:mailto:webmaster@hdpug.org
END:VEVENT
BEGIN:VEVENT
DTSTART:20200806T060000Z
DTEND:20200806T080000Z
DTSTAMP:20260424T052723
CREATED:20200806T035150Z
LAST-MODIFIED:20200806T035150Z
UID:17755-1596675600-1596682800@hdpusergroup.org
SUMMARY:Webex Setup with Shinichi
DESCRIPTION:Webex Setup with Shinichi 
URL:https://hdpusergroup.org/event/webex-setup-with-shinichi/
CATEGORIES:Staff Calendar
ORGANIZER;CN=HDP:mailto:webmaster@hdpug.org
END:VEVENT
BEGIN:VEVENT
DTSTART:20200806T150000Z
DTEND:20200806T160000Z
DTSTAMP:20260424T052723
CREATED:20200721T213608Z
LAST-MODIFIED:20200721T213608Z
UID:17708-1596708000-1596711600@hdpusergroup.org
SUMMARY:HDP Local Copper Density Telecom
DESCRIPTION:HDP Local Copper Density Telecom 
URL:https://hdpusergroup.org/event/hdp-local-copper-density-telecom/
CATEGORIES:Local Copper Density
ORGANIZER;CN=HDP:mailto:webmaster@hdpug.org
END:VEVENT
BEGIN:VEVENT
DTSTART:20200806T170000Z
DTEND:20200806T180000Z
DTSTAMP:20260424T052723
CREATED:20200717T213750Z
LAST-MODIFIED:20200717T213750Z
UID:17693-1596715200-1596718800@hdpusergroup.org
SUMMARY:Cu Peel Strength meeting of Aug 6\, 2020
DESCRIPTION:Cu Peel Strength meeting of Aug 6\, 2020 
URL:https://hdpusergroup.org/event/cu-peel-strength-meeting-of-aug-6-2020/
LOCATION:WebEx
CATEGORIES:Cu Properties
ORGANIZER;CN=HDP:mailto:webmaster@hdpug.org
END:VEVENT
BEGIN:VEVENT
DTSTART:20200806T170000Z
DTEND:20200806T180000Z
DTSTAMP:20260424T052723
CREATED:20200717T215942Z
LAST-MODIFIED:20200717T215942Z
UID:17698-1596715200-1596718800@hdpusergroup.org
SUMMARY:VeCS Technology evaluation Aug 6\, 2020 project meetings
DESCRIPTION:VeCS Technology evaluation Aug 6\, 2020 project meetings 
URL:https://hdpusergroup.org/event/vecs-technology-evaluation-aug-5-2020-project-meetings/
LOCATION:WebEx
CATEGORIES:VeCS Technology Evaluation
ORGANIZER;CN=HDP:mailto:webmaster@hdpug.org
END:VEVENT
BEGIN:VEVENT
DTSTART:20200806T190000Z
DTEND:20200806T200000Z
DTSTAMP:20260424T052723
CREATED:20200730T011333Z
LAST-MODIFIED:20200730T011333Z
UID:17726-1596722400-1596726000@hdpusergroup.org
SUMMARY:IPC/HDP telecom
DESCRIPTION:IPC/HDP telecom 
URL:https://hdpusergroup.org/event/ipc-hdp-telecom/
CATEGORIES:Staff Calendar
ORGANIZER;CN=HDP:mailto:webmaster@hdpug.org
END:VEVENT
BEGIN:VEVENT
DTSTART:20200807T170000Z
DTEND:20200807T180000Z
DTSTAMP:20260424T052723
CREATED:20200804T151910Z
LAST-MODIFIED:20200804T151910Z
UID:17747-1596801600-1596805200@hdpusergroup.org
SUMMARY:Gary\, Karl\, Jack Backdrill Under BGA
DESCRIPTION:Gary\, Karl\, Jack Backdrill Under BGA 
URL:https://hdpusergroup.org/event/gary-karl-jack-backdrill-under-bga/
CATEGORIES:Staff Calendar
ORGANIZER;CN=HDP:mailto:webmaster@hdpug.org
END:VEVENT
END:VCALENDAR