BEGIN:VCALENDAR
VERSION:2.0
PRODID:-//HDP User Group - ECPv6.10.1.1//NONSGML v1.0//EN
CALSCALE:GREGORIAN
METHOD:PUBLISH
X-ORIGINAL-URL:https://hdpusergroup.org
X-WR-CALDESC:Events for HDP User Group
REFRESH-INTERVAL;VALUE=DURATION:PT1H
X-Robots-Tag:noindex
X-PUBLISHED-TTL:PT1H
BEGIN:VTIMEZONE
TZID:America/Chicago
BEGIN:DAYLIGHT
TZOFFSETFROM:-0600
TZOFFSETTO:-0500
TZNAME:CDT
DTSTART:20200308T080000
END:DAYLIGHT
BEGIN:STANDARD
TZOFFSETFROM:-0500
TZOFFSETTO:-0600
TZNAME:CST
DTSTART:20201101T070000
END:STANDARD
END:VTIMEZONE
BEGIN:VEVENT
DTSTART:20200727T150000Z
DTEND:20200727T160000Z
DTSTAMP:20260424T035148
CREATED:20200714T125033Z
LAST-MODIFIED:20200714T125033Z
UID:17677-1595844000-1595847600@hdpusergroup.org
SUMMARY:Reliability and Power Cycles telecom
DESCRIPTION:Reliability and Power Cycles telecom 
URL:https://hdpusergroup.org/event/reliability-and-power-cycles-telecom-3/
CATEGORIES:Reliability and Power Cycles
ORGANIZER;CN=HDP:mailto:webmaster@hdpug.org
END:VEVENT
BEGIN:VEVENT
DTSTART:20200728T150000Z
DTEND:20200728T160000Z
DTSTAMP:20260424T035148
CREATED:20200623T123415Z
LAST-MODIFIED:20200623T123415Z
UID:17591-1595930400-1595934000@hdpusergroup.org
SUMMARY:Better CAF
DESCRIPTION:Next update 
URL:https://hdpusergroup.org/event/better-caf/
CATEGORIES:Better CAF Acceleration Equation
ORGANIZER;CN=HDP:mailto:webmaster@hdpug.org
END:VEVENT
BEGIN:VEVENT
DTSTART:20200728T170000Z
DTEND:20200728T180000Z
DTSTAMP:20260424T035148
CREATED:20200707T173526Z
LAST-MODIFIED:20200707T173526Z
UID:17663-1595937600-1595941200@hdpusergroup.org
SUMMARY:Semi-add
DESCRIPTION:Start fleshing out the project to move from Idea to Defintion Phase. Team members are enocuraged to provide Paul Cooke paul.cooke@agc.com and myself bevch@hdpug.org their wish list of what they would like to see in the project. 
URL:https://hdpusergroup.org/event/semi-add-2/
CATEGORIES:PCB Feature Miniaturization
ORGANIZER;CN=HDP:mailto:webmaster@hdpug.org
END:VEVENT
BEGIN:VEVENT
DTSTART:20200729T010000Z
DTEND:20200729T020000Z
DTSTAMP:20260424T035148
CREATED:20200708T013806Z
LAST-MODIFIED:20200708T013806Z
UID:17664-1595966400-1595970000@hdpusergroup.org
SUMMARY:High Speed Hybrid PWB Project Call
DESCRIPTION:High Speed Hybrid PWB Project Call 
URL:https://hdpusergroup.org/event/high-speed-hybrid-pwb-project-call-20/
CATEGORIES:High Speed Hybrid PWB
ORGANIZER;CN=HDP:mailto:webmaster@hdpug.org
END:VEVENT
BEGIN:VEVENT
DTSTART:20200729T140000Z
DTEND:20200729T150000Z
DTSTAMP:20260424T035148
CREATED:20200722T150958Z
LAST-MODIFIED:20200722T150958Z
UID:17710-1596013200-1596016800@hdpusergroup.org
SUMMARY:Logo Call
DESCRIPTION:Logo usage document call. 
URL:https://hdpusergroup.org/event/logo-call-11/
CATEGORIES:Staff Calendar
ORGANIZER;CN=HDP:mailto:webmaster@hdpug.org
END:VEVENT
BEGIN:VEVENT
DTSTART:20200729T150000Z
DTEND:20200729T160000Z
DTSTAMP:20260424T035148
CREATED:20200714T115640Z
LAST-MODIFIED:20200714T115640Z
UID:17675-1596016800-1596020400@hdpusergroup.org
SUMMARY:DISC2A
DESCRIPTION:Talk about samples for the work. 
URL:https://hdpusergroup.org/event/disc2a-8/
CATEGORIES:Digital Speckle Correlation (DSC) 2
ORGANIZER;CN=HDP:mailto:webmaster@hdpug.org
END:VEVENT
BEGIN:VEVENT
DTSTART:20200730T160000Z
DTEND:20200730T170000Z
DTSTAMP:20260424T035148
CREATED:20200716T164349Z
LAST-MODIFIED:20200716T164349Z
UID:17688-1596106800-1596110400@hdpusergroup.org
SUMMARY:ECM2 Project call
DESCRIPTION:Meeting \n  
URL:https://hdpusergroup.org/event/1200pm-100pm-ecm2-project-call/
CATEGORIES:Electro-Chemical Migration 2
ORGANIZER;CN=HDP:mailto:webmaster@hdpug.org
END:VEVENT
BEGIN:VEVENT
DTSTART:20200730T190000Z
DTEND:20200730T200000Z
DTSTAMP:20260424T035148
CREATED:20200624T124401Z
LAST-MODIFIED:20200624T124401Z
UID:17594-1596117600-1596121200@hdpusergroup.org
SUMMARY:Mini Power Cycle Project call
DESCRIPTION:Call to review latest corner heater data 
URL:https://hdpusergroup.org/event/mini-power-cycle-project-call-11/
CATEGORIES:Mini Power Cycles
ORGANIZER;CN=HDP:mailto:webmaster@hdpug.org
END:VEVENT
BEGIN:VEVENT
DTSTART:20200731T010000Z
DTEND:20200731T020000Z
DTSTAMP:20260424T035148
CREATED:20200716T145812Z
LAST-MODIFIED:20200716T145812Z
UID:17686-1596139200-1596142800@hdpusergroup.org
SUMMARY:Reliability of Wettable Flank in Routable QFN for Automotive - Call
DESCRIPTION:Call to discuss project status 
URL:https://hdpusergroup.org/event/reliability-of-wettable-flank-in-routable-qfn-for-automotive-call-3/
CATEGORIES:Reliability of Wettable Flank in Routable QFN for Automotive
ORGANIZER;CN=HDP:mailto:webmaster@hdpug.org
END:VEVENT
BEGIN:VEVENT
DTSTART:20200801T210000Z
DTEND:20200801T220000Z
DTSTAMP:20260424T035148
CREATED:20200731T114839Z
LAST-MODIFIED:20200731T114839Z
UID:17733-1596297600-1596301200@hdpusergroup.org
SUMMARY:testing only from website
DESCRIPTION:testing only from website\, pls ignore 
URL:https://hdpusergroup.org/event/testing-only-from-website/
CATEGORIES:Staff Calendar
ORGANIZER;CN=HDP:mailto:webmaster@hdpug.org
END:VEVENT
END:VCALENDAR