BEGIN:VCALENDAR
VERSION:2.0
PRODID:-//HDP User Group - ECPv6.10.1.1//NONSGML v1.0//EN
CALSCALE:GREGORIAN
METHOD:PUBLISH
X-ORIGINAL-URL:https://hdpusergroup.org
X-WR-CALDESC:Events for HDP User Group
REFRESH-INTERVAL;VALUE=DURATION:PT1H
X-Robots-Tag:noindex
X-PUBLISHED-TTL:PT1H
BEGIN:VTIMEZONE
TZID:America/Chicago
BEGIN:DAYLIGHT
TZOFFSETFROM:-0600
TZOFFSETTO:-0500
TZNAME:CDT
DTSTART:20200308T080000
END:DAYLIGHT
BEGIN:STANDARD
TZOFFSETFROM:-0500
TZOFFSETTO:-0600
TZNAME:CST
DTSTART:20201101T070000
END:STANDARD
END:VTIMEZONE
BEGIN:VEVENT
DTSTART:20200721T150000Z
DTEND:20200721T160000Z
DTSTAMP:20260424T052748
CREATED:20200714T125305Z
LAST-MODIFIED:20200714T125305Z
UID:17678-1595325600-1595329200@hdpusergroup.org
SUMMARY:Backdrill Under BGA
DESCRIPTION:Backdrill Under BGA 
URL:https://hdpusergroup.org/event/backdrill-under-bga-5/
CATEGORIES:Backdrill Under BGA
ORGANIZER;CN=HDP:mailto:webmaster@hdpug.org
END:VEVENT
BEGIN:VEVENT
DTSTART:20200722T140000Z
DTEND:20200722T150000Z
DTSTAMP:20260424T052748
CREATED:20200721T125420Z
LAST-MODIFIED:20200721T125420Z
UID:17704-1595408400-1595412000@hdpusergroup.org
SUMMARY:Logo Call
DESCRIPTION:Logo usage document call. 
URL:https://hdpusergroup.org/event/logo-call-10/
CATEGORIES:Staff Calendar
ORGANIZER;CN=HDP:mailto:webmaster@hdpug.org
END:VEVENT
BEGIN:VEVENT
DTSTART:20200723T150000Z
DTEND:20200723T160000Z
DTSTAMP:20260424T052748
CREATED:20200708T155141Z
LAST-MODIFIED:20200708T155141Z
UID:17666-1595498400-1595502000@hdpusergroup.org
SUMMARY:Materials #6 Call
DESCRIPTION:Meeting \n  
URL:https://hdpusergroup.org/event/materials-6-call-7/
CATEGORIES:Lead Free PWB Materials Reliability Phase 6
ORGANIZER;CN=HDP:mailto:webmaster@hdpug.org
END:VEVENT
BEGIN:VEVENT
DTSTART:20200723T200000Z
DTEND:20200723T210000Z
DTSTAMP:20260424T052748
CREATED:20200714T115931Z
LAST-MODIFIED:20200714T115931Z
UID:17676-1595516400-1595520000@hdpusergroup.org
SUMMARY:Photonic
DESCRIPTION:Talk about detailed Word "how-to" document. 
URL:https://hdpusergroup.org/event/photonic/
CATEGORIES:Photonic Soldering
ORGANIZER;CN=HDP:mailto:webmaster@hdpug.org
END:VEVENT
END:VCALENDAR