BEGIN:VCALENDAR
VERSION:2.0
PRODID:-//HDP User Group - ECPv6.10.1.1//NONSGML v1.0//EN
CALSCALE:GREGORIAN
METHOD:PUBLISH
X-ORIGINAL-URL:https://hdpusergroup.org
X-WR-CALDESC:Events for HDP User Group
REFRESH-INTERVAL;VALUE=DURATION:PT1H
X-Robots-Tag:noindex
X-PUBLISHED-TTL:PT1H
BEGIN:VTIMEZONE
TZID:America/Chicago
BEGIN:DAYLIGHT
TZOFFSETFROM:-0600
TZOFFSETTO:-0500
TZNAME:CDT
DTSTART:20200308T080000
END:DAYLIGHT
BEGIN:STANDARD
TZOFFSETFROM:-0500
TZOFFSETTO:-0600
TZNAME:CST
DTSTART:20201101T070000
END:STANDARD
END:VTIMEZONE
BEGIN:VEVENT
DTSTART:20200527T150000Z
DTEND:20200527T160000Z
DTSTAMP:20260424T082729
CREATED:20200514T160656Z
LAST-MODIFIED:20200514T160656Z
UID:17398-1590573600-1590577200@hdpusergroup.org
SUMMARY:ECM2 Project call
DESCRIPTION:Meeting \n  
URL:https://hdpusergroup.org/event/ecm2-project-call-11/
CATEGORIES:Electro-Chemical Migration 2
ORGANIZER;CN=HDP:mailto:webmaster@hdpug.org
END:VEVENT
BEGIN:VEVENT
DTSTART:20200527T160000Z
DTEND:20200527T170000Z
DTSTAMP:20260424T082729
CREATED:20200518T195932Z
LAST-MODIFIED:20200518T195932Z
UID:17402-1590577200-1590580800@hdpusergroup.org
SUMMARY:Cu Surface Treatment VS Loss May 27\, 2020 project meeting
DESCRIPTION:Cu Surface Treatment VS Loss May 27\, 2020 project meeting 
URL:https://hdpusergroup.org/event/cu-surface-treatment-vs-loss-may-27-2020-project-meeting/
LOCATION:WebEx
CATEGORIES:Cu Grain Structure
ORGANIZER;CN=HDP:mailto:webmaster@hdpug.org
END:VEVENT
BEGIN:VEVENT
DTSTART:20200527T170000Z
DTEND:20200527T180000Z
DTSTAMP:20260424T082729
CREATED:20200518T200146Z
LAST-MODIFIED:20200518T200146Z
UID:17403-1590580800-1590584400@hdpusergroup.org
SUMMARY:Low Ag Alloy Solderpaste May 27\, 2020 project meeting
DESCRIPTION:Low Ag Alloy Solderpaste May 27\, 2020 project meeting 
URL:https://hdpusergroup.org/event/low-ag-alloy-solderpaste-may-27-2020-project-meeting/
LOCATION:WebEx
CATEGORIES:Low Ag Alloy Solderpaste Reliability – BGA Leg
ORGANIZER;CN=HDP:mailto:webmaster@hdpug.org
END:VEVENT
BEGIN:VEVENT
DTSTART:20200527T180000Z
DTEND:20200527T190000Z
DTSTAMP:20260424T082729
CREATED:20200518T195422Z
LAST-MODIFIED:20200518T195422Z
UID:17400-1590584400-1590588000@hdpusergroup.org
SUMMARY:Glass Type Comparison May 27\, 2020 project meeting
DESCRIPTION:Glass Type Comparison May 27\, 2020 project meeting 
URL:https://hdpusergroup.org/event/glass-type-comparison-may-27-2020-project-meeting/
LOCATION:WebEx
CATEGORIES:Glass Type Composition
ORGANIZER;CN=HDP:mailto:webmaster@hdpug.org
END:VEVENT
BEGIN:VEVENT
DTSTART:20200527T200000Z
DTEND:20200527T210000Z
DTSTAMP:20260424T082729
CREATED:20200521T135645Z
LAST-MODIFIED:20200521T135645Z
UID:17421-1590591600-1590595200@hdpusergroup.org
SUMMARY:Photonic Soldering Team Call
DESCRIPTION:Photonic Soldering Weekly Team Call 
URL:https://hdpusergroup.org/event/photonic-soldering-team-call-3/
CATEGORIES:Photonic Soldering
ORGANIZER;CN=HDP:mailto:webmaster@hdpug.org
END:VEVENT
BEGIN:VEVENT
DTSTART:20200528T070000Z
DTEND:20200528T080000Z
DTSTAMP:20260424T082729
CREATED:20200507T025257Z
LAST-MODIFIED:20200507T025257Z
UID:16837-1590631200-1590634800@hdpusergroup.org
SUMMARY:Component Rework Reliability Project Call
DESCRIPTION:Component Rework Reliability Project Call 
URL:https://hdpusergroup.org/event/component-rework-reliability-project-call-10/
CATEGORIES:Component Rework Reliability
ORGANIZER;CN=HDP:mailto:webmaster@hdpug.org
END:VEVENT
BEGIN:VEVENT
DTSTART:20200528T140000Z
DTEND:20200528T150000Z
DTSTAMP:20260424T082729
CREATED:20200508T063135Z
LAST-MODIFIED:20200508T063135Z
UID:17363-1590656400-1590660000@hdpusergroup.org
SUMMARY:PFH Technology Project Call
DESCRIPTION:PFH Technology Project Call 
URL:https://hdpusergroup.org/event/pfh-technology-project-call-18/
CATEGORIES:PFH Technology
ORGANIZER;CN=HDP:mailto:webmaster@hdpug.org
END:VEVENT
BEGIN:VEVENT
DTSTART:20200528T170000Z
DTEND:20200528T180000Z
DTSTAMP:20260424T082729
CREATED:20200518T195138Z
LAST-MODIFIED:20200518T195138Z
UID:17399-1590667200-1590670800@hdpusergroup.org
SUMMARY:VeCS Technology Evaluation project meeting of May 28\, 2020
DESCRIPTION:VeCS Technology Evaluation project meeting of May 28\, 2020 
URL:https://hdpusergroup.org/event/vecs-technology-evaluation-project-meeting-of-may-28-2020/
LOCATION:WebEx
CATEGORIES:VeCS Technology Evaluation
ORGANIZER;CN=HDP:mailto:webmaster@hdpug.org
END:VEVENT
BEGIN:VEVENT
DTSTART:20200529T130000Z
DTEND:20200529T220000Z
DTSTAMP:20260424T082729
CREATED:20210825T013109Z
LAST-MODIFIED:20210825T013109Z
UID:17472-1590739200-1590771600@hdpusergroup.org
SUMMARY:HDP May 2020 Project Updates
DESCRIPTION:As you are aware\, the recent Global COVID-19 outbreak has caused many restrictions on travel. It has caused companies to place restrictions on employee’s participation in conferences and external events. Our members’ safety is paramount\, and the logistics requirements have made it difficult to hold a safe\, successful meeting. \nWe felt it very important to keep you\, as our members\, informed as to the status of the project work\, which has continued. We have set up a web page where you can download project update presentations.  At the end of each presentation there contact information of the project facilitator who can help with questions. \nThanks for your support of HDP and be safe. \n 
URL:https://hdpusergroup.org/event/hdp-may-2020-project-updates/
CATEGORIES:Member Meetings
ORGANIZER;CN=HDP:mailto:webmaster@hdpug.org
END:VEVENT
BEGIN:VEVENT
DTSTART:20200529T180000Z
DTEND:20200529T190000Z
DTSTAMP:20260424T082729
CREATED:20200526T140204Z
LAST-MODIFIED:20200526T140204Z
UID:17457-1590757200-1590760800@hdpusergroup.org
SUMMARY:DISC2A
DESCRIPTION:Good news announcement and how do we work to start on the top three choices voted on. 
URL:https://hdpusergroup.org/event/disc2a-5/
CATEGORIES:Digital Speckle Correlation (DSC) 2
ORGANIZER;CN=HDP:mailto:webmaster@hdpug.org
END:VEVENT
END:VCALENDAR