BEGIN:VCALENDAR
VERSION:2.0
PRODID:-//HDP User Group - ECPv6.10.1.1//NONSGML v1.0//EN
CALSCALE:GREGORIAN
METHOD:PUBLISH
X-ORIGINAL-URL:https://hdpusergroup.org
X-WR-CALDESC:Events for HDP User Group
REFRESH-INTERVAL;VALUE=DURATION:PT1H
X-Robots-Tag:noindex
X-PUBLISHED-TTL:PT1H
BEGIN:VTIMEZONE
TZID:America/Chicago
BEGIN:DAYLIGHT
TZOFFSETFROM:-0600
TZOFFSETTO:-0500
TZNAME:CDT
DTSTART:20200308T080000
END:DAYLIGHT
BEGIN:STANDARD
TZOFFSETFROM:-0500
TZOFFSETTO:-0600
TZNAME:CST
DTSTART:20201101T070000
END:STANDARD
END:VTIMEZONE
BEGIN:VEVENT
DTSTART:20200518T150000Z
DTEND:20200518T160000Z
DTSTAMP:20260424T111619
CREATED:20200504T185139Z
LAST-MODIFIED:20200504T185139Z
UID:17354-1589796000-1589799600@hdpusergroup.org
SUMMARY:Reliability and Power Cycles Project Telecom
DESCRIPTION:Reliability and Power Cycles Project Telecom 
URL:https://hdpusergroup.org/event/reliability-and-power-cycles-project-telecom/
CATEGORIES:Reliability and Power Cycles
ORGANIZER;CN=HDP:mailto:webmaster@hdpug.org
END:VEVENT
BEGIN:VEVENT
DTSTART:20200519T150000Z
DTEND:20200519T160000Z
DTSTAMP:20260424T111619
CREATED:20200512T025909Z
LAST-MODIFIED:20200512T025909Z
UID:17375-1589882400-1589886000@hdpusergroup.org
SUMMARY:Backdrill Under BGA
DESCRIPTION:Backdrill Under BGA 
URL:https://hdpusergroup.org/event/backdrill-under-bga-3/
CATEGORIES:Backdrill Under BGA
ORGANIZER;CN=HDP:mailto:webmaster@hdpug.org
END:VEVENT
BEGIN:VEVENT
DTSTART:20200519T170000Z
DTEND:20200519T180000Z
DTSTAMP:20260424T111619
CREATED:20200511T145614Z
LAST-MODIFIED:20200511T145614Z
UID:17373-1589889600-1589893200@hdpusergroup.org
SUMMARY:Harsh Use phase 2 idea
DESCRIPTION:Call to discuss dwell time issue on Harsh Use Alloys 
URL:https://hdpusergroup.org/event/harsh-use-phase-2-idea/
CATEGORIES:Staff Calendar
ORGANIZER;CN=HDP:mailto:webmaster@hdpug.org
END:VEVENT
BEGIN:VEVENT
DTSTART:20200520T010000Z
DTEND:20200520T020000Z
DTSTAMP:20260424T111619
CREATED:20200512T053559Z
LAST-MODIFIED:20200512T053559Z
UID:16828-1589918400-1589922000@hdpusergroup.org
SUMMARY:High Speed Hybrid PWB Project Call
DESCRIPTION:High Speed Hybrid PWB Project Call 
URL:https://hdpusergroup.org/event/high-speed-hybrid-pwb-project-call-17/
CATEGORIES:High Speed Hybrid PWB
ORGANIZER;CN=HDP:mailto:webmaster@hdpug.org
END:VEVENT
BEGIN:VEVENT
DTSTART:20200520T130000Z
DTEND:20200520T140000Z
DTSTAMP:20260424T111619
CREATED:20200520T122834Z
LAST-MODIFIED:20200520T122834Z
UID:17416-1589961600-1589965200@hdpusergroup.org
SUMMARY:Logo Call
DESCRIPTION:Martin\, Smitty\, Kim Logo Call 
URL:https://hdpusergroup.org/event/logo-call-8/
CATEGORIES:Staff Calendar
ORGANIZER;CN=HDP:mailto:webmaster@hdpug.org
END:VEVENT
BEGIN:VEVENT
DTSTART:20200520T150000Z
DTEND:20200520T160000Z
DTSTAMP:20260424T111619
CREATED:20200506T152304Z
LAST-MODIFIED:20200506T152304Z
UID:17358-1589968800-1589972400@hdpusergroup.org
SUMMARY:Materials #6 Call
DESCRIPTION:Meeting \n  
URL:https://hdpusergroup.org/event/materials-6-call-3/
CATEGORIES:Lead Free PWB Materials Reliability Phase 6
ORGANIZER;CN=HDP:mailto:webmaster@hdpug.org
END:VEVENT
BEGIN:VEVENT
DTSTART:20200520T160000Z
DTEND:20200520T170000Z
DTSTAMP:20260424T111619
CREATED:20200423T162424Z
LAST-MODIFIED:20200423T162424Z
UID:16964-1589972400-1589976000@hdpusergroup.org
SUMMARY:SAC Aging 3-84 project call
DESCRIPTION:Meeting \n  
URL:https://hdpusergroup.org/event/sac-aging-3-84-project-call-5/
CATEGORIES:SAC Aging 3 84
ORGANIZER;CN=HDP:mailto:webmaster@hdpug.org
END:VEVENT
BEGIN:VEVENT
DTSTART:20200520T200000Z
DTEND:20200520T210000Z
DTSTAMP:20260424T111619
CREATED:20200513T213056Z
LAST-MODIFIED:20200513T213056Z
UID:17393-1589986800-1589990400@hdpusergroup.org
SUMMARY:Photonic Soldering Team Call
DESCRIPTION:Photonic Soldering Weekly Team Call 
URL:https://hdpusergroup.org/event/photonic-soldering-team-call-2/
CATEGORIES:Photonic Soldering
ORGANIZER;CN=HDP:mailto:webmaster@hdpug.org
END:VEVENT
BEGIN:VEVENT
DTSTART:20200521T190000Z
DTEND:20200521T200000Z
DTSTAMP:20260424T111619
CREATED:20200417T130221Z
LAST-MODIFIED:20200417T130221Z
UID:16883-1590069600-1590073200@hdpusergroup.org
SUMMARY:Mini-Power Cycle Call
DESCRIPTION:Project call to discuss test results 
URL:https://hdpusergroup.org/event/mini-power-cycle-call-5/
CATEGORIES:Mini Power Cycles
ORGANIZER;CN=HDP:mailto:webmaster@hdpug.org
END:VEVENT
BEGIN:VEVENT
DTSTART:20200522T000000Z
DTEND:20200522T010000Z
DTSTAMP:20260424T111619
CREATED:20200514T151024Z
LAST-MODIFIED:20200514T151024Z
UID:17397-1590087600-1590091200@hdpusergroup.org
SUMMARY:Lead Frame Surface Finish
DESCRIPTION:Discuss OSAT status and going forward discussion 
URL:https://hdpusergroup.org/event/lead-frame-surface-finish-2/
CATEGORIES:Lead Frame Surface Finish
ORGANIZER;CN=HDP:mailto:webmaster@hdpug.org
END:VEVENT
BEGIN:VEVENT
DTSTART:20200522T170000Z
DTEND:20200522T180000Z
DTSTAMP:20260424T111619
CREATED:20200507T181621Z
LAST-MODIFIED:20200507T181621Z
UID:17361-1590148800-1590152400@hdpusergroup.org
SUMMARY:Ultra Low Dk Glass Analysis Project
DESCRIPTION:Ultra Low Dk Glass Analysis Project 
URL:https://hdpusergroup.org/event/ultra-low-dk-glass-analysis-project/
CATEGORIES:Glass Weave
ORGANIZER;CN=HDP:mailto:webmaster@hdpug.org
END:VEVENT
END:VCALENDAR