BEGIN:VCALENDAR
VERSION:2.0
PRODID:-//HDP User Group - ECPv6.10.1.1//NONSGML v1.0//EN
CALSCALE:GREGORIAN
METHOD:PUBLISH
X-ORIGINAL-URL:https://hdpusergroup.org
X-WR-CALDESC:Events for HDP User Group
REFRESH-INTERVAL;VALUE=DURATION:PT1H
X-Robots-Tag:noindex
X-PUBLISHED-TTL:PT1H
BEGIN:VTIMEZONE
TZID:America/Chicago
BEGIN:DAYLIGHT
TZOFFSETFROM:-0600
TZOFFSETTO:-0500
TZNAME:CDT
DTSTART:20200308T080000
END:DAYLIGHT
BEGIN:STANDARD
TZOFFSETFROM:-0500
TZOFFSETTO:-0600
TZNAME:CST
DTSTART:20201101T070000
END:STANDARD
END:VTIMEZONE
BEGIN:VEVENT
DTSTART:20200428T060000Z
DTEND:20200428T083000Z
DTSTAMP:20260424T112404
CREATED:20200422T120724Z
LAST-MODIFIED:20200422T120724Z
UID:16935-1588035600-1588044600@hdpusergroup.org
SUMMARY:LVH Lifetime Predictor for TC
DESCRIPTION:LVH Lifetime Predictor for TC 
URL:https://hdpusergroup.org/event/lvh-lifetime-predictor-for-tc/
CATEGORIES:LVH Lifetime Predictor for TC
ORGANIZER;CN=HDP:mailto:webmaster@hdpug.org
END:VEVENT
BEGIN:VEVENT
DTSTART:20200428T130000Z
DTEND:20200428T150000Z
DTSTAMP:20260424T112404
CREATED:20200428T145659Z
LAST-MODIFIED:20200428T145659Z
UID:16992-1588060800-1588068000@hdpusergroup.org
SUMMARY:Temporary Staff call USE THIS
DESCRIPTION:Temp to fix whoever canceled 
URL:https://hdpusergroup.org/event/temporary-staff-call-use-this/
CATEGORIES:Staff Calendar
ORGANIZER;CN=HDP:mailto:webmaster@hdpug.org
END:VEVENT
BEGIN:VEVENT
DTSTART:20200429T160000Z
DTEND:20200429T170000Z
DTSTAMP:20260424T112404
CREATED:20200420T230742Z
LAST-MODIFIED:20200420T230742Z
UID:16952-1588158000-1588161600@hdpusergroup.org
SUMMARY:Cu Surface Treatment project meeting of April 29\, 2020
DESCRIPTION:Cu Surface Treatment project meeting of April 29\, 2020 
URL:https://hdpusergroup.org/event/cu-surface-treatment-project-meeting-of-april-29-2020/
LOCATION:WebEx
CATEGORIES:Cu Grain Structure
ORGANIZER;CN=HDP:mailto:webmaster@hdpug.org
END:VEVENT
BEGIN:VEVENT
DTSTART:20200429T170000Z
DTEND:20200429T180000Z
DTSTAMP:20260424T112404
CREATED:20200420T231218Z
LAST-MODIFIED:20200420T231218Z
UID:16954-1588161600-1588165200@hdpusergroup.org
SUMMARY:Low Ag Alloy Solderpaste BGA Leg April 29\, 2020 meeting
DESCRIPTION:Low Ag Alloy Solderpaste BGA Leg April 29\, 2020 meeting 
URL:https://hdpusergroup.org/event/low-ag-alloy-solderpaste-bga-leg-april-29-2020-meeting/
LOCATION:WebEx
CATEGORIES:Low Ag Alloy Solderpaste Reliability – BGA Leg
ORGANIZER;CN=HDP:mailto:webmaster@hdpug.org
END:VEVENT
BEGIN:VEVENT
DTSTART:20200429T180000Z
DTEND:20200429T190000Z
DTSTAMP:20260424T112404
CREATED:20200409T173636Z
LAST-MODIFIED:20200409T173636Z
UID:16818-1588165200-1588168800@hdpusergroup.org
SUMMARY:Glass Type Comparison Project meeting of April 29\, 2020
DESCRIPTION:Glass Type Comparison Project meeting of April 29\, 2020 
URL:https://hdpusergroup.org/event/glass-type-comparison-project-meeting-of-april-29-2020/
LOCATION:WebEx
CATEGORIES:Glass Type Composition
ORGANIZER;CN=HDP:mailto:webmaster@hdpug.org
END:VEVENT
BEGIN:VEVENT
DTSTART:20200430T150000Z
DTEND:20200430T160000Z
DTSTAMP:20260424T112404
CREATED:20200416T153747Z
LAST-MODIFIED:20200416T153747Z
UID:16838-1588240800-1588244400@hdpusergroup.org
SUMMARY:ECM2 Project call
DESCRIPTION:Meeting 
URL:https://hdpusergroup.org/event/ecm2-project-call-9/
CATEGORIES:Electro-Chemical Migration 2
ORGANIZER;CN=HDP:mailto:webmaster@hdpug.org
END:VEVENT
BEGIN:VEVENT
DTSTART:20200430T160000Z
DTEND:20200430T170000Z
DTSTAMP:20260424T112404
CREATED:20200420T231624Z
LAST-MODIFIED:20200420T231624Z
UID:16955-1588244400-1588248000@hdpusergroup.org
SUMMARY:Cu Peel Strength April 30\, 2020 meeting
DESCRIPTION:Cu Peel Strength April 30\, 2020 meeting 
URL:https://hdpusergroup.org/event/cu-peel-strength-april-30-2020-meeting/
CATEGORIES:Cu Properties
ORGANIZER;CN=HDP:mailto:webmaster@hdpug.org
END:VEVENT
BEGIN:VEVENT
DTSTART:20200430T170000Z
DTEND:20200430T180000Z
DTSTAMP:20260424T112404
CREATED:20200420T233219Z
LAST-MODIFIED:20200420T233219Z
UID:16956-1588248000-1588251600@hdpusergroup.org
SUMMARY:VeCS Technology Evaluation April 30\, 2020 meeting
DESCRIPTION:VeCS Technology Evaluation April 30\, 2020 meeting 
URL:https://hdpusergroup.org/event/vecs-technology-evaluation-april-30-2020-meeting/
LOCATION:WebEx
CATEGORIES:VeCS Technology Evaluation
ORGANIZER;CN=HDP:mailto:webmaster@hdpug.org
END:VEVENT
BEGIN:VEVENT
DTSTART:20200501T180000Z
DTEND:20200501T190000Z
DTSTAMP:20260424T112404
CREATED:20200417T190627Z
LAST-MODIFIED:20200417T190627Z
UID:16886-1588338000-1588341600@hdpusergroup.org
SUMMARY:DISC2A
DESCRIPTION:Update on funding. \nExamine compiled results of voting on possible aspects of the project. \nDetermine which go-ahead options can be done with currently avaiable boards/TVs and which can't. \n  
URL:https://hdpusergroup.org/event/disc2a-4/
CATEGORIES:Digital Speckle Correlation (DSC) 2
ORGANIZER;CN=HDP:mailto:webmaster@hdpug.org
END:VEVENT
BEGIN:VEVENT
DTSTART:20200501T200000Z
DTEND:20200501T210000Z
DTSTAMP:20260424T112404
CREATED:20200417T201328Z
LAST-MODIFIED:20200417T201328Z
UID:16888-1588345200-1588348800@hdpusergroup.org
SUMMARY:Board Thickness II
DESCRIPTION:Update on possible board design source 
URL:https://hdpusergroup.org/event/board-thickness-ii-9/
CATEGORIES:Board Thickness Effect on ATC Reliability II
ORGANIZER;CN=HDP:mailto:webmaster@hdpug.org
END:VEVENT
END:VCALENDAR