BEGIN:VCALENDAR
VERSION:2.0
PRODID:-//HDP User Group - ECPv6.10.1.1//NONSGML v1.0//EN
CALSCALE:GREGORIAN
METHOD:PUBLISH
X-ORIGINAL-URL:https://hdpusergroup.org
X-WR-CALDESC:Events for HDP User Group
REFRESH-INTERVAL;VALUE=DURATION:PT1H
X-Robots-Tag:noindex
X-PUBLISHED-TTL:PT1H
BEGIN:VTIMEZONE
TZID:America/Chicago
BEGIN:DAYLIGHT
TZOFFSETFROM:-0600
TZOFFSETTO:-0500
TZNAME:CDT
DTSTART:20200308T080000
END:DAYLIGHT
BEGIN:STANDARD
TZOFFSETFROM:-0500
TZOFFSETTO:-0600
TZNAME:CST
DTSTART:20201101T070000
END:STANDARD
END:VTIMEZONE
BEGIN:VEVENT
DTSTART:20200414T150000Z
DTEND:20200414T160000Z
DTSTAMP:20260424T113128
CREATED:20200323T152841Z
LAST-MODIFIED:20200323T152841Z
UID:16136-1586858400-1586862000@hdpusergroup.org
SUMMARY:CAF Eq
DESCRIPTION:Hopefully updates from all three labs. 
URL:https://hdpusergroup.org/event/caf-eq/
CATEGORIES:Better CAF Acceleration Equation
ORGANIZER;CN=HDP:mailto:webmaster@hdpug.org
END:VEVENT
BEGIN:VEVENT
DTSTART:20200415T010000Z
DTEND:20200415T020000Z
DTSTAMP:20260424T113128
CREATED:20200325T030344Z
LAST-MODIFIED:20200325T030344Z
UID:16289-1586894400-1586898000@hdpusergroup.org
SUMMARY:High Speed Hyrbid PWB Project Call
DESCRIPTION:High Speed Hyrbid PWB Project Call 
URL:https://hdpusergroup.org/event/high-speed-hyrbid-pwb-project-call/
CATEGORIES:High Speed Hybrid PWB
ORGANIZER;CN=HDP:mailto:webmaster@hdpug.org
END:VEVENT
BEGIN:VEVENT
DTSTART:20200415T140000Z
DTEND:20200415T150000Z
DTSTAMP:20260424T113128
CREATED:20200325T151329Z
LAST-MODIFIED:20200325T151329Z
UID:16294-1586941200-1586944800@hdpusergroup.org
SUMMARY:PFH Technology Project Call
DESCRIPTION:PFH Technology Project Call 
URL:https://hdpusergroup.org/event/pfh-technology-project-call-15/
CATEGORIES:PFH Technology
ORGANIZER;CN=HDP:mailto:webmaster@hdpug.org
END:VEVENT
BEGIN:VEVENT
DTSTART:20200415T160000Z
DTEND:20200415T170000Z
DTSTAMP:20260424T113128
CREATED:20200409T173211Z
LAST-MODIFIED:20200409T173211Z
UID:16817-1586948400-1586952000@hdpusergroup.org
SUMMARY:Cu Grain Structure vs Loss project meeting of April 15\, 2020
DESCRIPTION:Cu Grain Structure vs Loss project meeting of April 15\, 2020 
URL:https://hdpusergroup.org/event/cu-grain-structure-vs-loss-project-meeting-of-april-15-2020/
LOCATION:WebEx
CATEGORIES:Cu Grain Structure
ORGANIZER;CN=HDP:mailto:webmaster@hdpug.org
END:VEVENT
BEGIN:VEVENT
DTSTART:20200415T170000Z
DTEND:20200415T180000Z
DTSTAMP:20260424T113128
CREATED:20200330T191637Z
LAST-MODIFIED:20200330T191637Z
UID:16495-1586952000-1586955600@hdpusergroup.org
SUMMARY:Low Ag Alloy Solderpaste project meeting of April 15\, 2020
DESCRIPTION:Low Ag Alloy Solderpaste project meeting of April 15\, 2020 
URL:https://hdpusergroup.org/event/low-ag-alloy-solderpaste-project-meeting-of-april-15-2020/
LOCATION:WebEx
CATEGORIES:Low Ag Alloy Solderpaste Reliability – BGA Leg
ORGANIZER;CN=HDP:mailto:webmaster@hdpug.org
END:VEVENT
BEGIN:VEVENT
DTSTART:20200415T200000Z
DTEND:20200415T210000Z
DTSTAMP:20260424T113128
CREATED:20200409T001341Z
LAST-MODIFIED:20200409T001341Z
UID:16813-1586962800-1586966400@hdpusergroup.org
SUMMARY:Photonic Soldering
DESCRIPTION:Get an update from Rusty.  Continue to work on details of the project. 
URL:https://hdpusergroup.org/event/photonic-soldering-7/
CATEGORIES:Photonic Soldering
ORGANIZER;CN=HDP:mailto:webmaster@hdpug.org
END:VEVENT
BEGIN:VEVENT
DTSTART:20200416T070000Z
DTEND:20200416T080000Z
DTSTAMP:20260424T113128
CREATED:20200318T145109Z
LAST-MODIFIED:20200318T145109Z
UID:15744-1587002400-1587006000@hdpusergroup.org
SUMMARY:Component Rework Reliability Project Call
DESCRIPTION:Component Rework Reliability Project Call 
URL:https://hdpusergroup.org/event/component-rework-reliability-project-call-9/
CATEGORIES:Component Rework Reliability
ORGANIZER;CN=HDP:mailto:webmaster@hdpug.org
END:VEVENT
BEGIN:VEVENT
DTSTART:20200416T150000Z
DTEND:20200416T160000Z
DTSTAMP:20260424T113128
CREATED:20200409T154317Z
LAST-MODIFIED:20200409T154317Z
UID:16815-1587031200-1587034800@hdpusergroup.org
SUMMARY:ECM2 Project call
DESCRIPTION:meeting \n  
URL:https://hdpusergroup.org/event/ecm2-project-call-8/
CATEGORIES:Electro-Chemical Migration 2
ORGANIZER;CN=HDP:mailto:webmaster@hdpug.org
END:VEVENT
BEGIN:VEVENT
DTSTART:20200416T160000Z
DTEND:20200416T170000Z
DTSTAMP:20260424T113128
CREATED:20200409T173949Z
LAST-MODIFIED:20200409T173949Z
UID:16819-1587034800-1587038400@hdpusergroup.org
SUMMARY:Cu Peel Strength project meeting of April 16\, 2020
DESCRIPTION:Cu Peel Strength project meeting of April 16\, 2020 
URL:https://hdpusergroup.org/event/cu-peel-strength-project-meeting-of-april-16-2020/
LOCATION:WebEx
CATEGORIES:Cu Properties
ORGANIZER;CN=HDP:mailto:webmaster@hdpug.org
END:VEVENT
BEGIN:VEVENT
DTSTART:20200416T170000Z
DTEND:20200416T180000Z
DTSTAMP:20260424T113128
CREATED:20200409T174847Z
LAST-MODIFIED:20200409T174847Z
UID:16820-1587038400-1587042000@hdpusergroup.org
SUMMARY:VeCS Technology Evaluation project meeting of April 16\, 2020
DESCRIPTION:VeCS Technology Evaluation project meeting of April 16\, 2020 
URL:https://hdpusergroup.org/event/vecs-technology-evaluation-project-meeting-of-april-16-2020/
LOCATION:WebEx
CATEGORIES:VeCS Technology Evaluation
ORGANIZER;CN=HDP:mailto:webmaster@hdpug.org
END:VEVENT
BEGIN:VEVENT
DTSTART:20200416T190000Z
DTEND:20200416T200000Z
DTSTAMP:20260424T113128
CREATED:20200312T210809Z
LAST-MODIFIED:20200312T210809Z
UID:15981-1587045600-1587049200@hdpusergroup.org
SUMMARY:Mini-Power Cycle Project Call
DESCRIPTION:Review corner heater data. 
URL:https://hdpusergroup.org/event/mini-power-cycle-project-call-10/
CATEGORIES:Mini Power Cycles
ORGANIZER;CN=HDP:mailto:webmaster@hdpug.org
END:VEVENT
BEGIN:VEVENT
DTSTART:20200417T180000Z
DTEND:20200417T190000Z
DTSTAMP:20260424T113128
CREATED:20200403T185125Z
LAST-MODIFIED:20200403T185125Z
UID:16653-1587128400-1587132000@hdpusergroup.org
SUMMARY:DISC2A
DESCRIPTION:Nail down short list of possible topics to tackle in the project.  Hear about progress on grant application. 
URL:https://hdpusergroup.org/event/disc2a-3/
CATEGORIES:Digital Speckle Correlation (DSC) 2
ORGANIZER;CN=HDP:mailto:webmaster@hdpug.org
END:VEVENT
BEGIN:VEVENT
DTSTART:20200417T200000Z
DTEND:20200417T210000Z
DTSTAMP:20260424T113128
CREATED:20200407T113325Z
LAST-MODIFIED:20200407T113325Z
UID:16801-1587135600-1587139200@hdpusergroup.org
SUMMARY:Board Thickness II
DESCRIPTION:Still looking for someone to re-design the board.  If I haven't found anyone by then\, what are our options? 
URL:https://hdpusergroup.org/event/board-thickness-ii-8/
CATEGORIES:Board Thickness Effect on ATC Reliability II
ORGANIZER;CN=HDP:mailto:webmaster@hdpug.org
END:VEVENT
END:VCALENDAR