BEGIN:VCALENDAR
VERSION:2.0
PRODID:-//HDP User Group - ECPv6.10.1.1//NONSGML v1.0//EN
CALSCALE:GREGORIAN
METHOD:PUBLISH
X-ORIGINAL-URL:https://hdpusergroup.org
X-WR-CALDESC:Events for HDP User Group
REFRESH-INTERVAL;VALUE=DURATION:PT1H
X-Robots-Tag:noindex
X-PUBLISHED-TTL:PT1H
BEGIN:VTIMEZONE
TZID:America/Chicago
BEGIN:DAYLIGHT
TZOFFSETFROM:-0600
TZOFFSETTO:-0500
TZNAME:CDT
DTSTART:20200308T080000
END:DAYLIGHT
BEGIN:STANDARD
TZOFFSETFROM:-0500
TZOFFSETTO:-0600
TZNAME:CST
DTSTART:20201101T070000
END:STANDARD
END:VTIMEZONE
BEGIN:VEVENT
DTSTART:20200331T170000Z
DTEND:20200331T180000Z
DTSTAMP:20260424T113218
CREATED:20200320T174313Z
LAST-MODIFIED:20200320T174313Z
UID:16044-1585656000-1585659600@hdpusergroup.org
SUMMARY:Harsh Use Alloy Call
DESCRIPTION:Review of final report 
URL:https://hdpusergroup.org/event/harsh-use-alloy-call-7/
CATEGORIES:Harsh Use Environment Alloy Evaluation
ORGANIZER;CN=HDP:mailto:webmaster@hdpug.org
END:VEVENT
BEGIN:VEVENT
DTSTART:20200401T160000Z
DTEND:20200401T170000Z
DTSTAMP:20260424T113218
CREATED:20200330T200459Z
LAST-MODIFIED:20200330T200459Z
UID:16494-1585738800-1585742400@hdpusergroup.org
SUMMARY:Cu Grain Structure vs Loss Project Meeting
DESCRIPTION:Cu Grain Structure vs Loss Project Meeting of April 1\, 2020 
URL:https://hdpusergroup.org/event/cu-grain-structure-vs-loss-project-meeting-3/
LOCATION:WebEx
CATEGORIES:Cu Grain Structure
ORGANIZER;CN=HDP:mailto:webmaster@hdpug.org
END:VEVENT
BEGIN:VEVENT
DTSTART:20200401T180000Z
DTEND:20200401T190000Z
DTSTAMP:20260424T113218
CREATED:20200303T205120Z
LAST-MODIFIED:20200303T205120Z
UID:15889-1585746000-1585749600@hdpusergroup.org
SUMMARY:Glass Type Comparison project meeting on April 1\, 2020
DESCRIPTION:Glass Type Comparison project meeting on April 1\, 2020 
URL:https://hdpusergroup.org/event/glass-type-comparison-project-meeting-on-april-1-2020/
LOCATION:WebEx
CATEGORIES:Glass Type Composition
ORGANIZER;CN=HDP:mailto:webmaster@hdpug.org
END:VEVENT
BEGIN:VEVENT
DTSTART:20200401T200000Z
DTEND:20200401T210000Z
DTSTAMP:20260424T113218
CREATED:20200326T001006Z
LAST-MODIFIED:20200326T001006Z
UID:16417-1585753200-1585756800@hdpusergroup.org
SUMMARY:Photonic Soldering
DESCRIPTION:Continue scoping out the project 
URL:https://hdpusergroup.org/event/photonic-soldering-5/
CATEGORIES:Photonic Soldering
ORGANIZER;CN=HDP:mailto:webmaster@hdpug.org
END:VEVENT
BEGIN:VEVENT
DTSTART:20200402T150000Z
DTEND:20200402T160000Z
DTSTAMP:20260424T113218
CREATED:20200319T002812Z
LAST-MODIFIED:20200319T002812Z
UID:16014-1585821600-1585825200@hdpusergroup.org
SUMMARY:Reliability and Power Cycles kickoff telecom
DESCRIPTION:Reliability and Power Cycles Kickoff telecom 
URL:https://hdpusergroup.org/event/reliability-and-power-cycles-kickoff-telecom/
CATEGORIES:Reliability and Power Cycles
ORGANIZER;CN=HDP:mailto:webmaster@hdpug.org
END:VEVENT
BEGIN:VEVENT
DTSTART:20200402T160000Z
DTEND:20200402T170000Z
DTSTAMP:20260424T113218
CREATED:20200330T192123Z
LAST-MODIFIED:20200330T192123Z
UID:16496-1585825200-1585828800@hdpusergroup.org
SUMMARY:Cu Peel Strength project meeting of April 2\, 2020
DESCRIPTION:Cu Peel Strength project meeting of April 2\, 2020 
URL:https://hdpusergroup.org/event/cu-peel-strength-project-meeting-of-april-2-2020/
LOCATION:WebEx
CATEGORIES:Cu Properties
ORGANIZER;CN=HDP:mailto:webmaster@hdpug.org
END:VEVENT
BEGIN:VEVENT
DTSTART:20200402T180000Z
DTEND:20200402T190000Z
DTSTAMP:20260424T113218
CREATED:20200331T192415Z
LAST-MODIFIED:20200331T192415Z
UID:16505-1585832400-1585836000@hdpusergroup.org
SUMMARY:i3 Call to review project work
DESCRIPTION:Call to discuss HDP project work at i3 
URL:https://hdpusergroup.org/event/i3-call-to-review-project-work/
CATEGORIES:Staff Calendar
ORGANIZER;CN=HDP:mailto:webmaster@hdpug.org
END:VEVENT
BEGIN:VEVENT
DTSTART:20200403T010000Z
DTEND:20200403T020000Z
DTSTAMP:20260424T113218
CREATED:20200320T173935Z
LAST-MODIFIED:20200320T173935Z
UID:16043-1585857600-1585861200@hdpusergroup.org
SUMMARY:Reliability of Wettable Flank QFN project call
DESCRIPTION:Discuss i3 progress 
URL:https://hdpusergroup.org/event/reliability-of-wettable-flank-qfn-project-call/
CATEGORIES:Reliability of Wettable Flank in Routable QFN for Automotive
ORGANIZER;CN=HDP:mailto:webmaster@hdpug.org
END:VEVENT
BEGIN:VEVENT
DTSTART:20200403T130000Z
DTEND:20200403T140000Z
DTSTAMP:20260424T113218
CREATED:20200402T131957Z
LAST-MODIFIED:20200402T131957Z
UID:16601-1585900800-1585904400@hdpusergroup.org
SUMMARY:Logo Call
DESCRIPTION:Logo Call - Martin\, Smitty\, Larry\, Kim 
URL:https://hdpusergroup.org/event/logo-call-4/
CATEGORIES:Staff Calendar
ORGANIZER;CN=HDP:mailto:webmaster@hdpug.org
END:VEVENT
BEGIN:VEVENT
DTSTART:20200403T150000Z
DTEND:20200403T160000Z
DTSTAMP:20260424T113218
CREATED:20200326T160938Z
LAST-MODIFIED:20200326T160938Z
UID:16424-1585908000-1585911600@hdpusergroup.org
SUMMARY:ECM2 project call
DESCRIPTION:Meeting \n  
URL:https://hdpusergroup.org/event/ecm2-project-call-6/
CATEGORIES:Electro-Chemical Migration 2
ORGANIZER;CN=HDP:mailto:webmaster@hdpug.org
END:VEVENT
BEGIN:VEVENT
DTSTART:20200403T180000Z
DTEND:20200403T190000Z
DTSTAMP:20260424T113218
CREATED:20200324T202046Z
LAST-MODIFIED:20200324T202046Z
UID:16230-1585918800-1585922400@hdpusergroup.org
SUMMARY:DISC2A
DESCRIPTION:Continue to work on what it is we want to do. 
URL:https://hdpusergroup.org/event/disc2a-2/
CATEGORIES:Digital Speckle Correlation (DSC) 2
ORGANIZER;CN=HDP:mailto:webmaster@hdpug.org
END:VEVENT
END:VCALENDAR